BEGIN:VCALENDAR
VERSION:2.0
PRODID:-//吉隆坡中华独立中学资源中心 - ECPv6.5.1.6//NONSGML v1.0//EN
CALSCALE:GREGORIAN
METHOD:PUBLISH
X-ORIGINAL-URL:https://www.chonghwakl.edu.my/library
X-WR-CALDESC:Events for 吉隆坡中华独立中学资源中心
REFRESH-INTERVAL;VALUE=DURATION:PT1H
X-Robots-Tag:noindex
X-PUBLISHED-TTL:PT1H
BEGIN:VTIMEZONE
TZID:Asia/Shanghai
BEGIN:STANDARD
TZOFFSETFROM:+0800
TZOFFSETTO:+0800
TZNAME:CST
DTSTART:20240101T000000
END:STANDARD
END:VTIMEZONE
BEGIN:VEVENT
DTSTART;TZID=Asia/Shanghai:20241005T093000
DTEND;TZID=Asia/Shanghai:20241005T143000
DTSTAMP:20260421T174706
CREATED:20241004T054130Z
LAST-MODIFIED:20241004T054130Z
UID:12601-1728120600-1728138600@www.chonghwakl.edu.my
SUMMARY:综合厅 - 华文组
DESCRIPTION:申请单位：华文组\n申请原因：\n使用者：华文组老师
URL:https://www.chonghwakl.edu.my/library/event/%e7%bb%bc%e5%90%88%e5%8e%85-%e5%8d%8e%e6%96%87%e7%bb%84-2/
LOCATION:综合厅
END:VEVENT
BEGIN:VEVENT
DTSTART;TZID=Asia/Shanghai:20241011T100000
DTEND;TZID=Asia/Shanghai:20241011T120000
DTSTAMP:20260421T174706
CREATED:20241011T020711Z
LAST-MODIFIED:20241011T020711Z
UID:12603-1728640800-1728648000@www.chonghwakl.edu.my
SUMMARY:讨论室 1 - 林艾嘉老师
DESCRIPTION:申请单位：数学组\n申请原因：学生问问题\n使用者：林艾嘉老师
URL:https://www.chonghwakl.edu.my/library/event/%e8%ae%a8%e8%ae%ba%e5%ae%a4-1-%e6%9e%97%e8%89%be%e5%98%89%e8%80%81%e5%b8%88-2/
LOCATION:讨论室 1
END:VEVENT
BEGIN:VEVENT
DTSTART;TZID=Asia/Shanghai:20241011T123000
DTEND;TZID=Asia/Shanghai:20241011T140000
DTSTAMP:20260421T174706
CREATED:20241011T043334Z
LAST-MODIFIED:20241011T044453Z
UID:12605-1728649800-1728655200@www.chonghwakl.edu.my
SUMMARY:讨论室 3 - 黄诗晴老师
DESCRIPTION:申请单位：商科\n申请原因：补课 （高二文商仁）\n使用者：黄诗晴老师
URL:https://www.chonghwakl.edu.my/library/event/%e8%ae%a8%e8%ae%ba%e5%ae%a4-3-%e9%bb%84%e8%af%97%e6%99%b4%e8%80%81%e5%b8%88/
LOCATION:讨论室 3
END:VEVENT
BEGIN:VEVENT
DTSTART;TZID=Asia/Shanghai:20241019T080000
DTEND;TZID=Asia/Shanghai:20241019T123000
DTSTAMP:20260421T174706
CREATED:20241015T010008Z
LAST-MODIFIED:20241015T010008Z
UID:12610-1729324800-1729341000@www.chonghwakl.edu.my
SUMMARY:综合厅 - 6 位老师
DESCRIPTION:申请单位：教职研修处\n申请原因：硕士线上课程\n使用者：6 位老师
URL:https://www.chonghwakl.edu.my/library/event/%e7%bb%bc%e5%90%88%e5%8e%85-6-%e4%bd%8d%e8%80%81%e5%b8%88/
LOCATION:综合厅
END:VEVENT
BEGIN:VEVENT
DTSTART;TZID=Asia/Shanghai:20241028T010000
DTEND;TZID=Asia/Shanghai:20241028T140000
DTSTAMP:20260421T174706
CREATED:20241028T053515Z
LAST-MODIFIED:20241029T004021Z
UID:12659-1730077200-1730124000@www.chonghwakl.edu.my
SUMMARY:讨论室2-邹雁慧老师
DESCRIPTION:
URL:https://www.chonghwakl.edu.my/library/event/%e8%ae%a8%e8%ae%ba%e5%ae%a42-%e9%82%b9%e9%9b%81%e6%85%a7%e8%80%81%e5%b8%88/
END:VEVENT
BEGIN:VEVENT
DTSTART;TZID=Asia/Shanghai:20241029T080000
DTEND;TZID=Asia/Shanghai:20241029T100000
DTSTAMP:20260421T174706
CREATED:20241028T235852Z
LAST-MODIFIED:20241028T235953Z
UID:12667-1730188800-1730196000@www.chonghwakl.edu.my
SUMMARY:讨论室 3 - 陈宝宝老师
DESCRIPTION:申请单位：化学组\n申请原因：补课（4S孝）\n使用者：陈宝宝老师
URL:https://www.chonghwakl.edu.my/library/event/%e8%ae%a8%e8%ae%ba%e5%ae%a4-3/
LOCATION:讨论室 3
END:VEVENT
BEGIN:VEVENT
DTSTART;TZID=Asia/Shanghai:20241029T080000
DTEND;TZID=Asia/Shanghai:20241029T140000
DTSTAMP:20260421T174706
CREATED:20241028T235316Z
LAST-MODIFIED:20241029T000020Z
UID:12665-1730188800-1730210400@www.chonghwakl.edu.my
SUMMARY:讨论室 2 - 邹雁慧老师
DESCRIPTION:申请单位：地理科\n申请原因：帮助学生复习统考\n使用者：邹雁慧老师
URL:https://www.chonghwakl.edu.my/library/event/%e8%ae%a8%e8%ae%ba%e5%ae%a4-2-%e9%82%b9%e9%9b%81%e6%85%a7%e8%80%81%e5%b8%88/
LOCATION:讨论室 2
END:VEVENT
END:VCALENDAR