BEGIN:VCALENDAR
VERSION:2.0
PRODID:-//吉隆坡中华独立中学资源中心 - ECPv6.5.1.6//NONSGML v1.0//EN
CALSCALE:GREGORIAN
METHOD:PUBLISH
X-ORIGINAL-URL:https://www.chonghwakl.edu.my/library
X-WR-CALDESC:Events for 吉隆坡中华独立中学资源中心
REFRESH-INTERVAL;VALUE=DURATION:PT1H
X-Robots-Tag:noindex
X-PUBLISHED-TTL:PT1H
BEGIN:VTIMEZONE
TZID:Asia/Shanghai
BEGIN:STANDARD
TZOFFSETFROM:+0800
TZOFFSETTO:+0800
TZNAME:CST
DTSTART:20240101T000000
END:STANDARD
END:VTIMEZONE
BEGIN:VEVENT
DTSTART;TZID=Asia/Shanghai:20240713T080000
DTEND;TZID=Asia/Shanghai:20240713T130000
DTSTAMP:20260421T215608
CREATED:20240620T051750Z
LAST-MODIFIED:20240620T060821Z
UID:11627-1720857600-1720875600@www.chonghwakl.edu.my
SUMMARY:综合厅 - 岑雁如老师
DESCRIPTION:申请单位：岑雁如老师\n申请原因：阅读课\n使用者：师生
URL:https://www.chonghwakl.edu.my/library/event/%e7%bb%bc%e5%90%88%e5%8e%85-%e6%95%99%e8%81%8c%e7%a0%94%e4%bf%ae%e5%a4%84-2/
LOCATION:综合厅
END:VEVENT
BEGIN:VEVENT
DTSTART;TZID=Asia/Shanghai:20240718T153000
DTEND;TZID=Asia/Shanghai:20240718T165000
DTSTAMP:20260421T215608
CREATED:20240715T233804Z
LAST-MODIFIED:20240715T233804Z
UID:11971-1721316600-1721321400@www.chonghwakl.edu.my
SUMMARY:综合厅 - 图书馆学会
DESCRIPTION:申请单位：图书馆学会主席团\n申请原因：图书馆学会主席团遴选\n使用者：9 人 (refer 学号 190029 张熠恩)
URL:https://www.chonghwakl.edu.my/library/event/%e7%bb%bc%e5%90%88%e5%8e%85-%e5%9b%be%e4%b9%a6%e9%a6%86%e5%ad%a6%e4%bc%9a-10/
LOCATION:综合厅
END:VEVENT
END:VCALENDAR