BEGIN:VCALENDAR
VERSION:2.0
PRODID:-//吉隆坡中华独立中学资源中心 - ECPv6.5.1.6//NONSGML v1.0//EN
CALSCALE:GREGORIAN
METHOD:PUBLISH
X-ORIGINAL-URL:https://www.chonghwakl.edu.my/library
X-WR-CALDESC:Events for 吉隆坡中华独立中学资源中心
REFRESH-INTERVAL;VALUE=DURATION:PT1H
X-Robots-Tag:noindex
X-PUBLISHED-TTL:PT1H
BEGIN:VTIMEZONE
TZID:Asia/Shanghai
BEGIN:STANDARD
TZOFFSETFROM:+0800
TZOFFSETTO:+0800
TZNAME:CST
DTSTART:20240101T000000
END:STANDARD
END:VTIMEZONE
BEGIN:VEVENT
DTSTART;TZID=Asia/Shanghai:20240612T083000
DTEND;TZID=Asia/Shanghai:20240612T095000
DTSTAMP:20260421T230956
CREATED:20240611T041646Z
LAST-MODIFIED:20240611T041812Z
UID:11568-1718181000-1718185800@www.chonghwakl.edu.my
SUMMARY:讨论室 2 - 林凯丽老师
DESCRIPTION:申请单位：电脑科\n申请原因：进行采访录音(访问，Education Management)\n使用者：林凯丽老师
URL:https://www.chonghwakl.edu.my/library/event/%e8%ae%a8%e8%ae%ba%e5%ae%a4-2-%e6%9e%97%e5%87%af%e4%b8%bd%e8%80%81%e5%b8%88-2/
LOCATION:讨论室 2
END:VEVENT
BEGIN:VEVENT
DTSTART;TZID=Asia/Shanghai:20240622T075000
DTEND;TZID=Asia/Shanghai:20240622T083000
DTSTAMP:20260421T230956
CREATED:20240620T022153Z
LAST-MODIFIED:20240620T022649Z
UID:11618-1719042600-1719045000@www.chonghwakl.edu.my
SUMMARY:综合厅 - 曹洁莹老师
DESCRIPTION:申请单位：阅读课\n申请原因：阅读课：第1节 (初二勤)\n使用者：曹洁莹老师
URL:https://www.chonghwakl.edu.my/library/event/%e7%bb%bc%e5%90%88%e5%8e%85-%e6%9b%b9%e6%b4%81%e8%8e%b9%e8%80%81%e5%b8%88-3/
LOCATION:综合厅
END:VEVENT
BEGIN:VEVENT
DTSTART;TZID=Asia/Shanghai:20240622T105500
DTEND;TZID=Asia/Shanghai:20240622T125500
DTSTAMP:20260421T230956
CREATED:20240620T022300Z
LAST-MODIFIED:20240620T022448Z
UID:11620-1719053700-1719060900@www.chonghwakl.edu.my
SUMMARY:综合厅 - 曹洁莹老师
DESCRIPTION:申请单位：初二跨领域\n申请原因：初二跨领域：第5节～第7节(40人)\n使用者：曹洁莹老师
URL:https://www.chonghwakl.edu.my/library/event/%e7%bb%bc%e5%90%88%e5%8e%85-%e6%9b%b9%e6%b4%81%e8%8e%b9%e8%80%81%e5%b8%88-4/
LOCATION:综合厅
END:VEVENT
BEGIN:VEVENT
DTSTART;TZID=Asia/Shanghai:20240624T080000
DTEND;TZID=Asia/Shanghai:20240624T150000
DTSTAMP:20260421T230956
CREATED:20240624T012929Z
LAST-MODIFIED:20240624T021446Z
UID:11634-1719216000-1719241200@www.chonghwakl.edu.my
SUMMARY:综合厅 - Crystal Kong 江思莹老师
DESCRIPTION:申请单位：Dept of English Studies\n申请原因：HELP University Staff\n使用者：HELP University Staff
URL:https://www.chonghwakl.edu.my/library/event/%e7%bb%bc%e5%90%88%e5%8e%85-ms-crystal-kong/
LOCATION:综合厅
END:VEVENT
BEGIN:VEVENT
DTSTART;TZID=Asia/Shanghai:20240629T080000
DTEND;TZID=Asia/Shanghai:20240629T130000
DTSTAMP:20260421T230956
CREATED:20240620T051645Z
LAST-MODIFIED:20240620T051851Z
UID:11625-1719648000-1719666000@www.chonghwakl.edu.my
SUMMARY:综合厅 - 教职研修处
DESCRIPTION:申请单位：教职研修处\n申请原因：教育学硕士学位课程\n使用者：7位老师
URL:https://www.chonghwakl.edu.my/library/event/%e7%bb%bc%e5%90%88%e5%8e%85-%e6%95%99%e8%81%8c%e7%a0%94%e4%bf%ae%e5%a4%84/
LOCATION:综合厅
END:VEVENT
END:VCALENDAR