BEGIN:VCALENDAR
VERSION:2.0
PRODID:-//吉隆坡中华独立中学资源中心 - ECPv6.5.1.6//NONSGML v1.0//EN
CALSCALE:GREGORIAN
METHOD:PUBLISH
X-WR-CALNAME:吉隆坡中华独立中学资源中心
X-ORIGINAL-URL:https://www.chonghwakl.edu.my/library
X-WR-CALDESC:Events for 吉隆坡中华独立中学资源中心
REFRESH-INTERVAL;VALUE=DURATION:PT1H
X-Robots-Tag:noindex
X-PUBLISHED-TTL:PT1H
BEGIN:VTIMEZONE
TZID:Asia/Shanghai
BEGIN:STANDARD
TZOFFSETFROM:+0800
TZOFFSETTO:+0800
TZNAME:CST
DTSTART:20240101T000000
END:STANDARD
END:VTIMEZONE
BEGIN:VEVENT
DTSTART;TZID=Asia/Shanghai:20240406T083000
DTEND;TZID=Asia/Shanghai:20240406T123000
DTSTAMP:20260422T015503
CREATED:20240330T043333Z
LAST-MODIFIED:20240330T043333Z
UID:10961-1712392200-1712406600@www.chonghwakl.edu.my
SUMMARY:讨论室 2 - 唐莱温老师
DESCRIPTION:申请单位：历史\n申请原因：线上讲座培训\n使用者：唐莱温老师
URL:https://www.chonghwakl.edu.my/library/event/%e8%ae%a8%e8%ae%ba%e5%ae%a4-2-%e5%94%90%e8%8e%b1%e6%b8%a9%e8%80%81%e5%b8%88-2/
LOCATION:讨论室 2
END:VEVENT
BEGIN:VEVENT
DTSTART;TZID=Asia/Shanghai:20240406T084500
DTEND;TZID=Asia/Shanghai:20240406T123000
DTSTAMP:20260422T015503
CREATED:20240330T043700Z
LAST-MODIFIED:20240330T043700Z
UID:10963-1712393100-1712406600@www.chonghwakl.edu.my
SUMMARY:讨论室 1 - 林嫒婷老师
DESCRIPTION:申请单位：历史\n申请原因：线上讲座培训 (董总举办)\n使用者：林嫒婷老师
URL:https://www.chonghwakl.edu.my/library/event/%e8%ae%a8%e8%ae%ba%e5%ae%a4-1-%e6%9e%97%e5%ab%92%e5%a9%b7%e8%80%81%e5%b8%88/
LOCATION:讨论室 1
END:VEVENT
BEGIN:VEVENT
DTSTART;TZID=Asia/Shanghai:20240413T100000
DTEND;TZID=Asia/Shanghai:20240413T120000
DTSTAMP:20260422T015503
CREATED:20240412T041318Z
LAST-MODIFIED:20240412T041318Z
UID:11106-1713002400-1713009600@www.chonghwakl.edu.my
SUMMARY:讨论室 2 -庄宝英老师 与3位学生
DESCRIPTION:申请单位：全球中学生专题探究竞赛\n申请原因：查询年刊，整理专题资料\n使用者：庄宝英老师 与3位学生
URL:https://www.chonghwakl.edu.my/library/event/%e8%ae%a8%e8%ae%ba%e5%ae%a4-2-%e5%ba%84%e5%ae%9d%e8%8b%b1%e8%80%81%e5%b8%88-%e4%b8%8e3%e4%bd%8d%e5%ad%a6%e7%94%9f/
LOCATION:讨论室 2
END:VEVENT
BEGIN:VEVENT
DTSTART;TZID=Asia/Shanghai:20240420T083000
DTEND;TZID=Asia/Shanghai:20240420T123000
DTSTAMP:20260422T015503
CREATED:20240406T064801Z
LAST-MODIFIED:20240406T064801Z
UID:11102-1713601800-1713616200@www.chonghwakl.edu.my
SUMMARY:讨论室 2 - 唐莱温老师
DESCRIPTION:申请单位：历史\n申请原因：线上讲座培训\n使用者：唐莱温老师
URL:https://www.chonghwakl.edu.my/library/event/%e8%ae%a8%e8%ae%ba%e5%ae%a4-2-%e5%94%90%e8%8e%b1%e6%b8%a9%e8%80%81%e5%b8%88-3/
LOCATION:讨论室 2
END:VEVENT
BEGIN:VEVENT
DTSTART;TZID=Asia/Shanghai:20240420T084500
DTEND;TZID=Asia/Shanghai:20240420T123000
DTSTAMP:20260422T015503
CREATED:20240406T064628Z
LAST-MODIFIED:20240406T064628Z
UID:11100-1713602700-1713616200@www.chonghwakl.edu.my
SUMMARY:讨论室 3 - 林嫒婷老师
DESCRIPTION:申请单位：历史\n申请原因：线上讲座培训 (董总举办)\n使用者：林嫒婷老师
URL:https://www.chonghwakl.edu.my/library/event/%e8%ae%a8%e8%ae%ba%e5%ae%a4-3-%e6%9e%97%e5%ab%92%e5%a9%b7%e8%80%81%e5%b8%88/
LOCATION:讨论室 3
END:VEVENT
BEGIN:VEVENT
DTSTART;TZID=Asia/Shanghai:20240424T033000
DTEND;TZID=Asia/Shanghai:20240424T164000
DTSTAMP:20260422T015503
CREATED:20240406T065458Z
LAST-MODIFIED:20240406T065458Z
UID:11104-1713929400-1713976800@www.chonghwakl.edu.my
SUMMARY:综合厅 - 图书馆学会
DESCRIPTION:申请单位：图书馆学会 ，(申请者：张熠恩 190029 高三理 忠）\n申请原因：进行读书会 (学会活动)\n使用者：图书馆管理员 全馆学会会员 共60人
URL:https://www.chonghwakl.edu.my/library/event/%e7%bb%bc%e5%90%88%e5%8e%85-%e5%9b%be%e4%b9%a6%e9%a6%86%e5%ad%a6%e4%bc%9a-9/
LOCATION:综合厅
END:VEVENT
BEGIN:VEVENT
DTSTART;TZID=Asia/Shanghai:20240425T032000
DTEND;TZID=Asia/Shanghai:20240425T160000
DTSTAMP:20260422T015503
CREATED:20240425T014951Z
LAST-MODIFIED:20240425T014951Z
UID:11193-1714015200-1714060800@www.chonghwakl.edu.my
SUMMARY:讨论室 2 - Nurul Dalina 老师
DESCRIPTION:申请单位：Pendidikan Islam\n申请原因：上课\n使用者：Nurul Dalina 老师 和学生（学号200699阿丽雅ALYA IZZATY）
URL:https://www.chonghwakl.edu.my/library/event/%e8%ae%a8%e8%ae%ba%e5%ae%a4-2-nurul-dalina-%e8%80%81%e5%b8%88/
LOCATION:讨论室 2
END:VEVENT
END:VCALENDAR