BEGIN:VCALENDAR
VERSION:2.0
PRODID:-//吉隆坡中华独立中学资源中心 - ECPv6.5.1.6//NONSGML v1.0//EN
CALSCALE:GREGORIAN
METHOD:PUBLISH
X-WR-CALNAME:吉隆坡中华独立中学资源中心
X-ORIGINAL-URL:https://www.chonghwakl.edu.my/library
X-WR-CALDESC:Events for 吉隆坡中华独立中学资源中心
REFRESH-INTERVAL;VALUE=DURATION:PT1H
X-Robots-Tag:noindex
X-PUBLISHED-TTL:PT1H
BEGIN:VTIMEZONE
TZID:Asia/Shanghai
BEGIN:STANDARD
TZOFFSETFROM:+0800
TZOFFSETTO:+0800
TZNAME:CST
DTSTART:20240101T000000
END:STANDARD
END:VTIMEZONE
BEGIN:VEVENT
DTSTART;TZID=Asia/Shanghai:20240102T105500
DTEND;TZID=Asia/Shanghai:20240102T121500
DTSTAMP:20260422T062038
CREATED:20231214T060330Z
LAST-MODIFIED:20231214T060959Z
UID:10380-1704192900-1704197700@www.chonghwakl.edu.my
SUMMARY:综合厅 - 邹慧芳老师 + 学生
DESCRIPTION:申请单位：华文组\n申请原因：带学生学习书法、文化，借文字墙给他们多一些这方面的素养。\n使用者：邹慧芳老师 + 学生
URL:https://www.chonghwakl.edu.my/library/event/%e7%bb%bc%e5%90%88%e5%8e%85-%e9%82%b9%e6%85%a7%e8%8a%b3%e8%80%81%e5%b8%88-%e5%ad%a6%e7%94%9f-4/
LOCATION:综合厅
END:VEVENT
BEGIN:VEVENT
DTSTART;TZID=Asia/Shanghai:20240102T144000
DTEND;TZID=Asia/Shanghai:20240102T161500
DTSTAMP:20260422T062038
CREATED:20240102T044700Z
LAST-MODIFIED:20240102T044700Z
UID:10453-1704206400-1704212100@www.chonghwakl.edu.my
SUMMARY:讨论室 3 - 张颖德老师
DESCRIPTION:申请单位：历史组\n申请原因：线上课程 (硕士)\n使用者：张颖德老师
URL:https://www.chonghwakl.edu.my/library/event/%e8%ae%a8%e8%ae%ba%e5%ae%a4-3-%e5%bc%a0%e9%a2%96%e5%be%b7%e8%80%81%e5%b8%88/
LOCATION:讨论室 3
END:VEVENT
BEGIN:VEVENT
DTSTART;TZID=Asia/Shanghai:20240113T080000
DTEND;TZID=Asia/Shanghai:20240113T090000
DTSTAMP:20260422T062038
CREATED:20240105T014322Z
LAST-MODIFIED:20240105T014322Z
UID:10527-1705132800-1705136400@www.chonghwakl.edu.my
SUMMARY:综合厅 - 《小王子》读书会
DESCRIPTION:《小王子》读书会\n导读者：曹洁莹老师
URL:https://www.chonghwakl.edu.my/library/event/%e7%bb%bc%e5%90%88%e5%8e%85-%e3%80%8a%e5%b0%8f%e7%8e%8b%e5%ad%90%e3%80%8b%e8%af%bb%e4%b9%a6%e4%bc%9a/
LOCATION:综合厅
END:VEVENT
BEGIN:VEVENT
DTSTART;TZID=Asia/Shanghai:20240116T081500
DTEND;TZID=Asia/Shanghai:20240116T084500
DTSTAMP:20260422T062038
CREATED:20240116T002204Z
LAST-MODIFIED:20240116T002204Z
UID:10547-1705392900-1705394700@www.chonghwakl.edu.my
SUMMARY:讨论室 1 - 罗恩惠老师
DESCRIPTION:申请单位：华文组\n申请原因：上网课\n使用者：罗恩惠老师
URL:https://www.chonghwakl.edu.my/library/event/%e8%ae%a8%e8%ae%ba%e5%ae%a4-1-%e7%bd%97%e6%81%a9%e6%83%a0%e8%80%81%e5%b8%88/
LOCATION:讨论室 1
END:VEVENT
BEGIN:VEVENT
DTSTART;TZID=Asia/Shanghai:20240116T125500
DTEND;TZID=Asia/Shanghai:20240116T140000
DTSTAMP:20260422T062038
CREATED:20240115T054513Z
LAST-MODIFIED:20240115T054513Z
UID:10545-1705409700-1705413600@www.chonghwakl.edu.my
SUMMARY:综合厅 - 庄宝英老师 +9位老师
DESCRIPTION:申请单位：高一理忠\n申请原因：班游交代事情 (希望之谷)\n使用者：庄宝英老师 与9位老师
URL:https://www.chonghwakl.edu.my/library/event/%e7%bb%bc%e5%90%88%e5%8e%85-%e5%ba%84%e5%ae%9d%e8%8b%b1%e8%80%81%e5%b8%88-9%e4%bd%8d%e8%80%81%e5%b8%88/
LOCATION:综合厅
END:VEVENT
BEGIN:VEVENT
DTSTART;TZID=Asia/Shanghai:20240117T075000
DTEND;TZID=Asia/Shanghai:20240117T100000
DTSTAMP:20260422T062038
CREATED:20240112T012813Z
LAST-MODIFIED:20240113T041250Z
UID:10540-1705477800-1705485600@www.chonghwakl.edu.my
SUMMARY:综合厅 - 曹洁莹老师
DESCRIPTION:申请单位：4S孝\n申请原因：导读\n导读者：曹洁莹老师
URL:https://www.chonghwakl.edu.my/library/event/%e7%bb%bc%e5%90%88%e5%8e%85-%e6%9b%b9%e6%b4%81%e8%8e%b9%e8%80%81%e5%b8%88/
LOCATION:综合厅
END:VEVENT
BEGIN:VEVENT
DTSTART;TZID=Asia/Shanghai:20240117T094600
DTEND;TZID=Asia/Shanghai:20240117T120000
DTSTAMP:20260422T062038
CREATED:20240117T022042Z
LAST-MODIFIED:20240117T022042Z
UID:10551-1705484760-1705492800@www.chonghwakl.edu.my
SUMMARY:讨论室 3 - 江思莹老师
DESCRIPTION:申请单位：英文组\n申请原因：Management Meeting\n使用者：江思莹 Kong Shi Yin(CRYSTAL)老师
URL:https://www.chonghwakl.edu.my/library/event/%e8%ae%a8%e8%ae%ba%e5%ae%a4-3-%e6%b1%9f%e6%80%9d%e8%8e%b9%e8%80%81%e5%b8%88/
LOCATION:讨论室 3
END:VEVENT
BEGIN:VEVENT
DTSTART;TZID=Asia/Shanghai:20240118T101500
DTEND;TZID=Asia/Shanghai:20240118T113500
DTSTAMP:20260422T062038
CREATED:20240116T005405Z
LAST-MODIFIED:20240116T005405Z
UID:10549-1705572900-1705577700@www.chonghwakl.edu.my
SUMMARY:综合厅 - 谢宇恒老师 + 13位老师
DESCRIPTION:申请单位：华文组\n申请原因：讨论 UASA 试卷\n使用者：谢宇恒老师 + 13位老师
URL:https://www.chonghwakl.edu.my/library/event/%e7%bb%bc%e5%90%88%e5%8e%85-%e8%b0%a2%e5%ae%87%e6%81%92%e8%80%81%e5%b8%88-13%e4%bd%8d%e8%80%81%e5%b8%88/
LOCATION:综合厅
END:VEVENT
BEGIN:VEVENT
DTSTART;TZID=Asia/Shanghai:20240123T113000
DTEND;TZID=Asia/Shanghai:20240123T125000
DTSTAMP:20260422T062038
CREATED:20240117T063528Z
LAST-MODIFIED:20240117T063528Z
UID:10553-1706009400-1706014200@www.chonghwakl.edu.my
SUMMARY:综合厅 - 曹洁莹老师
DESCRIPTION:申请单位：4C忠\n申请原因：导读\n导读者：曹洁莹老师
URL:https://www.chonghwakl.edu.my/library/event/%e7%bb%bc%e5%90%88%e5%8e%85-%e6%9b%b9%e6%b4%81%e8%8e%b9%e8%80%81%e5%b8%88-2/
LOCATION:综合厅
END:VEVENT
BEGIN:VEVENT
DTSTART;TZID=Asia/Shanghai:20240131T093000
DTEND;TZID=Asia/Shanghai:20240131T120000
DTSTAMP:20260422T062038
CREATED:20240126T041525Z
LAST-MODIFIED:20240126T041525Z
UID:10585-1706693400-1706702400@www.chonghwakl.edu.my
SUMMARY:讨论室 3 -唐莱温老师
DESCRIPTION:申请单位：历史组\n申请原因：讨论报告（学生）\n使用者：唐莱温老师
URL:https://www.chonghwakl.edu.my/library/event/%e8%ae%a8%e8%ae%ba%e5%ae%a4-3-%e5%94%90%e8%8e%b1%e6%b8%a9%e8%80%81%e5%b8%88/
LOCATION:讨论室 3
END:VEVENT
END:VCALENDAR