BEGIN:VCALENDAR
VERSION:2.0
PRODID:-//吉隆坡中华独立中学资源中心 - ECPv6.5.1.6//NONSGML v1.0//EN
CALSCALE:GREGORIAN
METHOD:PUBLISH
X-WR-CALNAME:吉隆坡中华独立中学资源中心
X-ORIGINAL-URL:https://www.chonghwakl.edu.my/library
X-WR-CALDESC:Events for 吉隆坡中华独立中学资源中心
REFRESH-INTERVAL;VALUE=DURATION:PT1H
X-Robots-Tag:noindex
X-PUBLISHED-TTL:PT1H
BEGIN:VTIMEZONE
TZID:Asia/Shanghai
BEGIN:STANDARD
TZOFFSETFROM:+0800
TZOFFSETTO:+0800
TZNAME:CST
DTSTART:20230101T000000
END:STANDARD
END:VTIMEZONE
BEGIN:VEVENT
DTSTART;TZID=Asia/Shanghai:20231007T100000
DTEND;TZID=Asia/Shanghai:20231007T110000
DTSTAMP:20260422T104817
CREATED:20231007T021729Z
LAST-MODIFIED:20231007T021729Z
UID:9561-1696672800-1696676400@www.chonghwakl.edu.my
SUMMARY:讨论室 1 - 李欣凌老师 与3位老师
DESCRIPTION:申请单位：华文组\n申请原因：讨论班级活动\n使用者：李欣凌老师  与3位老师 (共4人)
URL:https://www.chonghwakl.edu.my/library/event/%e8%ae%a8%e8%ae%ba%e5%ae%a4-1-%e6%9d%8e%e6%ac%a3%e5%87%8c%e8%80%81%e5%b8%88-%e4%b8%8e3%e4%bd%8d%e8%80%81%e5%b8%88/
LOCATION:讨论室 1
END:VEVENT
BEGIN:VEVENT
DTSTART;TZID=Asia/Shanghai:20231009T152000
DTEND;TZID=Asia/Shanghai:20231009T164500
DTSTAMP:20260422T104817
CREATED:20231004T023248Z
LAST-MODIFIED:20231004T023248Z
UID:9509-1696864800-1696869900@www.chonghwakl.edu.my
SUMMARY:综合厅 - 叶丽卿老师  历史学会
DESCRIPTION:申请单位：历史学会\n申请原因：阅读分享会\n使用者：历史学会
URL:https://www.chonghwakl.edu.my/library/event/%e7%bb%bc%e5%90%88%e5%8e%85-%e5%8f%b6%e4%b8%bd%e5%8d%bf%e8%80%81%e5%b8%88-%e5%8e%86%e5%8f%b2%e5%ad%a6%e4%bc%9a/
LOCATION:综合厅
END:VEVENT
BEGIN:VEVENT
DTSTART;TZID=Asia/Shanghai:20231017T130000
DTEND;TZID=Asia/Shanghai:20231017T140000
DTSTAMP:20260422T104817
CREATED:20231017T023731Z
LAST-MODIFIED:20231017T023731Z
UID:9707-1697547600-1697551200@www.chonghwakl.edu.my
SUMMARY:讨论室 2 - Cikgu Asiqin
DESCRIPTION:申请单位：Bahasa Malaysia\n申请原因：Ujian Lisan Mendengar SPM\n使用者：Cikgu Asiqin dan murid
URL:https://www.chonghwakl.edu.my/library/event/%e8%ae%a8%e8%ae%ba%e5%ae%a4-2-cikgu-asiqin/
LOCATION:讨论室 2
END:VEVENT
BEGIN:VEVENT
DTSTART;TZID=Asia/Shanghai:20231018T100000
DTEND;TZID=Asia/Shanghai:20231018T110000
DTSTAMP:20260422T104817
CREATED:20231017T023901Z
LAST-MODIFIED:20231017T023901Z
UID:9709-1697623200-1697626800@www.chonghwakl.edu.my
SUMMARY:讨论室 2 - Cikgu Asiqin
DESCRIPTION:申请单位：Bahasa Malaysia\n申请原因：Ujian Lisan Mendengar SPM\n使用者：Cikgu Asiqin dan murid
URL:https://www.chonghwakl.edu.my/library/event/%e8%ae%a8%e8%ae%ba%e5%ae%a4-2-cikgu-asiqin-2/
LOCATION:讨论室 2
END:VEVENT
BEGIN:VEVENT
DTSTART;TZID=Asia/Shanghai:20231025T103000
DTEND;TZID=Asia/Shanghai:20231025T123000
DTSTAMP:20260422T104817
CREATED:20231025T024407Z
LAST-MODIFIED:20231025T024407Z
UID:9938-1698229800-1698237000@www.chonghwakl.edu.my
SUMMARY:讨论室 3 -李佳倚老师
DESCRIPTION:申请单位：英文\n申请原因：出席英文硕士讲座\n使用者：李佳倚老师、MarionTay、Thanushini
URL:https://www.chonghwakl.edu.my/library/event/%e8%ae%a8%e8%ae%ba%e5%ae%a4-3-%e6%9d%8e%e4%bd%b3%e5%80%9a%e8%80%81%e5%b8%88/
LOCATION:讨论室 3
END:VEVENT
BEGIN:VEVENT
DTSTART;TZID=Asia/Shanghai:20231026T083000
DTEND;TZID=Asia/Shanghai:20231026T103000
DTSTAMP:20260422T104817
CREATED:20231025T055135Z
LAST-MODIFIED:20231025T055726Z
UID:9940-1698309000-1698316200@www.chonghwakl.edu.my
SUMMARY:讨论室 3 - 陈美娟老师
DESCRIPTION:申请单位：数学组\n申请原因：为初三同学备考、复习\n使用者：陈美娟老师 与学生大约6位
URL:https://www.chonghwakl.edu.my/library/event/%e8%ae%a8%e8%ae%ba%e5%ae%a4-3-%e9%99%88%e7%be%8e%e5%a8%9f%e8%80%81%e5%b8%88/
LOCATION:讨论室 3
END:VEVENT
BEGIN:VEVENT
DTSTART;TZID=Asia/Shanghai:20231027T083000
DTEND;TZID=Asia/Shanghai:20231027T103000
DTSTAMP:20260422T104817
CREATED:20231025T055245Z
LAST-MODIFIED:20231025T055744Z
UID:9942-1698395400-1698402600@www.chonghwakl.edu.my
SUMMARY:讨论室 3 - 陈美娟老师
DESCRIPTION:申请单位：数学组\n申请原因：为初三同学备考、复习\n使用者：陈美娟老师 与学生大约6位
URL:https://www.chonghwakl.edu.my/library/event/%e8%ae%a8%e8%ae%ba%e5%ae%a4-3-%e9%99%88%e7%be%8e%e5%a8%9f%e8%80%81%e5%b8%88-2/
LOCATION:讨论室 3
END:VEVENT
BEGIN:VEVENT
DTSTART;TZID=Asia/Shanghai:20231030T083000
DTEND;TZID=Asia/Shanghai:20231030T103000
DTSTAMP:20260422T104817
CREATED:20231025T055345Z
LAST-MODIFIED:20231025T055708Z
UID:9944-1698654600-1698661800@www.chonghwakl.edu.my
SUMMARY:讨论室 3 - 陈美娟老师
DESCRIPTION:申请单位：数学组\n申请原因：为初三同学备考、复习\n使用者：陈美娟老师 与学生大约6位
URL:https://www.chonghwakl.edu.my/library/event/%e8%ae%a8%e8%ae%ba%e5%ae%a4-3-%e9%99%88%e7%be%8e%e5%a8%9f%e8%80%81%e5%b8%88-3/
LOCATION:讨论室 3
END:VEVENT
END:VCALENDAR