BEGIN:VCALENDAR
VERSION:2.0
PRODID:-//吉隆坡中华独立中学资源中心 - ECPv6.5.1.6//NONSGML v1.0//EN
CALSCALE:GREGORIAN
METHOD:PUBLISH
X-WR-CALNAME:吉隆坡中华独立中学资源中心
X-ORIGINAL-URL:https://www.chonghwakl.edu.my/library
X-WR-CALDESC:Events for 吉隆坡中华独立中学资源中心
REFRESH-INTERVAL;VALUE=DURATION:PT1H
X-Robots-Tag:noindex
X-PUBLISHED-TTL:PT1H
BEGIN:VTIMEZONE
TZID:Asia/Shanghai
BEGIN:STANDARD
TZOFFSETFROM:+0800
TZOFFSETTO:+0800
TZNAME:CST
DTSTART:20230101T000000
END:STANDARD
END:VTIMEZONE
BEGIN:VEVENT
DTSTART;TZID=Asia/Shanghai:20230905T153000
DTEND;TZID=Asia/Shanghai:20230905T164000
DTSTAMP:20260422T121042
CREATED:20230904T052958Z
LAST-MODIFIED:20230904T053255Z
UID:9048-1693927800-1693932000@www.chonghwakl.edu.my
SUMMARY:讨论室 2 -  唐碧云 老师 + 执委
DESCRIPTION:申请单位：二十四节令鼓学会\n申请原因：执委会议\n使用者：唐碧云 老师 + 执委
URL:https://www.chonghwakl.edu.my/library/event/%e8%ae%a8%e8%ae%ba%e5%ae%a4-2-%e5%94%90%e7%a2%a7%e4%ba%91-%e8%80%81%e5%b8%88-%e6%89%a7%e5%a7%94/
LOCATION:讨论室 2
END:VEVENT
BEGIN:VEVENT
DTSTART;TZID=Asia/Shanghai:20230908T090000
DTEND;TZID=Asia/Shanghai:20230908T103000
DTSTAMP:20260422T121042
CREATED:20230907T064924Z
LAST-MODIFIED:20230907T064924Z
UID:9052-1694163600-1694169000@www.chonghwakl.edu.my
SUMMARY:讨论室 2 - 柯美燕老师
DESCRIPTION:申请单位：科学组\n申请原因：补课\n使用者：柯美燕老师
URL:https://www.chonghwakl.edu.my/library/event/%e8%ae%a8%e8%ae%ba%e5%ae%a4-2-%e6%9f%af%e7%be%8e%e7%87%95%e8%80%81%e5%b8%88/
LOCATION:讨论室 2
END:VEVENT
BEGIN:VEVENT
DTSTART;TZID=Asia/Shanghai:20230918T121500
DTEND;TZID=Asia/Shanghai:20230918T125500
DTSTAMP:20260422T121042
CREATED:20230918T005356Z
LAST-MODIFIED:20230918T005356Z
UID:9299-1695039300-1695041700@www.chonghwakl.edu.my
SUMMARY:讨论室 2 - 商科组老师
DESCRIPTION:申请单位：商科组\n申请原因：讨论 SPM 范围\n使用者：商科组老师
URL:https://www.chonghwakl.edu.my/library/event/%e8%ae%a8%e8%ae%ba%e5%ae%a4-2-%e5%95%86%e7%a7%91%e7%bb%84%e8%80%81%e5%b8%88/
LOCATION:讨论室 2
END:VEVENT
BEGIN:VEVENT
DTSTART;TZID=Asia/Shanghai:20230927T090500
DTEND;TZID=Asia/Shanghai:20230927T093500
DTSTAMP:20260422T121042
CREATED:20230927T002811Z
LAST-MODIFIED:20230927T002811Z
UID:9503-1695805500-1695807300@www.chonghwakl.edu.my
SUMMARY:讨论室 2 - 李欣凌老师
DESCRIPTION:申请单位：初一德 DE\n申请原因：讨论班级活动\n使用者：李欣凌老师 与学生 (一下共2人)
URL:https://www.chonghwakl.edu.my/library/event/%e8%ae%a8%e8%ae%ba%e5%ae%a4-2-%e6%9d%8e%e6%ac%a3%e5%87%8c%e8%80%81%e5%b8%88/
LOCATION:讨论室 2
END:VEVENT
BEGIN:VEVENT
DTSTART;TZID=Asia/Shanghai:20230927T121500
DTEND;TZID=Asia/Shanghai:20230927T125000
DTSTAMP:20260422T121042
CREATED:20230927T002923Z
LAST-MODIFIED:20230927T002923Z
UID:9505-1695816900-1695819000@www.chonghwakl.edu.my
SUMMARY:讨论室 2 - 李欣凌老师
DESCRIPTION:申请单位：初一德 DE\n申请原因：讨论班级活动\n使用者：李欣凌老师 与学生 (二下共4人)
URL:https://www.chonghwakl.edu.my/library/event/%e8%ae%a8%e8%ae%ba%e5%ae%a4-2-%e6%9d%8e%e6%ac%a3%e5%87%8c%e8%80%81%e5%b8%88-2/
LOCATION:讨论室 2
END:VEVENT
END:VCALENDAR