BEGIN:VCALENDAR
VERSION:2.0
PRODID:-//吉隆坡中华独立中学资源中心 - ECPv6.5.1.6//NONSGML v1.0//EN
CALSCALE:GREGORIAN
METHOD:PUBLISH
X-WR-CALNAME:吉隆坡中华独立中学资源中心
X-ORIGINAL-URL:https://www.chonghwakl.edu.my/library
X-WR-CALDESC:Events for 吉隆坡中华独立中学资源中心
REFRESH-INTERVAL;VALUE=DURATION:PT1H
X-Robots-Tag:noindex
X-PUBLISHED-TTL:PT1H
BEGIN:VTIMEZONE
TZID:Asia/Shanghai
BEGIN:STANDARD
TZOFFSETFROM:+0800
TZOFFSETTO:+0800
TZNAME:CST
DTSTART:20230101T000000
END:STANDARD
END:VTIMEZONE
BEGIN:VEVENT
DTSTART;TZID=Asia/Shanghai:20230317T100000
DTEND;TZID=Asia/Shanghai:20230317T133000
DTSTAMP:20260422T193828
CREATED:20230315T043649Z
LAST-MODIFIED:20230315T043649Z
UID:7442-1679047200-1679059800@www.chonghwakl.edu.my
SUMMARY:综合厅 - 图书馆学会
DESCRIPTION:申请单位：图书馆学会\n申请原因：进行执委培训日课程\n使用者：图书馆学会执委团  共 18人
URL:https://www.chonghwakl.edu.my/library/event/%e7%bb%bc%e5%90%88%e5%8e%85-%e5%9b%be%e4%b9%a6%e9%a6%86%e5%ad%a6%e4%bc%9a-6/
LOCATION:综合厅
END:VEVENT
BEGIN:VEVENT
DTSTART;TZID=Asia/Shanghai:20230324T153000
DTEND;TZID=Asia/Shanghai:20230324T164000
DTSTAMP:20260422T193828
CREATED:20230324T025848Z
LAST-MODIFIED:20230324T073320Z
UID:7638-1679671800-1679676000@www.chonghwakl.edu.my
SUMMARY:讨论室 3 - 唐碧云老师与 6位学生
DESCRIPTION:申请单位：二十四节令鼓学会\n申请原因：执委会议\n使用者：\n唐碧云老师、6位学生
URL:https://www.chonghwakl.edu.my/library/event/%e8%ae%a8%e8%ae%ba%e5%ae%a4-3-%e5%94%90%e7%a2%a7%e4%ba%91%e8%80%81%e5%b8%88%e4%b8%8e-3%e4%bd%8d%e5%ad%a6%e7%94%9f/
LOCATION:讨论室 3
END:VEVENT
END:VCALENDAR