BEGIN:VCALENDAR
VERSION:2.0
PRODID:-//吉隆坡中华独立中学资源中心 - ECPv6.5.1.6//NONSGML v1.0//EN
CALSCALE:GREGORIAN
METHOD:PUBLISH
X-ORIGINAL-URL:https://www.chonghwakl.edu.my/library
X-WR-CALDESC:Events for 吉隆坡中华独立中学资源中心
REFRESH-INTERVAL;VALUE=DURATION:PT1H
X-Robots-Tag:noindex
X-PUBLISHED-TTL:PT1H
BEGIN:VTIMEZONE
TZID:Asia/Shanghai
BEGIN:STANDARD
TZOFFSETFROM:+0800
TZOFFSETTO:+0800
TZNAME:CST
DTSTART:20230101T000000
END:STANDARD
END:VTIMEZONE
BEGIN:VEVENT
DTSTART;TZID=Asia/Shanghai:20230104T125000
DTEND;TZID=Asia/Shanghai:20230106T132500
DTSTAMP:20260422T221405
CREATED:20230103T234850Z
LAST-MODIFIED:20230103T235103Z
UID:6829-1672836600-1673011500@www.chonghwakl.edu.my
SUMMARY:资源中心 13楼
DESCRIPTION:申请单位：2023 新春活动筹委团\n申请原因：拍摄教师祝福短片\n使用者：吴冠希 ( 190370 高一商忠)
URL:https://www.chonghwakl.edu.my/library/event/%e8%b5%84%e6%ba%90%e4%b8%ad%e5%bf%83-13%e6%a5%bc/
END:VEVENT
BEGIN:VEVENT
DTSTART;TZID=Asia/Shanghai:20230105T153000
DTEND;TZID=Asia/Shanghai:20230106T163000
DTSTAMP:20260422T221405
CREATED:20230103T235441Z
LAST-MODIFIED:20230103T235756Z
UID:6833-1672932600-1673022600@www.chonghwakl.edu.my
SUMMARY:资源中心 13楼
DESCRIPTION:申请单位：2023 新春活动筹委团\n申请原因：拍摄教师祝福短片\n使用者：吴冠希 (190370 高一商忠）
URL:https://www.chonghwakl.edu.my/library/event/%e8%b5%84%e6%ba%90%e4%b8%ad%e5%bf%83-13%e6%a5%bc-2/
END:VEVENT
BEGIN:VEVENT
DTSTART;TZID=Asia/Shanghai:20230106T132500
DTEND;TZID=Asia/Shanghai:20230106T144000
DTSTAMP:20260422T221405
CREATED:20230106T003724Z
LAST-MODIFIED:20230106T003724Z
UID:6839-1673011500-1673016000@www.chonghwakl.edu.my
SUMMARY:综合厅 - 岑雁如 老师
DESCRIPTION:申请单位：6C Zhong\n申请原因：导读课\n使用者：岑雁如 老师
URL:https://www.chonghwakl.edu.my/library/event/%e7%bb%bc%e5%90%88%e5%8e%85-%e5%b2%91%e9%9b%81%e5%a6%82-%e8%80%81%e5%b8%88/
LOCATION:综合厅
END:VEVENT
BEGIN:VEVENT
DTSTART;TZID=Asia/Shanghai:20230111T074500
DTEND;TZID=Asia/Shanghai:20230111T202500
DTSTAMP:20260422T221405
CREATED:20230110T011052Z
LAST-MODIFIED:20230110T011052Z
UID:6841-1673423100-1673468700@www.chonghwakl.edu.my
SUMMARY:综合厅 - 曾湘凌 老师
DESCRIPTION:申请单位：2 Yong\n申请原因：导读\n使用者：曾湘凌 老师
URL:https://www.chonghwakl.edu.my/library/event/%e7%bb%bc%e5%90%88%e5%8e%85-%e6%9b%be%e6%b9%98%e5%87%8c-%e8%80%81%e5%b8%88/
LOCATION:综合厅
END:VEVENT
BEGIN:VEVENT
DTSTART;TZID=Asia/Shanghai:20230111T120000
DTEND;TZID=Asia/Shanghai:20230111T140000
DTSTAMP:20260422T221405
CREATED:20230111T031730Z
LAST-MODIFIED:20230111T031730Z
UID:6944-1673438400-1673445600@www.chonghwakl.edu.my
SUMMARY:讨论室 2 - 邱娜娜 老师
DESCRIPTION:申请单位：商科\n申请原因：上网课\n使用者：邱娜娜 老师
URL:https://www.chonghwakl.edu.my/library/event/%e8%ae%a8%e8%ae%ba%e5%ae%a4-2-%e9%82%b1%e5%a8%9c%e5%a8%9c-%e8%80%81%e5%b8%88-5/
LOCATION:讨论室 2
END:VEVENT
BEGIN:VEVENT
DTSTART;TZID=Asia/Shanghai:20230112T153000
DTEND;TZID=Asia/Shanghai:20230112T164500
DTSTAMP:20260422T221405
CREATED:20230110T023846Z
LAST-MODIFIED:20230111T054137Z
UID:6843-1673537400-1673541900@www.chonghwakl.edu.my
SUMMARY:综合厅 - 图书馆学会
DESCRIPTION:申请单位：图书馆学会\n申请原因：执委会议\n使用者：图书馆管理员  共 18人
URL:https://www.chonghwakl.edu.my/library/event/%e8%ae%a8%e8%ae%ba%e5%ae%a4-2-%e5%bc%a0%e5%98%89%e6%85%a7-%e8%80%81%e5%b8%88/
LOCATION:综合厅
END:VEVENT
BEGIN:VEVENT
DTSTART;TZID=Asia/Shanghai:20230117T100000
DTEND;TZID=Asia/Shanghai:20230117T123000
DTSTAMP:20260422T221405
CREATED:20230117T004214Z
LAST-MODIFIED:20230117T004214Z
UID:7072-1673949600-1673958600@www.chonghwakl.edu.my
SUMMARY:讨论室 2 - 林义胜 老师
DESCRIPTION:申请单位：英文\n申请原因：教专课程\n使用者：林义胜 老师
URL:https://www.chonghwakl.edu.my/library/event/%e8%ae%a8%e8%ae%ba%e5%ae%a4-2-%e6%9e%97%e4%b9%89%e8%83%9c-%e8%80%81%e5%b8%88-2/
LOCATION:讨论室 2
END:VEVENT
BEGIN:VEVENT
DTSTART;TZID=Asia/Shanghai:20230130T122500
DTEND;TZID=Asia/Shanghai:20230130T143000
DTSTAMP:20260422T221405
CREATED:20230130T060042Z
LAST-MODIFIED:20230130T060042Z
UID:7131-1675081500-1675089000@www.chonghwakl.edu.my
SUMMARY:讨论室 1 -蔡忠霖 老师与 4 位学生
DESCRIPTION:申请单位：数学\n申请原因：补课\n使用者：\n蔡忠霖老师、\n4位学生 (1 林晋而180347 、2 冯薇颖180134 、3 高婧昕180601、4 王沁慈180291)
URL:https://www.chonghwakl.edu.my/library/event/%e8%ae%a8%e8%ae%ba%e5%ae%a4-1-%e8%94%a1%e5%bf%a0%e9%9c%96-%e8%80%81%e5%b8%88%e4%b8%8e-4-%e4%bd%8d%e5%ad%a6%e7%94%9f/
LOCATION:讨论室 1
END:VEVENT
BEGIN:VEVENT
DTSTART;TZID=Asia/Shanghai:20230130T153000
DTEND;TZID=Asia/Shanghai:20230130T164500
DTSTAMP:20260422T221405
CREATED:20230130T021645Z
LAST-MODIFIED:20230131T005326Z
UID:7126-1675092600-1675097100@www.chonghwakl.edu.my
SUMMARY:讨论室 2 - 唐碧云老师与 4位学生
DESCRIPTION:申请单位：二十四节令鼓学会\n申请原因：集训营会议\n使用者：\n唐碧云老师、\n筹委 4位学生 (1 郑健琳190935 、2 温振杰190105 、3 陈欣190749、4 谭玮豪190377 )
URL:https://www.chonghwakl.edu.my/library/event/7126/
LOCATION:讨论室 2
END:VEVENT
BEGIN:VEVENT
DTSTART;TZID=Asia/Shanghai:20230131T082500
DTEND;TZID=Asia/Shanghai:20230131T102500
DTSTAMP:20260422T221405
CREATED:20230131T010300Z
LAST-MODIFIED:20230131T010300Z
UID:7135-1675153500-1675160700@www.chonghwakl.edu.my
SUMMARY:讨论室 3 - 曹潔瑩 老师
DESCRIPTION:申请单位：华文课、历国科\n申请原因：讨论户外教学事项\n使用者：曹潔瑩老师、陈靖轩老师
URL:https://www.chonghwakl.edu.my/library/event/%e8%ae%a8%e8%ae%ba%e5%ae%a4-3-%e6%9b%b9%e6%bd%94%e7%91%a9-%e8%80%81%e5%b8%88/
LOCATION:讨论室 3
END:VEVENT
END:VCALENDAR