BEGIN:VCALENDAR
VERSION:2.0
PRODID:-//吉隆坡中华独立中学资源中心 - ECPv6.5.1.6//NONSGML v1.0//EN
CALSCALE:GREGORIAN
METHOD:PUBLISH
X-WR-CALNAME:吉隆坡中华独立中学资源中心
X-ORIGINAL-URL:https://www.chonghwakl.edu.my/library
X-WR-CALDESC:Events for 吉隆坡中华独立中学资源中心
REFRESH-INTERVAL;VALUE=DURATION:PT1H
X-Robots-Tag:noindex
X-PUBLISHED-TTL:PT1H
BEGIN:VTIMEZONE
TZID:Asia/Shanghai
BEGIN:STANDARD
TZOFFSETFROM:+0800
TZOFFSETTO:+0800
TZNAME:CST
DTSTART:20220101T000000
END:STANDARD
END:VTIMEZONE
BEGIN:VEVENT
DTSTART;TZID=Asia/Shanghai:20221203T130000
DTEND;TZID=Asia/Shanghai:20221203T153000
DTSTAMP:20260422T232457
CREATED:20221201T055249Z
LAST-MODIFIED:20230103T233828Z
UID:6612-1670072400-1670081400@www.chonghwakl.edu.my
SUMMARY:讨论室 1 - 叶秀珍 老师
DESCRIPTION:申请单位：美术组\n申请原因：上网课\n使用者：叶秀珍 老师
URL:https://www.chonghwakl.edu.my/library/event/%e8%ae%a8%e8%ae%ba%e5%ae%a4-1-%e5%8f%b6%e7%a7%80%e7%8f%8d-%e8%80%81%e5%b8%88/
LOCATION:讨论室 1
END:VEVENT
END:VCALENDAR