BEGIN:VCALENDAR
VERSION:2.0
PRODID:-//吉隆坡中华独立中学资源中心 - ECPv6.5.1.6//NONSGML v1.0//EN
CALSCALE:GREGORIAN
METHOD:PUBLISH
X-WR-CALNAME:吉隆坡中华独立中学资源中心
X-ORIGINAL-URL:https://www.chonghwakl.edu.my/library
X-WR-CALDESC:Events for 吉隆坡中华独立中学资源中心
REFRESH-INTERVAL;VALUE=DURATION:PT1H
X-Robots-Tag:noindex
X-PUBLISHED-TTL:PT1H
BEGIN:VTIMEZONE
TZID:Asia/Shanghai
BEGIN:STANDARD
TZOFFSETFROM:+0800
TZOFFSETTO:+0800
TZNAME:CST
DTSTART:20220101T000000
END:STANDARD
END:VTIMEZONE
BEGIN:VEVENT
DTSTART;TZID=Asia/Shanghai:20220902T080000
DTEND;TZID=Asia/Shanghai:20220902T100000
DTSTAMP:20260423T030212
CREATED:20220901T071314Z
LAST-MODIFIED:20220901T071314Z
UID:5747-1662105600-1662112800@www.chonghwakl.edu.my
SUMMARY:阅览室 - 陈宝宝 老师
DESCRIPTION:申请单位：化学\n申请原因：补课 (上网课)\n使用者：陈宝宝 老师
URL:https://www.chonghwakl.edu.my/library/event/%e9%98%85%e8%a7%88%e5%ae%a4-%e9%99%88%e5%ae%9d%e5%ae%9d-%e8%80%81%e5%b8%88/
END:VEVENT
BEGIN:VEVENT
DTSTART;TZID=Asia/Shanghai:20220902T090000
DTEND;TZID=Asia/Shanghai:20220902T100000
DTSTAMP:20260423T030212
CREATED:20220902T015451Z
LAST-MODIFIED:20220902T015451Z
UID:5750-1662109200-1662112800@www.chonghwakl.edu.my
SUMMARY:讨论室 1 - 严燕妮 老师
DESCRIPTION:申请单位：商科\n申请原因：网课\n使用者：严燕妮 老师
URL:https://www.chonghwakl.edu.my/library/event/%e8%ae%a8%e8%ae%ba%e5%ae%a4-1-%e4%b8%a5%e7%87%95%e5%a6%ae-%e8%80%81%e5%b8%88/
LOCATION:讨论室 1
END:VEVENT
BEGIN:VEVENT
DTSTART;TZID=Asia/Shanghai:20220915T153000
DTEND;TZID=Asia/Shanghai:20220915T164500
DTSTAMP:20260423T030212
CREATED:20220914T023318Z
LAST-MODIFIED:20220919T024839Z
UID:5761-1663255800-1663260300@www.chonghwakl.edu.my
SUMMARY:综合厅 - 图书馆学会
DESCRIPTION:申请单位：图书馆学会 ，陈旭尧 180019 高二理忠 (此次遴选负责人)\n申请原因：2022年 图书馆学会组长遴选笔试\n使用者：图书馆管理员 共 19人
URL:https://www.chonghwakl.edu.my/library/event/%e7%bb%bc%e5%90%88%e5%8e%85-%e5%9b%be%e4%b9%a6%e9%a6%86%e5%ad%a6%e4%bc%9a/
LOCATION:综合厅
END:VEVENT
BEGIN:VEVENT
DTSTART;TZID=Asia/Shanghai:20220919T153000
DTEND;TZID=Asia/Shanghai:20220919T164500
DTSTAMP:20260423T030212
CREATED:20220919T024824Z
LAST-MODIFIED:20220919T025046Z
UID:5813-1663601400-1663605900@www.chonghwakl.edu.my
SUMMARY:综合厅 - 图书馆学会
DESCRIPTION:申请单位：图书馆学会 ，陈旭尧 180019 高二理忠 (此次遴选负责人)\n申请原因：2022年 图书馆学会组长遴选面试\n使用者：图书馆管理员 共 11人
URL:https://www.chonghwakl.edu.my/library/event/%e7%bb%bc%e5%90%88%e5%8e%85-%e5%9b%be%e4%b9%a6%e9%a6%86%e5%ad%a6%e4%bc%9a-2/
LOCATION:综合厅
END:VEVENT
BEGIN:VEVENT
DTSTART;TZID=Asia/Shanghai:20220921T153000
DTEND;TZID=Asia/Shanghai:20220921T164500
DTSTAMP:20260423T030212
CREATED:20220921T053424Z
LAST-MODIFIED:20220921T053424Z
UID:5818-1663774200-1663778700@www.chonghwakl.edu.my
SUMMARY:综合厅 - 图书馆学会
DESCRIPTION:申请单位：图书馆学会 ，陈旭尧 180019 高二理忠 (此次遴选负责人)\n申请原因：2022年 图书馆学会组长遴选面试\n使用者：图书馆管理员 共 11人
URL:https://www.chonghwakl.edu.my/library/event/%e7%bb%bc%e5%90%88%e5%8e%85-%e5%9b%be%e4%b9%a6%e9%a6%86%e5%ad%a6%e4%bc%9a-3/
LOCATION:综合厅
END:VEVENT
BEGIN:VEVENT
DTSTART;TZID=Asia/Shanghai:20220926T153000
DTEND;TZID=Asia/Shanghai:20220926T164500
DTSTAMP:20260423T030212
CREATED:20220921T053709Z
LAST-MODIFIED:20220921T053709Z
UID:5820-1664206200-1664210700@www.chonghwakl.edu.my
SUMMARY:综合厅 - 图书馆学会
DESCRIPTION:申请单位：图书馆学会 ，陈旭尧 180019 高二理忠 (此次遴选负责人)\n申请原因：2022年 图书馆学会组长遴选面试\n使用者：图书馆管理员 共 11人
URL:https://www.chonghwakl.edu.my/library/event/%e7%bb%bc%e5%90%88%e5%8e%85-%e5%9b%be%e4%b9%a6%e9%a6%86%e5%ad%a6%e4%bc%9a-4/
LOCATION:综合厅
END:VEVENT
BEGIN:VEVENT
DTSTART;TZID=Asia/Shanghai:20220927T153000
DTEND;TZID=Asia/Shanghai:20220927T164500
DTSTAMP:20260423T030212
CREATED:20220922T051736Z
LAST-MODIFIED:20220922T052054Z
UID:5822-1664292600-1664297100@www.chonghwakl.edu.my
SUMMARY:综合厅 - 图书馆学会
DESCRIPTION:申请单位：图书馆学会 ，陈旭尧 180019 高二理忠 (此次遴选负责人)\n申请原因：2022年 图书馆学会组长遴选面试\n使用者：图书馆管理员 共 11人
URL:https://www.chonghwakl.edu.my/library/event/%e7%bb%bc%e5%90%88%e5%8e%85-%e5%9b%be%e4%b9%a6%e9%a6%86%e5%ad%a6%e4%bc%9a-5/
LOCATION:综合厅
END:VEVENT
BEGIN:VEVENT
DTSTART;TZID=Asia/Shanghai:20220928T140500
DTEND;TZID=Asia/Shanghai:20220928T144500
DTSTAMP:20260423T030212
CREATED:20220927T072949Z
LAST-MODIFIED:20220927T072949Z
UID:5872-1664373900-1664376300@www.chonghwakl.edu.my
SUMMARY:讨论室 1 - 苏婷凤 老师
DESCRIPTION:申请单位：商科\n申请原因：zoom meeting\n使用者：苏婷凤 老师
URL:https://www.chonghwakl.edu.my/library/event/%e8%ae%a8%e8%ae%ba%e5%ae%a4-1-%e8%8b%8f%e5%a9%b7%e5%87%a4-%e8%80%81%e5%b8%88/
LOCATION:讨论室 1
END:VEVENT
BEGIN:VEVENT
DTSTART;TZID=Asia/Shanghai:20220930T153000
DTEND;TZID=Asia/Shanghai:20220930T160000
DTSTAMP:20260423T030212
CREATED:20220930T075429Z
LAST-MODIFIED:20220930T075609Z
UID:6007-1664551800-1664553600@www.chonghwakl.edu.my
SUMMARY:讨论室 1 - 陈劲平老师 与 9位学生
DESCRIPTION:申请单位：化学\n申请原因：讨论习题\n使用者：\n陈劲平老师、\n9位学生(1 林绮鑫 190248 高一理爱、2 万恩彤、3 颜嫝瑢、4 余倞忻、5 郑茜桦、6 简杏庭、7 白宁、8 林依欣、9 傅扬凯)
URL:https://www.chonghwakl.edu.my/library/event/6007/
LOCATION:讨论室 1
END:VEVENT
END:VCALENDAR