BEGIN:VCALENDAR
VERSION:2.0
PRODID:-//吉隆坡中华独立中学资源中心 - ECPv6.5.1.6//NONSGML v1.0//EN
CALSCALE:GREGORIAN
METHOD:PUBLISH
X-ORIGINAL-URL:https://www.chonghwakl.edu.my/library
X-WR-CALDESC:Events for 吉隆坡中华独立中学资源中心
REFRESH-INTERVAL;VALUE=DURATION:PT1H
X-Robots-Tag:noindex
X-PUBLISHED-TTL:PT1H
BEGIN:VTIMEZONE
TZID:Asia/Shanghai
BEGIN:STANDARD
TZOFFSETFROM:+0800
TZOFFSETTO:+0800
TZNAME:CST
DTSTART:20250101T000000
END:STANDARD
END:VTIMEZONE
BEGIN:VEVENT
DTSTART;TZID=Asia/Shanghai:20250103T101500
DTEND;TZID=Asia/Shanghai:20250103T113500
DTSTAMP:20260420T041303
CREATED:20241231T063851Z
LAST-MODIFIED:20241231T063851Z
UID:13187-1735899300-1735904100@www.chonghwakl.edu.my
SUMMARY:综合厅 - 黄佩枝老师
DESCRIPTION:申请单位：初二孝\n申请原因：阅读活动：《失落的一角遇见大圆满》、《雪州志 Sept 2022-003》导读\n使用者：黄佩枝老师
URL:https://www.chonghwakl.edu.my/library/event/%e7%bb%bc%e5%90%88%e5%8e%85-%e9%bb%84%e4%bd%a9%e6%9e%9d%e8%80%81%e5%b8%88/
LOCATION:综合厅
END:VEVENT
BEGIN:VEVENT
DTSTART;TZID=Asia/Shanghai:20250103T113500
DTEND;TZID=Asia/Shanghai:20250103T121500
DTSTAMP:20260420T041303
CREATED:20241231T064154Z
LAST-MODIFIED:20241231T064219Z
UID:13189-1735904100-1735906500@www.chonghwakl.edu.my
SUMMARY:综合厅 - 黄国兰老师
DESCRIPTION:申请单位：4AC和\n申请原因：阅读活动《格局，决定你的结局》\n使用者：黄国兰老师
URL:https://www.chonghwakl.edu.my/library/event/%e7%bb%bc%e5%90%88%e5%8e%85-%e9%bb%84%e5%9b%bd%e5%85%b0%e8%80%81%e5%b8%88/
LOCATION:综合厅
END:VEVENT
BEGIN:VEVENT
DTSTART;TZID=Asia/Shanghai:20250104T080000
DTEND;TZID=Asia/Shanghai:20250104T130000
DTSTAMP:20260420T041303
CREATED:20250104T020620Z
LAST-MODIFIED:20250104T020620Z
UID:13198-1735977600-1735995600@www.chonghwakl.edu.my
SUMMARY:讨论室 2 -  谢宝琴老师
DESCRIPTION:申请单位：教职研修处\n申请原因：硕士课程（网课）\n使用者：谢宝琴老师
URL:https://www.chonghwakl.edu.my/library/event/%e8%ae%a8%e8%ae%ba%e5%ae%a4-2-%e8%b0%a2%e5%ae%9d%e7%90%b4%e8%80%81%e5%b8%88/
LOCATION:讨论室 2
END:VEVENT
BEGIN:VEVENT
DTSTART;TZID=Asia/Shanghai:20250104T080000
DTEND;TZID=Asia/Shanghai:20250104T130000
DTSTAMP:20260420T041303
CREATED:20250104T020753Z
LAST-MODIFIED:20250104T020753Z
UID:13200-1735977600-1735995600@www.chonghwakl.edu.my
SUMMARY:讨论室 3 - 王玉春老师
DESCRIPTION:申请单位：教职研修处\n申请原因：硕士课程（网课）\n使用者：王玉春老师
URL:https://www.chonghwakl.edu.my/library/event/%e8%ae%a8%e8%ae%ba%e5%ae%a4-3-%e7%8e%8b%e7%8e%89%e6%98%a5%e8%80%81%e5%b8%88/
LOCATION:讨论室 3
END:VEVENT
BEGIN:VEVENT
DTSTART;TZID=Asia/Shanghai:20250106T100000
DTEND;TZID=Asia/Shanghai:20250106T150000
DTSTAMP:20260420T041303
CREATED:20250106T002131Z
LAST-MODIFIED:20250106T002131Z
UID:13202-1736157600-1736175600@www.chonghwakl.edu.my
SUMMARY:讨论室 3 - 资源中心老师和助理
DESCRIPTION:申请单位：资源中心\n申请原因：图书馆馆务\n使用者：资源中心老师和助理
URL:https://www.chonghwakl.edu.my/library/event/%e8%ae%a8%e8%ae%ba%e5%ae%a4-3-%e8%b5%84%e6%ba%90%e4%b8%ad%e5%bf%83%e8%80%81%e5%b8%88%e5%92%8c%e5%8a%a9%e7%90%86/
LOCATION:讨论室 3
END:VEVENT
BEGIN:VEVENT
DTSTART;TZID=Asia/Shanghai:20250107T100000
DTEND;TZID=Asia/Shanghai:20250107T150000
DTSTAMP:20260420T041303
CREATED:20250106T002216Z
LAST-MODIFIED:20250106T002216Z
UID:13204-1736244000-1736262000@www.chonghwakl.edu.my
SUMMARY:讨论室 3 - 资源中心老师和助理
DESCRIPTION:申请单位：资源中心\n申请原因：图书馆馆务\n使用者：资源中心老师和助理
URL:https://www.chonghwakl.edu.my/library/event/%e8%ae%a8%e8%ae%ba%e5%ae%a4-3-%e8%b5%84%e6%ba%90%e4%b8%ad%e5%bf%83%e8%80%81%e5%b8%88%e5%92%8c%e5%8a%a9%e7%90%86-2/
LOCATION:讨论室 3
END:VEVENT
BEGIN:VEVENT
DTSTART;TZID=Asia/Shanghai:20250107T145000
DTEND;TZID=Asia/Shanghai:20250107T153000
DTSTAMP:20260420T041303
CREATED:20250107T055451Z
LAST-MODIFIED:20250107T055451Z
UID:13208-1736261400-1736263800@www.chonghwakl.edu.my
SUMMARY:讨论室 2 - Miss Neeshanthi
DESCRIPTION:申请单位：English\n申请原因：Meeting with higher education department\n使用者：Miss Neeshanthi
URL:https://www.chonghwakl.edu.my/library/event/%e8%ae%a8%e8%ae%ba%e5%ae%a4-2-miss-neeshanthi/
LOCATION:讨论室 2
END:VEVENT
BEGIN:VEVENT
DTSTART;TZID=Asia/Shanghai:20250108T033000
DTEND;TZID=Asia/Shanghai:20250108T170000
DTSTAMP:20260420T041303
CREATED:20250107T060351Z
LAST-MODIFIED:20250107T060351Z
UID:13210-1736307000-1736355600@www.chonghwakl.edu.my
SUMMARY:资源中心13楼 - 颜涌铭 (校友)
DESCRIPTION:申请单位：联课活动处\n申请原因：拍 MV\n使用者：服培（No.4）颜涌铭 190256
URL:https://www.chonghwakl.edu.my/library/event/%e8%b5%84%e6%ba%90%e4%b8%ad%e5%bf%8313%e6%a5%bc-%e9%a2%9c%e6%b6%8c%e9%93%ad-%e6%a0%a1%e5%8f%8b/
END:VEVENT
BEGIN:VEVENT
DTSTART;TZID=Asia/Shanghai:20250108T083000
DTEND;TZID=Asia/Shanghai:20250108T095000
DTSTAMP:20260420T041303
CREATED:20241231T064457Z
LAST-MODIFIED:20241231T064457Z
UID:13192-1736325000-1736329800@www.chonghwakl.edu.my
SUMMARY:综合厅 - 黄国兰老师
DESCRIPTION:申请单位：4AC孝\n申请原因：阅读活动《格局，决定你的结局》\n使用者：黄国兰老师
URL:https://www.chonghwakl.edu.my/library/event/%e7%bb%bc%e5%90%88%e5%8e%85-%e9%bb%84%e5%9b%bd%e5%85%b0%e8%80%81%e5%b8%88-2/
LOCATION:综合厅
END:VEVENT
BEGIN:VEVENT
DTSTART;TZID=Asia/Shanghai:20250108T100400
DTEND;TZID=Asia/Shanghai:20250108T120000
DTSTAMP:20260420T041303
CREATED:20250108T021754Z
LAST-MODIFIED:20250108T022204Z
UID:13213-1736330640-1736337600@www.chonghwakl.edu.my
SUMMARY:讨论室 2 - Miss Crystal Kong
DESCRIPTION:申请单位：English\n申请原因：Management Meeting\n使用者：Miss Crystal Kong
URL:https://www.chonghwakl.edu.my/library/event/13213/
LOCATION:讨论室 2
END:VEVENT
BEGIN:VEVENT
DTSTART;TZID=Asia/Shanghai:20250109T083000
DTEND;TZID=Asia/Shanghai:20250109T091000
DTSTAMP:20260420T041303
CREATED:20241231T065407Z
LAST-MODIFIED:20241231T065407Z
UID:13194-1736411400-1736413800@www.chonghwakl.edu.my
SUMMARY:综合厅 - 曾湘凌老师
DESCRIPTION:申请单位：4AC忠\n申请原因：阅读活动《小王子》导读\n使用者：曾湘凌老师
URL:https://www.chonghwakl.edu.my/library/event/%e7%bb%bc%e5%90%88%e5%8e%85-%e6%9b%be%e6%b9%98%e5%87%8c%e8%80%81%e5%b8%88-2/
LOCATION:综合厅
END:VEVENT
BEGIN:VEVENT
DTSTART;TZID=Asia/Shanghai:20250109T090000
DTEND;TZID=Asia/Shanghai:20250109T140000
DTSTAMP:20260420T041303
CREATED:20250109T010228Z
LAST-MODIFIED:20250109T010228Z
UID:13216-1736413200-1736431200@www.chonghwakl.edu.my
SUMMARY:讨论室 2 - Miss Crystal Kong
DESCRIPTION:申请单位：English\n申请原因：Management Meeting\n使用者：Miss Crystal Kong
URL:https://www.chonghwakl.edu.my/library/event/%e8%ae%a8%e8%ae%ba%e5%ae%a4-2-miss-crystal-kong/
LOCATION:讨论室 2
END:VEVENT
BEGIN:VEVENT
DTSTART;TZID=Asia/Shanghai:20250109T101500
DTEND;TZID=Asia/Shanghai:20250109T105500
DTSTAMP:20260420T041303
CREATED:20241231T065552Z
LAST-MODIFIED:20241231T065552Z
UID:13196-1736417700-1736420100@www.chonghwakl.edu.my
SUMMARY:综合厅 - 曾湘凌老师
DESCRIPTION:申请单位：4AC爱\n申请原因：阅读活动《小王子》导读\n使用者：曾湘凌老师
URL:https://www.chonghwakl.edu.my/library/event/%e7%bb%bc%e5%90%88%e5%8e%85-%e6%9b%be%e6%b9%98%e5%87%8c%e8%80%81%e5%b8%88-3/
LOCATION:综合厅
END:VEVENT
BEGIN:VEVENT
DTSTART;TZID=Asia/Shanghai:20250109T153000
DTEND;TZID=Asia/Shanghai:20250109T164500
DTSTAMP:20260420T041303
CREATED:20250109T040045Z
LAST-MODIFIED:20250109T040045Z
UID:13218-1736436600-1736441100@www.chonghwakl.edu.my
SUMMARY:资源中心 13 楼 - 服务团体培训营
DESCRIPTION:申请单位：服务团体培训营\n申请原因：拍摄宣传影片\n使用者：陈依慧  210139  高一文商忠
URL:https://www.chonghwakl.edu.my/library/event/%e8%b5%84%e6%ba%90%e4%b8%ad%e5%bf%83-13-%e6%a5%bc-%e6%9c%8d%e5%8a%a1%e5%9b%a2%e4%bd%93%e5%9f%b9%e8%ae%ad%e8%90%a5/
END:VEVENT
BEGIN:VEVENT
DTSTART;TZID=Asia/Shanghai:20250110T080000
DTEND;TZID=Asia/Shanghai:20250110T140000
DTSTAMP:20260420T041303
CREATED:20250109T072950Z
LAST-MODIFIED:20250109T072950Z
UID:13220-1736496000-1736517600@www.chonghwakl.edu.my
SUMMARY:讨论室 2 - Miss Crystal Kong
DESCRIPTION:申请单位：English\n申请原因：Management Meeting\n使用者：Miss Crystal Kong
URL:https://www.chonghwakl.edu.my/library/event/%e8%ae%a8%e8%ae%ba%e5%ae%a4-2-miss-crystal-kong-2/
LOCATION:讨论室 2
END:VEVENT
BEGIN:VEVENT
DTSTART;TZID=Asia/Shanghai:20250110T113000
DTEND;TZID=Asia/Shanghai:20250110T130000
DTSTAMP:20260420T041303
CREATED:20250110T040048Z
LAST-MODIFIED:20250110T040048Z
UID:13222-1736508600-1736514000@www.chonghwakl.edu.my
SUMMARY:讨论室 3 - 曹洁莹老师
DESCRIPTION:申请单位：华文\n申请原因：网课\n使用者：曹洁莹老师
URL:https://www.chonghwakl.edu.my/library/event/%e8%ae%a8%e8%ae%ba%e5%ae%a4-3-%e6%9b%b9%e6%b4%81%e8%8e%b9%e8%80%81%e5%b8%88-3/
LOCATION:讨论室 3
END:VEVENT
BEGIN:VEVENT
DTSTART;TZID=Asia/Shanghai:20250114T103000
DTEND;TZID=Asia/Shanghai:20250114T130000
DTSTAMP:20260420T041303
CREATED:20250114T225939Z
LAST-MODIFIED:20250115T042812Z
UID:13272-1736850600-1736859600@www.chonghwakl.edu.my
SUMMARY:讨论室 2 - 林义胜老师
DESCRIPTION:申请单位：English\n申请原因：Management Meeting\n使用者：林义胜老师
URL:https://www.chonghwakl.edu.my/library/event/%e8%ae%a8%e8%ae%ba%e5%ae%a4-2-%e6%9e%97%e4%b9%89%e8%83%9c/
LOCATION:讨论室 2
END:VEVENT
BEGIN:VEVENT
DTSTART;TZID=Asia/Shanghai:20250115T080000
DTEND;TZID=Asia/Shanghai:20250115T130000
DTSTAMP:20260420T041303
CREATED:20250115T042903Z
LAST-MODIFIED:20250115T042903Z
UID:13278-1736928000-1736946000@www.chonghwakl.edu.my
SUMMARY:讨论室 2 - 林义胜老师
DESCRIPTION:申请单位：English\n申请原因：Management Meeting\n使用者：林义胜老师
URL:https://www.chonghwakl.edu.my/library/event/%e8%ae%a8%e8%ae%ba%e5%ae%a4-2-%e6%9e%97%e4%b9%89%e8%83%9c%e8%80%81%e5%b8%88/
LOCATION:讨论室 2
END:VEVENT
BEGIN:VEVENT
DTSTART;TZID=Asia/Shanghai:20250213T073000
DTEND;TZID=Asia/Shanghai:20250213T152000
DTSTAMP:20260420T041303
CREATED:20250117T040354Z
LAST-MODIFIED:20250117T040354Z
UID:13282-1739431800-1739460000@www.chonghwakl.edu.my
SUMMARY:综合厅 - 图书馆学会
DESCRIPTION:申请单位：资源中心 图书馆学会\n申请原因：图书馆学会培训营\n使用者：20位管理员
URL:https://www.chonghwakl.edu.my/library/event/%e7%bb%bc%e5%90%88%e5%8e%85-%e5%9b%be%e4%b9%a6%e9%a6%86%e5%ad%a6%e4%bc%9a-14/
LOCATION:综合厅
END:VEVENT
BEGIN:VEVENT
DTSTART;TZID=Asia/Shanghai:20250214T073000
DTEND;TZID=Asia/Shanghai:20250214T152000
DTSTAMP:20260420T041303
CREATED:20250117T041008Z
LAST-MODIFIED:20250117T041008Z
UID:13284-1739518200-1739546400@www.chonghwakl.edu.my
SUMMARY:综合厅 - 图书馆学会
DESCRIPTION:申请单位：资源中心 图书馆学会\n申请原因：图书馆学会培训营\n使用者：20位管理员
URL:https://www.chonghwakl.edu.my/library/event/%e7%bb%bc%e5%90%88%e5%8e%85-%e5%9b%be%e4%b9%a6%e9%a6%86%e5%ad%a6%e4%bc%9a-15/
LOCATION:综合厅
END:VEVENT
BEGIN:VEVENT
DTSTART;TZID=Asia/Shanghai:20250221T080000
DTEND;TZID=Asia/Shanghai:20250221T170000
DTSTAMP:20260420T041303
CREATED:20250219T053328Z
LAST-MODIFIED:20250219T055908Z
UID:13430-1740124800-1740157200@www.chonghwakl.edu.my
SUMMARY:综合厅 - 教职研修处 (新手教师系列培训课程)
DESCRIPTION:申请单位：教职研修处\n申请原因：华文独中新手教师系列培训课程\n使用者：9位教师
URL:https://www.chonghwakl.edu.my/library/event/%e7%bb%bc%e5%90%88%e5%8e%85-%e6%95%99%e8%81%8c%e7%a0%94%e4%bf%ae%e5%a4%84-%e6%96%b0%e6%89%8b%e6%95%99%e5%b8%88%e7%b3%bb%e5%88%97%e5%9f%b9%e8%ae%ad%e8%af%be%e7%a8%8b/
LOCATION:综合厅
END:VEVENT
BEGIN:VEVENT
DTSTART;TZID=Asia/Shanghai:20250301T080000
DTEND;TZID=Asia/Shanghai:20250301T133000
DTSTAMP:20260420T041303
CREATED:20250228T064315Z
LAST-MODIFIED:20250228T064315Z
UID:13489-1740816000-1740835800@www.chonghwakl.edu.my
SUMMARY:讨论室 3 - 林嫒婷老师
DESCRIPTION:申请单位：历史科\n申请原因：上网课（初三和、初三智、高一文商仁）\n使用者：林嫒婷老师
URL:https://www.chonghwakl.edu.my/library/event/%e8%ae%a8%e8%ae%ba%e5%ae%a4-3-%e6%9e%97%e5%ab%92%e5%a9%b7%e8%80%81%e5%b8%88-4/
LOCATION:讨论室 3
END:VEVENT
BEGIN:VEVENT
DTSTART;TZID=Asia/Shanghai:20250305T153000
DTEND;TZID=Asia/Shanghai:20250305T164500
DTSTAMP:20260420T041303
CREATED:20250304T005520Z
LAST-MODIFIED:20250304T011345Z
UID:13493-1741188600-1741193100@www.chonghwakl.edu.my
SUMMARY:综合厅 - 图书馆学会
DESCRIPTION:申请单位：图书馆学会\n申请原因：图书馆学会迎新日彩排\n使用者：图书馆学会会员
URL:https://www.chonghwakl.edu.my/library/event/%e7%bb%bc%e5%90%88%e5%8e%85-%e5%9b%be%e4%b9%a6%e9%a6%86%e5%ad%a6%e4%bc%9a-16/
LOCATION:综合厅
END:VEVENT
BEGIN:VEVENT
DTSTART;TZID=Asia/Shanghai:20250306T121500
DTEND;TZID=Asia/Shanghai:20250306T125000
DTSTAMP:20260420T041303
CREATED:20250306T032846Z
LAST-MODIFIED:20250306T032846Z
UID:13504-1741263300-1741265400@www.chonghwakl.edu.my
SUMMARY:讨论室 1 - 马锦源老师
DESCRIPTION:申请单位：初一佳\n申请原因：班务讨论\n使用者：马锦源老师 和大约 8 位学生
URL:https://www.chonghwakl.edu.my/library/event/%e8%ae%a8%e8%ae%ba%e5%ae%a4-1-%e9%a9%ac%e9%94%a6%e6%ba%90%e8%80%81%e5%b8%88/
LOCATION:讨论室 1
END:VEVENT
BEGIN:VEVENT
DTSTART;TZID=Asia/Shanghai:20250306T153000
DTEND;TZID=Asia/Shanghai:20250306T164500
DTSTAMP:20260420T041303
CREATED:20250304T005719Z
LAST-MODIFIED:20250304T011205Z
UID:13495-1741275000-1741279500@www.chonghwakl.edu.my
SUMMARY:综合厅 - 图书馆学会
DESCRIPTION:申请单位：图书馆学会\n申请原因：图书馆学会 点算资产\n使用者：图书馆学会会员
URL:https://www.chonghwakl.edu.my/library/event/%e7%bb%bc%e5%90%88%e5%8e%85-%e5%9b%be%e4%b9%a6%e9%a6%86%e5%ad%a6%e4%bc%9a-17/
LOCATION:综合厅
END:VEVENT
BEGIN:VEVENT
DTSTART;TZID=Asia/Shanghai:20250308T125500
DTEND;TZID=Asia/Shanghai:20250308T145000
DTSTAMP:20260420T041303
CREATED:20250306T091350Z
LAST-MODIFIED:20250306T091350Z
UID:13506-1741438500-1741445400@www.chonghwakl.edu.my
SUMMARY:综合厅 - 图书馆学会
DESCRIPTION:申请单位：图书馆学会\n申请原因：图书馆学会 点算资产\n使用者：图书馆学会会员
URL:https://www.chonghwakl.edu.my/library/event/%e7%bb%bc%e5%90%88%e5%8e%85-%e5%9b%be%e4%b9%a6%e9%a6%86%e5%ad%a6%e4%bc%9a-18/
LOCATION:综合厅
END:VEVENT
BEGIN:VEVENT
DTSTART;TZID=Asia/Shanghai:20250310T153000
DTEND;TZID=Asia/Shanghai:20250310T164500
DTSTAMP:20260420T041303
CREATED:20250311T004737Z
LAST-MODIFIED:20250311T004737Z
UID:13510-1741620600-1741625100@www.chonghwakl.edu.my
SUMMARY:讨论室 2 - 张嘉娴老师
DESCRIPTION:申请单位：商科\n申请原因：课后练习 5AC Xin\n使用者：张嘉娴老师
URL:https://www.chonghwakl.edu.my/library/event/%e8%ae%a8%e8%ae%ba%e5%ae%a4-2-%e5%bc%a0%e5%98%89%e5%a8%b4%e8%80%81%e5%b8%88/
LOCATION:讨论室 2
END:VEVENT
BEGIN:VEVENT
DTSTART;TZID=Asia/Shanghai:20250311T121500
DTEND;TZID=Asia/Shanghai:20250311T125500
DTSTAMP:20260420T041303
CREATED:20250304T045917Z
LAST-MODIFIED:20250304T045917Z
UID:13501-1741695300-1741697700@www.chonghwakl.edu.my
SUMMARY:讨论室 1 - Cikgu Nurul Dalina
DESCRIPTION:申请单位：Pendidikan Islam\n申请原因：Megajar\n使用者：Cikgu Nurul Dalina
URL:https://www.chonghwakl.edu.my/library/event/%e8%ae%a8%e8%ae%ba%e5%ae%a4-1-cikgu-nurul-dalina/
LOCATION:讨论室 1
END:VEVENT
BEGIN:VEVENT
DTSTART;TZID=Asia/Shanghai:20250311T125500
DTEND;TZID=Asia/Shanghai:20250311T132500
DTSTAMP:20260420T041303
CREATED:20250219T053528Z
LAST-MODIFIED:20250311T005419Z
UID:13432-1741697700-1741699500@www.chonghwakl.edu.my
SUMMARY:综合厅 - 图书馆学会
DESCRIPTION:申请单位：图书馆学会\n申请原因：排场地桌椅 (12/03/2025图书馆学会迎新日)\n使用者：图书馆学会会员
URL:https://www.chonghwakl.edu.my/library/event/%e7%bb%bc%e5%90%88%e5%8e%85-%e6%95%99%e8%81%8c%e7%a0%94%e4%bf%ae%e5%a4%84-%e6%96%b0%e6%89%8b%e6%95%99%e5%b8%88%e7%b3%bb%e5%88%97%e5%9f%b9%e8%ae%ad%e8%af%be%e7%a8%8b-2/
LOCATION:综合厅
END:VEVENT
BEGIN:VEVENT
DTSTART;TZID=Asia/Shanghai:20250312T153000
DTEND;TZID=Asia/Shanghai:20250312T164500
DTSTAMP:20260420T041303
CREATED:20250311T004957Z
LAST-MODIFIED:20250311T004957Z
UID:13513-1741793400-1741797900@www.chonghwakl.edu.my
SUMMARY:综合厅 - 图书馆学会
DESCRIPTION:申请单位：图书馆学会\n申请原因：图书馆学会迎新日\n使用者：图书馆学会会员
URL:https://www.chonghwakl.edu.my/library/event/%e7%bb%bc%e5%90%88%e5%8e%85-%e5%9b%be%e4%b9%a6%e9%a6%86%e5%ad%a6%e4%bc%9a-19/
LOCATION:综合厅
END:VEVENT
END:VCALENDAR