BEGIN:VCALENDAR
VERSION:2.0
PRODID:-//吉隆坡中华独立中学资源中心 - ECPv6.5.1.6//NONSGML v1.0//EN
CALSCALE:GREGORIAN
METHOD:PUBLISH
X-WR-CALNAME:吉隆坡中华独立中学资源中心
X-ORIGINAL-URL:https://www.chonghwakl.edu.my/library
X-WR-CALDESC:Events for 吉隆坡中华独立中学资源中心
REFRESH-INTERVAL;VALUE=DURATION:PT1H
X-Robots-Tag:noindex
X-PUBLISHED-TTL:PT1H
BEGIN:VTIMEZONE
TZID:Asia/Shanghai
BEGIN:STANDARD
TZOFFSETFROM:+0800
TZOFFSETTO:+0800
TZNAME:CST
DTSTART:20230101T000000
END:STANDARD
END:VTIMEZONE
BEGIN:VEVENT
DTSTART;TZID=Asia/Shanghai:20230130T122500
DTEND;TZID=Asia/Shanghai:20230130T143000
DTSTAMP:20260423T054755
CREATED:20230130T060042Z
LAST-MODIFIED:20230130T060042Z
UID:7131-1675081500-1675089000@www.chonghwakl.edu.my
SUMMARY:讨论室 1 -蔡忠霖 老师与 4 位学生
DESCRIPTION:申请单位：数学\n申请原因：补课\n使用者：\n蔡忠霖老师、\n4位学生 (1 林晋而180347 、2 冯薇颖180134 、3 高婧昕180601、4 王沁慈180291)
URL:https://www.chonghwakl.edu.my/library/event/%e8%ae%a8%e8%ae%ba%e5%ae%a4-1-%e8%94%a1%e5%bf%a0%e9%9c%96-%e8%80%81%e5%b8%88%e4%b8%8e-4-%e4%bd%8d%e5%ad%a6%e7%94%9f/
LOCATION:讨论室 1
END:VEVENT
BEGIN:VEVENT
DTSTART;TZID=Asia/Shanghai:20230130T153000
DTEND;TZID=Asia/Shanghai:20230130T164500
DTSTAMP:20260423T054755
CREATED:20230130T021645Z
LAST-MODIFIED:20230131T005326Z
UID:7126-1675092600-1675097100@www.chonghwakl.edu.my
SUMMARY:讨论室 2 - 唐碧云老师与 4位学生
DESCRIPTION:申请单位：二十四节令鼓学会\n申请原因：集训营会议\n使用者：\n唐碧云老师、\n筹委 4位学生 (1 郑健琳190935 、2 温振杰190105 、3 陈欣190749、4 谭玮豪190377 )
URL:https://www.chonghwakl.edu.my/library/event/7126/
LOCATION:讨论室 2
END:VEVENT
BEGIN:VEVENT
DTSTART;TZID=Asia/Shanghai:20230131T082500
DTEND;TZID=Asia/Shanghai:20230131T102500
DTSTAMP:20260423T054755
CREATED:20230131T010300Z
LAST-MODIFIED:20230131T010300Z
UID:7135-1675153500-1675160700@www.chonghwakl.edu.my
SUMMARY:讨论室 3 - 曹潔瑩 老师
DESCRIPTION:申请单位：华文课、历国科\n申请原因：讨论户外教学事项\n使用者：曹潔瑩老师、陈靖轩老师
URL:https://www.chonghwakl.edu.my/library/event/%e8%ae%a8%e8%ae%ba%e5%ae%a4-3-%e6%9b%b9%e6%bd%94%e7%91%a9-%e8%80%81%e5%b8%88/
LOCATION:讨论室 3
END:VEVENT
BEGIN:VEVENT
DTSTART;TZID=Asia/Shanghai:20230202T123000
DTEND;TZID=Asia/Shanghai:20230202T141500
DTSTAMP:20260423T054755
CREATED:20230202T050331Z
LAST-MODIFIED:20230202T071354Z
UID:7137-1675341000-1675347300@www.chonghwakl.edu.my
SUMMARY:讨论室 1 - 蔡忠霖老师 与 5位学生
DESCRIPTION:申请单位：数学\n申请原因：讨论作业\n使用者：\n蔡忠霖老师、\n4位学生 (1 连祎180520 、2 叶彦扬180627 、3 高婧昕180601、4 陈韦静180747、5 江振维180827)
URL:https://www.chonghwakl.edu.my/library/event/%e8%ae%a8%e8%ae%ba%e5%ae%a4-1-%e8%94%a1%e5%bf%a0%e9%9c%96%e8%80%81%e5%b8%88-%e4%b8%8e-5%e4%bd%8d%e5%ad%a6%e7%94%9f/
LOCATION:讨论室 1
END:VEVENT
BEGIN:VEVENT
DTSTART;TZID=Asia/Shanghai:20230203T094500
DTEND;TZID=Asia/Shanghai:20230203T101000
DTSTAMP:20260423T054755
CREATED:20230203T011149Z
LAST-MODIFIED:20230203T011149Z
UID:7140-1675417500-1675419000@www.chonghwakl.edu.my
SUMMARY:讨论室 1 - 陈靖轩 老师 与 5位老师
DESCRIPTION:申请单位：陈靖轩\n申请原因：谈户外教学\n使用者：1 陈靖轩老师、2 张颖德老师、3 许亿商老师、4 曹洁莹老师、5 Ms.Sabrina 老师、6 苏韦利老师.
URL:https://www.chonghwakl.edu.my/library/event/%e8%ae%a8%e8%ae%ba%e5%ae%a4-1-%e9%99%88%e9%9d%96%e8%bd%a9-%e8%80%81%e5%b8%88-%e4%b8%8e-5%e4%bd%8d%e8%80%81%e5%b8%88/
LOCATION:讨论室 1
END:VEVENT
BEGIN:VEVENT
DTSTART;TZID=Asia/Shanghai:20230203T153000
DTEND;TZID=Asia/Shanghai:20230203T164500
DTSTAMP:20260423T054755
CREATED:20230130T021958Z
LAST-MODIFIED:20230203T074444Z
UID:7129-1675438200-1675442700@www.chonghwakl.edu.my
SUMMARY:讨论室 2 - 唐碧云老师 与 3位学生
DESCRIPTION:申请单位：二十四节令鼓学会\n申请原因：集训营会议\n使用者：\n唐碧云老师、\n筹委 3位学生
URL:https://www.chonghwakl.edu.my/library/event/%e8%ae%a8%e8%ae%ba%e5%ae%a4-2-%e5%94%90%e7%a2%a7%e4%ba%91%e8%80%81%e5%b8%88-%e4%b8%8e-3%e4%bd%8d%e5%ad%a6%e7%94%9f/
LOCATION:讨论室 2
END:VEVENT
BEGIN:VEVENT
DTSTART;TZID=Asia/Shanghai:20230204T083000
DTEND;TZID=Asia/Shanghai:20230204T223000
DTSTAMP:20260423T054755
CREATED:20230204T032016Z
LAST-MODIFIED:20230211T011847Z
UID:7151-1675499400-1675549800@www.chonghwakl.edu.my
SUMMARY:讨论室 2 - 李遴杰 老师
DESCRIPTION:申请单位：李遴杰\n申请原因：与学生讨论学业\n使用者：李遴杰老师
URL:https://www.chonghwakl.edu.my/library/event/%e8%ae%a8%e8%ae%ba%e5%ae%a4-2-%e6%9d%8e%e9%81%b4%e6%9d%b0-%e8%80%81%e5%b8%88-2/
LOCATION:讨论室 2
END:VEVENT
BEGIN:VEVENT
DTSTART;TZID=Asia/Shanghai:20230207T074500
DTEND;TZID=Asia/Shanghai:20230207T085500
DTSTAMP:20260423T054755
CREATED:20230207T000254Z
LAST-MODIFIED:20230207T000254Z
UID:7154-1675755900-1675760100@www.chonghwakl.edu.my
SUMMARY:讨论室 1 - Cikgu Endon 与 2位学生
DESCRIPTION:申请单位：Bahasa Malaysia\n申请原因：Ulang kaji SPM\n使用者：\nCikgu Endon、\n2位学生 （1 WONG YIXIN 180901、2 LOH CHAI WEN 180361）
URL:https://www.chonghwakl.edu.my/library/event/%e8%ae%a8%e8%ae%ba%e5%ae%a4-1-cikgu-endon-%e4%b8%8e-2%e4%bd%8d%e5%ad%a6%e7%94%9f/
LOCATION:讨论室 1
END:VEVENT
BEGIN:VEVENT
DTSTART;TZID=Asia/Shanghai:20230207T101000
DTEND;TZID=Asia/Shanghai:20230207T120000
DTSTAMP:20260423T054755
CREATED:20230207T000421Z
LAST-MODIFIED:20230208T001915Z
UID:7156-1675764600-1675771200@www.chonghwakl.edu.my
SUMMARY:讨论室 1 - Cikgu Endon 与 2 位学生
DESCRIPTION:申请单位：Bahasa Malaysia\n申请原因：Ulang kaji SPM\n使用者：\nCikgu Endon、\n2位学生 （1 WONG YIXIN 180901、2 LOH CHAI WEN 180361）
URL:https://www.chonghwakl.edu.my/library/event/%e8%ae%a8%e8%ae%ba%e5%ae%a4-1-cikgu-endon/
LOCATION:讨论室 1
END:VEVENT
BEGIN:VEVENT
DTSTART;TZID=Asia/Shanghai:20230208T081500
DTEND;TZID=Asia/Shanghai:20230208T110000
DTSTAMP:20260423T054755
CREATED:20230208T002223Z
LAST-MODIFIED:20230208T003250Z
UID:7159-1675844100-1675854000@www.chonghwakl.edu.my
SUMMARY:讨论室 3 - Cikgu Endon 与 3位学生
DESCRIPTION:申请单位：Bahasa Malaysia\n申请原因：Ulang kaji SPM\n使用者：\nCikgu Endon、\n3位学生 （1 WONG YIXIN 180901、2 LOH CHAI WEN 180361、3 BERNADETTE KIM DEVASAHAYAM 180428  ）
URL:https://www.chonghwakl.edu.my/library/event/%e8%ae%a8%e8%ae%ba%e5%ae%a4-3-cikgu-endon-%e4%b8%8e-3%e4%bd%8d%e5%ad%a6%e7%94%9f/
LOCATION:讨论室 3
END:VEVENT
BEGIN:VEVENT
DTSTART;TZID=Asia/Shanghai:20230211T090000
DTEND;TZID=Asia/Shanghai:20230211T120000
DTSTAMP:20260423T054755
CREATED:20230211T012042Z
LAST-MODIFIED:20230211T012042Z
UID:7214-1676106000-1676116800@www.chonghwakl.edu.my
SUMMARY:讨论室 3 - 陈靖轩老师
DESCRIPTION:申请单位：历国\n申请原因：教师培训\n使用者：陈靖轩老师
URL:https://www.chonghwakl.edu.my/library/event/%e8%ae%a8%e8%ae%ba%e5%ae%a4-3-%e9%99%88%e9%9d%96%e8%bd%a9%e8%80%81%e5%b8%88/
LOCATION:讨论室 3
END:VEVENT
BEGIN:VEVENT
DTSTART;TZID=Asia/Shanghai:20230216T120000
DTEND;TZID=Asia/Shanghai:20230216T140000
DTSTAMP:20260423T054755
CREATED:20230216T041555Z
LAST-MODIFIED:20230216T041555Z
UID:7400-1676548800-1676556000@www.chonghwakl.edu.my
SUMMARY:讨论室 2 - 何春兴老师与 7位学生
DESCRIPTION:申请单位：商科\n申请原因：补课\n使用者：何春兴老师与 7位学生
URL:https://www.chonghwakl.edu.my/library/event/%e8%ae%a8%e8%ae%ba%e5%ae%a4-2-%e4%bd%95%e6%98%a5%e5%85%b4%e8%80%81%e5%b8%88%e4%b8%8e-7%e4%bd%8d%e5%ad%a6%e7%94%9f/
LOCATION:讨论室 2
END:VEVENT
BEGIN:VEVENT
DTSTART;TZID=Asia/Shanghai:20230317T100000
DTEND;TZID=Asia/Shanghai:20230317T133000
DTSTAMP:20260423T054755
CREATED:20230315T043649Z
LAST-MODIFIED:20230315T043649Z
UID:7442-1679047200-1679059800@www.chonghwakl.edu.my
SUMMARY:综合厅 - 图书馆学会
DESCRIPTION:申请单位：图书馆学会\n申请原因：进行执委培训日课程\n使用者：图书馆学会执委团  共 18人
URL:https://www.chonghwakl.edu.my/library/event/%e7%bb%bc%e5%90%88%e5%8e%85-%e5%9b%be%e4%b9%a6%e9%a6%86%e5%ad%a6%e4%bc%9a-6/
LOCATION:综合厅
END:VEVENT
BEGIN:VEVENT
DTSTART;TZID=Asia/Shanghai:20230324T153000
DTEND;TZID=Asia/Shanghai:20230324T164000
DTSTAMP:20260423T054755
CREATED:20230324T025848Z
LAST-MODIFIED:20230324T073320Z
UID:7638-1679671800-1679676000@www.chonghwakl.edu.my
SUMMARY:讨论室 3 - 唐碧云老师与 6位学生
DESCRIPTION:申请单位：二十四节令鼓学会\n申请原因：执委会议\n使用者：\n唐碧云老师、6位学生
URL:https://www.chonghwakl.edu.my/library/event/%e8%ae%a8%e8%ae%ba%e5%ae%a4-3-%e5%94%90%e7%a2%a7%e4%ba%91%e8%80%81%e5%b8%88%e4%b8%8e-3%e4%bd%8d%e5%ad%a6%e7%94%9f/
LOCATION:讨论室 3
END:VEVENT
BEGIN:VEVENT
DTSTART;TZID=Asia/Shanghai:20230517T142000
DTEND;TZID=Asia/Shanghai:20230517T163000
DTSTAMP:20260423T054755
CREATED:20230517T023738Z
LAST-MODIFIED:20230517T023845Z
UID:8022-1684333200-1684341000@www.chonghwakl.edu.my
SUMMARY:讨论室 2 - 陈靖轩 老师 与 6位学生
DESCRIPTION:申请单位：历国\n申请原因：讨论班务\n使用者：\n陈靖轩老师、6位学生
URL:https://www.chonghwakl.edu.my/library/event/%e8%ae%a8%e8%ae%ba%e5%ae%a4-2-%e9%99%88%e9%9d%96%e8%bd%a9-%e5%b8%88-%e4%b8%8e-6%e4%bd%8d%e5%ad%a6%e7%94%9f/
LOCATION:讨论室 2
END:VEVENT
BEGIN:VEVENT
DTSTART;TZID=Asia/Shanghai:20230523T153500
DTEND;TZID=Asia/Shanghai:20230523T164000
DTSTAMP:20260423T054755
CREATED:20230523T010752Z
LAST-MODIFIED:20230523T010752Z
UID:8098-1684856100-1684860000@www.chonghwakl.edu.my
SUMMARY:讨论室 2 - 唐碧云老师与6位学生
DESCRIPTION:申请单位：二十四节令鼓学会\n申请原因：执委会议\n使用者：\n唐碧云老师、6位学生
URL:https://www.chonghwakl.edu.my/library/event/%e8%ae%a8%e8%ae%ba%e5%ae%a4-2-%e5%94%90%e7%a2%a7%e4%ba%91%e8%80%81%e5%b8%88%e4%b8%8e6%e4%bd%8d%e5%ad%a6%e7%94%9f/
LOCATION:讨论室 2
END:VEVENT
BEGIN:VEVENT
DTSTART;TZID=Asia/Shanghai:20230526T085500
DTEND;TZID=Asia/Shanghai:20230526T215500
DTSTAMP:20260423T054755
CREATED:20230526T015635Z
LAST-MODIFIED:20230526T015635Z
UID:8108-1685091300-1685138100@www.chonghwakl.edu.my
SUMMARY:讨论室 2 - 苏婷凤老师
DESCRIPTION:申请单位：商科\n申请原因：会计学作业簿第一册会议(Online\, 与董总课程局)\n使用者：苏婷凤老师
URL:https://www.chonghwakl.edu.my/library/event/%e8%ae%a8%e8%ae%ba%e5%ae%a4-2-%e8%8b%8f%e5%a9%b7%e5%87%a4%e8%80%81%e5%b8%88/
LOCATION:讨论室 2
END:VEVENT
BEGIN:VEVENT
DTSTART;TZID=Asia/Shanghai:20230527T093000
DTEND;TZID=Asia/Shanghai:20230527T110000
DTSTAMP:20260423T054755
CREATED:20230526T073752Z
LAST-MODIFIED:20230526T073752Z
UID:8110-1685179800-1685185200@www.chonghwakl.edu.my
SUMMARY:讨论室 3 - 周桓如 (贩卖部学生助理)
DESCRIPTION:申请单位：贩卖部学生助理\n申请原因：大学面试 (网上面试)\n使用者：周桓如 S00459
URL:https://www.chonghwakl.edu.my/library/event/%e8%ae%a8%e8%ae%ba%e5%ae%a4-3-%e5%91%a8%e6%a1%93%e5%a6%82-%e8%b4%a9%e5%8d%96%e9%83%a8%e5%ad%a6%e7%94%9f%e5%8a%a9%e7%90%86/
LOCATION:讨论室 3
END:VEVENT
BEGIN:VEVENT
DTSTART;TZID=Asia/Shanghai:20230610T080000
DTEND;TZID=Asia/Shanghai:20230610T130000
DTSTAMP:20260423T054755
CREATED:20230608T055954Z
LAST-MODIFIED:20230608T055954Z
UID:8161-1686384000-1686402000@www.chonghwakl.edu.my
SUMMARY:综合厅 - 竞赛处
DESCRIPTION:申请单位：竞赛处\n申请原因：华教常识比赛培训\n使用者：林媛婷老师，参赛学生共 39位
URL:https://www.chonghwakl.edu.my/library/event/%e7%bb%bc%e5%90%88%e5%8e%85-%e7%ab%9e%e8%b5%9b%e5%a4%84/
LOCATION:综合厅
END:VEVENT
BEGIN:VEVENT
DTSTART;TZID=Asia/Shanghai:20230613T073000
DTEND;TZID=Asia/Shanghai:20230615T152000
DTSTAMP:20260423T054755
CREATED:20230612T020710Z
LAST-MODIFIED:20230612T020710Z
UID:8274-1686641400-1686842400@www.chonghwakl.edu.my
SUMMARY:阅览室、综合厅、讨论室 - MUET 口试
DESCRIPTION:申请单位：\n申请原因：MUET 口试\n使用者：
URL:https://www.chonghwakl.edu.my/library/event/%e9%98%85%e8%a7%88%e5%ae%a4%e3%80%81%e7%bb%bc%e5%90%88%e5%8e%85%e3%80%81%e8%ae%a8%e8%ae%ba%e5%ae%a4-muet-%e5%8f%a3%e8%af%95/
LOCATION:综合厅
END:VEVENT
BEGIN:VEVENT
DTSTART;TZID=Asia/Shanghai:20230616T073000
DTEND;TZID=Asia/Shanghai:20230616T120000
DTSTAMP:20260423T054755
CREATED:20230612T021607Z
LAST-MODIFIED:20230612T021607Z
UID:8280-1686900600-1686916800@www.chonghwakl.edu.my
SUMMARY:综合厅 - 曾湘凌 老师
DESCRIPTION:申请单位：历史组\n申请原因：2023 国际中学生 陈嘉庚常识比赛\n使用者：老师与学生大约 30人
URL:https://www.chonghwakl.edu.my/library/event/%e7%bb%bc%e5%90%88%e5%8e%85-%e6%9b%be%e6%b9%98%e5%87%8c-%e8%80%81%e5%b8%88-2/
LOCATION:综合厅
END:VEVENT
BEGIN:VEVENT
DTSTART;TZID=Asia/Shanghai:20230616T092000
DTEND;TZID=Asia/Shanghai:20230616T221000
DTSTAMP:20260423T054755
CREATED:20230609T045605Z
LAST-MODIFIED:20230616T013624Z
UID:8163-1686907200-1686953400@www.chonghwakl.edu.my
SUMMARY:讨论室 1 - 林凯丽老师
DESCRIPTION:申请单位：电脑科\n申请原因：上网课\n使用者：林凯丽老师
URL:https://www.chonghwakl.edu.my/library/event/%e8%ae%a8%e8%ae%ba%e5%ae%a4-3-%e5%95%86%e7%a7%91%e8%80%81%e5%b8%88/
LOCATION:讨论室 1
END:VEVENT
BEGIN:VEVENT
DTSTART;TZID=Asia/Shanghai:20230619T073000
DTEND;TZID=Asia/Shanghai:20230621T152000
DTSTAMP:20260423T054755
CREATED:20230612T020855Z
LAST-MODIFIED:20230612T020915Z
UID:8276-1687159800-1687360800@www.chonghwakl.edu.my
SUMMARY:阅览室、综合厅、讨论室 - MUET 口试
DESCRIPTION:申请单位：\n申请原因：MUET 口试\n使用者：
URL:https://www.chonghwakl.edu.my/library/event/%e9%98%85%e8%a7%88%e5%ae%a4%e3%80%81%e7%bb%bc%e5%90%88%e5%8e%85%e3%80%81%e8%ae%a8%e8%ae%ba%e5%ae%a4-muet-%e5%8f%a3%e8%af%95-2/
LOCATION:综合厅
END:VEVENT
BEGIN:VEVENT
DTSTART;TZID=Asia/Shanghai:20230620T080000
DTEND;TZID=Asia/Shanghai:20230624T150000
DTSTAMP:20260423T054755
CREATED:20230620T041124Z
LAST-MODIFIED:20230620T041507Z
UID:8291-1687248000-1687618800@www.chonghwakl.edu.my
SUMMARY:讨论室 2 - 陈芝嘉老师
DESCRIPTION:申请单位：教职研修处/电脑\n申请原因：准备论文\n使用者：陈芝嘉老师，上课时间会离开讨论室
URL:https://www.chonghwakl.edu.my/library/event/%e8%ae%a8%e8%ae%ba%e5%ae%a4-2-%e9%99%88%e8%8a%9d%e5%98%89%e8%80%81%e5%b8%88/
LOCATION:讨论室 2
END:VEVENT
BEGIN:VEVENT
DTSTART;TZID=Asia/Shanghai:20230706T075000
DTEND;TZID=Asia/Shanghai:20230715T152000
DTSTAMP:20260423T054755
CREATED:20230705T054632Z
LAST-MODIFIED:20230705T054632Z
UID:8340-1688629800-1689434400@www.chonghwakl.edu.my
SUMMARY:讨论室 1 - 华罗庚杯 数学比赛参赛学生
DESCRIPTION:申请单位：学术竞赛处\n申请原因：华罗庚杯 数学比赛备赛\n使用者：华罗庚杯 参赛学生共 11人
URL:https://www.chonghwakl.edu.my/library/event/%e8%ae%a8%e8%ae%ba%e5%ae%a4-1-%e5%8d%8e%e7%bd%97%e5%ba%9a%e6%9d%af-%e6%95%b0%e5%ad%a6%e6%af%94%e8%b5%9b%e5%8f%82%e8%b5%9b%e5%ad%a6%e7%94%9f/
LOCATION:讨论室 1
END:VEVENT
BEGIN:VEVENT
DTSTART;TZID=Asia/Shanghai:20230708T083000
DTEND;TZID=Asia/Shanghai:20230708T100000
DTSTAMP:20260423T054755
CREATED:20230708T030359Z
LAST-MODIFIED:20230708T030359Z
UID:8398-1688805000-1688810400@www.chonghwakl.edu.my
SUMMARY:讨论室 3 - 张嘉慧老师
DESCRIPTION:申请单位：数学\n申请原因：上网课\n使用者：张嘉慧老师
URL:https://www.chonghwakl.edu.my/library/event/%e8%ae%a8%e8%ae%ba%e5%ae%a4-3-%e5%bc%a0%e5%98%89%e6%85%a7%e8%80%81%e5%b8%88/
LOCATION:讨论室 3
END:VEVENT
BEGIN:VEVENT
DTSTART;TZID=Asia/Shanghai:20230708T083000
DTEND;TZID=Asia/Shanghai:20230708T150000
DTSTAMP:20260423T054755
CREATED:20230708T024251Z
LAST-MODIFIED:20230708T024251Z
UID:8394-1688805000-1688828400@www.chonghwakl.edu.my
SUMMARY:讨论室 2 - 许维存老师
DESCRIPTION:申请单位：数学\n申请原因：线上补课\n使用者：许维存老师
URL:https://www.chonghwakl.edu.my/library/event/%e8%ae%a8%e8%ae%ba%e5%ae%a4-2-%e8%ae%b8%e7%bb%b4%e5%ad%98%e8%80%81%e5%b8%88/
LOCATION:讨论室 2
END:VEVENT
BEGIN:VEVENT
DTSTART;TZID=Asia/Shanghai:20230708T100000
DTEND;TZID=Asia/Shanghai:20230708T120000
DTSTAMP:20260423T054755
CREATED:20230708T025823Z
LAST-MODIFIED:20230708T025823Z
UID:8396-1688810400-1688817600@www.chonghwakl.edu.my
SUMMARY:讨论室 1 - 蔡正发老师
DESCRIPTION:申请单位：数学\n申请原因：上网课\n使用者：蔡正发老师
URL:https://www.chonghwakl.edu.my/library/event/%e8%ae%a8%e8%ae%ba%e5%ae%a4-1-%e8%94%a1%e6%ad%a3%e5%8f%91%e8%80%81%e5%b8%88/
LOCATION:讨论室 1
END:VEVENT
BEGIN:VEVENT
DTSTART;TZID=Asia/Shanghai:20230713T153000
DTEND;TZID=Asia/Shanghai:20230713T164500
DTSTAMP:20260423T054755
CREATED:20230712T073526Z
LAST-MODIFIED:20230712T073526Z
UID:8450-1689262200-1689266700@www.chonghwakl.edu.my
SUMMARY:讨论室 1 - 蔡正发老师
DESCRIPTION:申请单位：数学组\n申请原因：与学生讨论考题\n使用者：蔡正发老师
URL:https://www.chonghwakl.edu.my/library/event/%e8%ae%a8%e8%ae%ba%e5%ae%a4-1-%e8%94%a1%e6%ad%a3%e5%8f%91%e8%80%81%e5%b8%88-2/
LOCATION:讨论室 1
END:VEVENT
BEGIN:VEVENT
DTSTART;TZID=Asia/Shanghai:20230714T080000
DTEND;TZID=Asia/Shanghai:20230714T093000
DTSTAMP:20260423T054755
CREATED:20230715T032506Z
LAST-MODIFIED:20230715T032506Z
UID:8454-1689321600-1689327000@www.chonghwakl.edu.my
SUMMARY:讨论室 2 - 陈芝嘉老师
DESCRIPTION:申请单位：\n申请原因：硕士论文口试\n使用者：陈芝嘉老师
URL:https://www.chonghwakl.edu.my/library/event/%e8%ae%a8%e8%ae%ba%e5%ae%a4-2-%e9%99%88%e8%8a%9d%e5%98%89%e8%80%81%e5%b8%88-2/
LOCATION:讨论室 2
END:VEVENT
END:VCALENDAR