BEGIN:VCALENDAR
VERSION:2.0
PRODID:-//吉隆坡中华独立中学资源中心 - ECPv6.5.1.6//NONSGML v1.0//EN
CALSCALE:GREGORIAN
METHOD:PUBLISH
X-WR-CALNAME:吉隆坡中华独立中学资源中心
X-ORIGINAL-URL:https://www.chonghwakl.edu.my/library
X-WR-CALDESC:Events for 吉隆坡中华独立中学资源中心
REFRESH-INTERVAL;VALUE=DURATION:PT1H
X-Robots-Tag:noindex
X-PUBLISHED-TTL:PT1H
BEGIN:VTIMEZONE
TZID:Asia/Shanghai
BEGIN:STANDARD
TZOFFSETFROM:+0800
TZOFFSETTO:+0800
TZNAME:CST
DTSTART:20220101T000000
END:STANDARD
END:VTIMEZONE
BEGIN:VEVENT
DTSTART;TZID=Asia/Shanghai:20220921T153000
DTEND;TZID=Asia/Shanghai:20220921T164500
DTSTAMP:20260423T061525
CREATED:20220921T053424Z
LAST-MODIFIED:20220921T053424Z
UID:5818-1663774200-1663778700@www.chonghwakl.edu.my
SUMMARY:综合厅 - 图书馆学会
DESCRIPTION:申请单位：图书馆学会 ，陈旭尧 180019 高二理忠 (此次遴选负责人)\n申请原因：2022年 图书馆学会组长遴选面试\n使用者：图书馆管理员 共 11人
URL:https://www.chonghwakl.edu.my/library/event/%e7%bb%bc%e5%90%88%e5%8e%85-%e5%9b%be%e4%b9%a6%e9%a6%86%e5%ad%a6%e4%bc%9a-3/
LOCATION:综合厅
END:VEVENT
BEGIN:VEVENT
DTSTART;TZID=Asia/Shanghai:20220926T153000
DTEND;TZID=Asia/Shanghai:20220926T164500
DTSTAMP:20260423T061525
CREATED:20220921T053709Z
LAST-MODIFIED:20220921T053709Z
UID:5820-1664206200-1664210700@www.chonghwakl.edu.my
SUMMARY:综合厅 - 图书馆学会
DESCRIPTION:申请单位：图书馆学会 ，陈旭尧 180019 高二理忠 (此次遴选负责人)\n申请原因：2022年 图书馆学会组长遴选面试\n使用者：图书馆管理员 共 11人
URL:https://www.chonghwakl.edu.my/library/event/%e7%bb%bc%e5%90%88%e5%8e%85-%e5%9b%be%e4%b9%a6%e9%a6%86%e5%ad%a6%e4%bc%9a-4/
LOCATION:综合厅
END:VEVENT
BEGIN:VEVENT
DTSTART;TZID=Asia/Shanghai:20220927T153000
DTEND;TZID=Asia/Shanghai:20220927T164500
DTSTAMP:20260423T061525
CREATED:20220922T051736Z
LAST-MODIFIED:20220922T052054Z
UID:5822-1664292600-1664297100@www.chonghwakl.edu.my
SUMMARY:综合厅 - 图书馆学会
DESCRIPTION:申请单位：图书馆学会 ，陈旭尧 180019 高二理忠 (此次遴选负责人)\n申请原因：2022年 图书馆学会组长遴选面试\n使用者：图书馆管理员 共 11人
URL:https://www.chonghwakl.edu.my/library/event/%e7%bb%bc%e5%90%88%e5%8e%85-%e5%9b%be%e4%b9%a6%e9%a6%86%e5%ad%a6%e4%bc%9a-5/
LOCATION:综合厅
END:VEVENT
BEGIN:VEVENT
DTSTART;TZID=Asia/Shanghai:20220928T140500
DTEND;TZID=Asia/Shanghai:20220928T144500
DTSTAMP:20260423T061525
CREATED:20220927T072949Z
LAST-MODIFIED:20220927T072949Z
UID:5872-1664373900-1664376300@www.chonghwakl.edu.my
SUMMARY:讨论室 1 - 苏婷凤 老师
DESCRIPTION:申请单位：商科\n申请原因：zoom meeting\n使用者：苏婷凤 老师
URL:https://www.chonghwakl.edu.my/library/event/%e8%ae%a8%e8%ae%ba%e5%ae%a4-1-%e8%8b%8f%e5%a9%b7%e5%87%a4-%e8%80%81%e5%b8%88/
LOCATION:讨论室 1
END:VEVENT
BEGIN:VEVENT
DTSTART;TZID=Asia/Shanghai:20220930T153000
DTEND;TZID=Asia/Shanghai:20220930T160000
DTSTAMP:20260423T061525
CREATED:20220930T075429Z
LAST-MODIFIED:20220930T075609Z
UID:6007-1664551800-1664553600@www.chonghwakl.edu.my
SUMMARY:讨论室 1 - 陈劲平老师 与 9位学生
DESCRIPTION:申请单位：化学\n申请原因：讨论习题\n使用者：\n陈劲平老师、\n9位学生(1 林绮鑫 190248 高一理爱、2 万恩彤、3 颜嫝瑢、4 余倞忻、5 郑茜桦、6 简杏庭、7 白宁、8 林依欣、9 傅扬凯)
URL:https://www.chonghwakl.edu.my/library/event/6007/
LOCATION:讨论室 1
END:VEVENT
BEGIN:VEVENT
DTSTART;TZID=Asia/Shanghai:20221015T100000
DTEND;TZID=Asia/Shanghai:20221015T120000
DTSTAMP:20260423T061525
CREATED:20221013T014426Z
LAST-MODIFIED:20221013T014426Z
UID:6062-1665828000-1665835200@www.chonghwakl.edu.my
SUMMARY:讨论室 3 - 唐碧云 老师 与 6 位学会执委
DESCRIPTION:申请单位：二十四节令鼓学会\n申请原因：讨论学会会务\n使用者：唐碧云老师 与 6 位学会执委
URL:https://www.chonghwakl.edu.my/library/event/%e8%ae%a8%e8%ae%ba%e5%ae%a4-3-%e5%94%90%e7%a2%a7%e4%ba%91-%e8%80%81%e5%b8%88-%e4%b8%8e-6-%e4%bd%8d%e5%ad%a6%e4%bc%9a%e6%89%a7%e5%a7%94/
LOCATION:讨论室 3
END:VEVENT
BEGIN:VEVENT
DTSTART;TZID=Asia/Shanghai:20221105T090000
DTEND;TZID=Asia/Shanghai:20221105T143000
DTSTAMP:20260423T061525
CREATED:20221101T044256Z
LAST-MODIFIED:20221101T044256Z
UID:6257-1667638800-1667658600@www.chonghwakl.edu.my
SUMMARY:综合厅 - 华文组
DESCRIPTION:申请单位：华文组\n申请原因：评阅入学试考卷\n使用者：华文科教师 –大约40人
URL:https://www.chonghwakl.edu.my/library/event/%e7%bb%bc%e5%90%88%e5%8e%85-%e5%8d%8e%e6%96%87%e7%bb%84/
LOCATION:综合厅
END:VEVENT
BEGIN:VEVENT
DTSTART;TZID=Asia/Shanghai:20221105T105000
DTEND;TZID=Asia/Shanghai:20221105T130000
DTSTAMP:20260423T061525
CREATED:20221105T003317Z
LAST-MODIFIED:20221105T061055Z
UID:6260-1667645400-1667653200@www.chonghwakl.edu.my
SUMMARY:讨论室 3 - 苏婷凤 老师
DESCRIPTION:申请单位：商科\n申请原因：网课  (5AC爱)\n使用者：苏婷凤老师 与一位学生，一起上课。
URL:https://www.chonghwakl.edu.my/library/event/%e8%ae%a8%e8%ae%ba%e5%ae%a4-3-%e8%8b%8f%e5%a9%b7%e5%87%a4-%e8%80%81%e5%b8%88/
LOCATION:讨论室 3
END:VEVENT
BEGIN:VEVENT
DTSTART;TZID=Asia/Shanghai:20221107T100000
DTEND;TZID=Asia/Shanghai:20221107T113000
DTSTAMP:20260423T061525
CREATED:20221107T015953Z
LAST-MODIFIED:20221107T015953Z
UID:6264-1667815200-1667820600@www.chonghwakl.edu.my
SUMMARY:讨论室 2 - 邱娜娜 老师
DESCRIPTION:申请单位：商科\n申请原因：网课\n使用者：邱娜娜 老师
URL:https://www.chonghwakl.edu.my/library/event/%e8%ae%a8%e8%ae%ba%e5%ae%a4-2-%e9%82%b1%e5%a8%9c%e5%a8%9c-%e8%80%81%e5%b8%88/
LOCATION:讨论室 2
END:VEVENT
BEGIN:VEVENT
DTSTART;TZID=Asia/Shanghai:20221108T080000
DTEND;TZID=Asia/Shanghai:20221108T093000
DTSTAMP:20260423T061525
CREATED:20221105T052444Z
LAST-MODIFIED:20221105T061117Z
UID:6262-1667894400-1667899800@www.chonghwakl.edu.my
SUMMARY:讨论室 3 - 苏婷凤 老师
DESCRIPTION:申请单位：商科\n申请原因：网课  (5AC Ai)\n使用者：苏婷凤 老师
URL:https://www.chonghwakl.edu.my/library/event/%e8%ae%a8%e8%ae%ba%e5%ae%a4-3-%e8%8b%8f%e5%a9%b7%e5%87%a4-%e8%80%81%e5%b8%88-2/
LOCATION:讨论室 3
END:VEVENT
BEGIN:VEVENT
DTSTART;TZID=Asia/Shanghai:20221109T110000
DTEND;TZID=Asia/Shanghai:20221109T120000
DTSTAMP:20260423T061525
CREATED:20221108T000652Z
LAST-MODIFIED:20221108T000652Z
UID:6268-1667991600-1667995200@www.chonghwakl.edu.my
SUMMARY:讨论室 2 -严燕妮 老师
DESCRIPTION:申请单位：商科\n申请原因：网课  (5AC 信)\n使用者：严燕妮 老师
URL:https://www.chonghwakl.edu.my/library/event/%e8%ae%a8%e8%ae%ba%e5%ae%a4-2-%e4%b8%a5%e7%87%95%e5%a6%ae-%e8%80%81%e5%b8%88/
LOCATION:讨论室 2
END:VEVENT
BEGIN:VEVENT
DTSTART;TZID=Asia/Shanghai:20221110T092000
DTEND;TZID=Asia/Shanghai:20221110T102000
DTSTAMP:20260423T061525
CREATED:20221110T015004Z
LAST-MODIFIED:20221110T015004Z
UID:6272-1668072000-1668075600@www.chonghwakl.edu.my
SUMMARY:讨论室 3 - 原敏仪 老师
DESCRIPTION:申请单位：地理科\n申请原因：补课\n使用者：\n苏婷凤老师 与2位学生。\n学号 170718陈庆恩 高三文商(信)，学号 170497吴凯俐 高三文商(信)。
URL:https://www.chonghwakl.edu.my/library/event/%e8%ae%a8%e8%ae%ba%e5%ae%a4-3-%e5%8e%9f%e6%95%8f%e4%bb%aa-%e8%80%81%e5%b8%88/
LOCATION:讨论室 3
END:VEVENT
BEGIN:VEVENT
DTSTART;TZID=Asia/Shanghai:20221111T011000
DTEND;TZID=Asia/Shanghai:20221111T133000
DTSTAMP:20260423T061525
CREATED:20221111T055726Z
LAST-MODIFIED:20221111T055726Z
UID:6277-1668129000-1668173400@www.chonghwakl.edu.my
SUMMARY:讨论室 3 - 陈景盛 老师
DESCRIPTION:申请单位：商科\n申请原因：补课\n使用者：\n陈景盛老师、\n5位 4AC xiao学生(1 刘啟升190858、2 刘海旋190500、3 李嘉淇190236、4 黄眷宁190407、5 许智尉190649)
URL:https://www.chonghwakl.edu.my/library/event/%e8%ae%a8%e8%ae%ba%e5%ae%a4-3-%e9%99%88%e6%99%af%e7%9b%9b-%e8%80%81%e5%b8%88/
LOCATION:讨论室 3
END:VEVENT
BEGIN:VEVENT
DTSTART;TZID=Asia/Shanghai:20221111T090000
DTEND;TZID=Asia/Shanghai:20221111T103000
DTSTAMP:20260423T061525
CREATED:20221111T012158Z
LAST-MODIFIED:20221111T012158Z
UID:6275-1668157200-1668162600@www.chonghwakl.edu.my
SUMMARY:讨论室 1 - 邹雁慧 老师
DESCRIPTION:申请单位：地理科\n申请原因：教学生自然地理\n使用者：邹雁慧老师 与4位学生。（学生刘珈妤、梁颖双、黄宇歆、陈韦妤）
URL:https://www.chonghwakl.edu.my/library/event/%e8%ae%a8%e8%ae%ba%e5%ae%a4-1-%e9%82%b9%e9%9b%81%e6%85%a7-%e8%80%81%e5%b8%88/
LOCATION:讨论室 1
END:VEVENT
BEGIN:VEVENT
DTSTART;TZID=Asia/Shanghai:20221111T100000
DTEND;TZID=Asia/Shanghai:20221111T113000
DTSTAMP:20260423T061525
CREATED:20221107T234542Z
LAST-MODIFIED:20221107T234635Z
UID:6266-1668160800-1668166200@www.chonghwakl.edu.my
SUMMARY:讨论室 2 -邱娜娜 老师
DESCRIPTION:申请单位：商科\n申请原因：网课\n使用者：邱娜娜 老师
URL:https://www.chonghwakl.edu.my/library/event/%e8%ae%a8%e8%ae%ba%e5%ae%a4-2-%e9%82%b1%e5%a8%9c%e5%a8%9c-%e8%80%81%e5%b8%88-2/
LOCATION:讨论室 2
END:VEVENT
BEGIN:VEVENT
DTSTART;TZID=Asia/Shanghai:20221113T081100
DTEND;TZID=Asia/Shanghai:20221113T093000
DTSTAMP:20260423T061525
CREATED:20221114T012443Z
LAST-MODIFIED:20221114T025347Z
UID:6279-1668327060-1668331800@www.chonghwakl.edu.my
SUMMARY:讨论室 1 - 陈宝凌 老师
DESCRIPTION:申请单位：数学\n申请原因：复习\n使用者：\n陈宝凌老师、\n2位学生 (1 戴荞祤201002、2 杨永蕙200865 )
URL:https://www.chonghwakl.edu.my/library/event/%e8%ae%a8%e8%ae%ba%e5%ae%a4-1-%e9%99%88%e5%ae%9d%e5%87%8c-%e8%80%81%e5%b8%88/
LOCATION:讨论室 1
END:VEVENT
BEGIN:VEVENT
DTSTART;TZID=Asia/Shanghai:20221114T080000
DTEND;TZID=Asia/Shanghai:20221114T100000
DTSTAMP:20260423T061525
CREATED:20221114T020003Z
LAST-MODIFIED:20221114T020352Z
UID:6285-1668412800-1668420000@www.chonghwakl.edu.my
SUMMARY:讨论室 2 - 邹雁慧 老师
DESCRIPTION:申请单位：地理科\n申请原因：补课复习\n使用者：\n邹雁慧老师、\n7位学生(1 黄宇歆170916、2 陈韦妤170598、3 刘珈妤170646、4 梁颖双170490、5 林垾正170689、6 蔡毓浚161058、7 林贤济170978 )
URL:https://www.chonghwakl.edu.my/library/event/%e8%ae%a8%e8%ae%ba%e5%ae%a4-2-%e9%82%b9%e9%9b%81%e6%85%a7-%e8%80%81%e5%b8%88/
LOCATION:讨论室 2
END:VEVENT
BEGIN:VEVENT
DTSTART;TZID=Asia/Shanghai:20221114T082500
DTEND;TZID=Asia/Shanghai:20221114T095000
DTSTAMP:20260423T061525
CREATED:20221114T013659Z
LAST-MODIFIED:20221114T025242Z
UID:6282-1668414300-1668419400@www.chonghwakl.edu.my
SUMMARY:讨论室 3 - 许维存 老师
DESCRIPTION:申请单位：数学\n申请原因：复习\n使用者：\n许维存老师、\n3位学生 (1 颜若涵170829、2 黄诗原170793、3 林振铨170670 )
URL:https://www.chonghwakl.edu.my/library/event/%e8%ae%a8%e8%ae%ba%e5%ae%a4-3-%e8%ae%b8%e7%bb%b4%e5%ad%98-%e8%80%81%e5%b8%88/
LOCATION:讨论室 3
END:VEVENT
BEGIN:VEVENT
DTSTART;TZID=Asia/Shanghai:20221114T100000
DTEND;TZID=Asia/Shanghai:20221114T110000
DTSTAMP:20260423T061525
CREATED:20221114T022234Z
LAST-MODIFIED:20221114T022234Z
UID:6288-1668420000-1668423600@www.chonghwakl.edu.my
SUMMARY:讨论室 1 - 陈宝宝 老师
DESCRIPTION:申请单位：化学\n申请原因：高三备考\n使用者：\n陈宝宝老师、\n3位学生 (1 庄文泓170061、2 李乐宜170319、3 郑凌恩170321 )
URL:https://www.chonghwakl.edu.my/library/event/%e8%ae%a8%e8%ae%ba%e5%ae%a4-1-%e9%99%88%e5%ae%9d%e5%ae%9d-%e8%80%81%e5%b8%88/
LOCATION:讨论室 1
END:VEVENT
BEGIN:VEVENT
DTSTART;TZID=Asia/Shanghai:20221114T113000
DTEND;TZID=Asia/Shanghai:20221114T133000
DTSTAMP:20260423T061525
CREATED:20221114T024901Z
LAST-MODIFIED:20221114T024901Z
UID:6294-1668425400-1668432600@www.chonghwakl.edu.my
SUMMARY:讨论室 3 - 原敏仪 老师
DESCRIPTION:申请单位：地理科\n申请原因：讨论统考\n使用者：\n原敏仪老师、\n4位学生(1 陈姿宁170199、2 周桓如170093、3 锺子恩170421、4 黄奕玮170032 )
URL:https://www.chonghwakl.edu.my/library/event/%e8%ae%a8%e8%ae%ba%e5%ae%a4-3-%e5%8e%9f%e6%95%8f%e4%bb%aa-%e8%80%81%e5%b8%88-2/
LOCATION:讨论室 3
END:VEVENT
BEGIN:VEVENT
DTSTART;TZID=Asia/Shanghai:20221115T083000
DTEND;TZID=Asia/Shanghai:20221115T110000
DTSTAMP:20260423T061525
CREATED:20221114T023852Z
LAST-MODIFIED:20221115T012037Z
UID:6292-1668501000-1668510000@www.chonghwakl.edu.my
SUMMARY:综合厅 - 邹雁慧 老师与 10位学生
DESCRIPTION:申请单位：地理科\n申请原因：补课复习\n使用者：\n邹雁慧老师、\n10位学生(1 黄宇歆170916、2 陈韦妤170598、3 刘珈妤170646、4 梁颖双170490、5 林垾正170689、6 蔡毓浚161058、7 林贤济170978、 8 苏启华170794、9 关芷欣170644、10 杨杰翔170164)
URL:https://www.chonghwakl.edu.my/library/event/%e8%ae%a8%e8%ae%ba%e5%ae%a4-2-%e9%82%b9%e9%9b%81%e6%85%a7-%e8%80%81%e5%b8%88-2/
LOCATION:综合厅
END:VEVENT
BEGIN:VEVENT
DTSTART;TZID=Asia/Shanghai:20221115T110000
DTEND;TZID=Asia/Shanghai:20221115T120000
DTSTAMP:20260423T061525
CREATED:20221115T041035Z
LAST-MODIFIED:20221115T041035Z
UID:6305-1668510000-1668513600@www.chonghwakl.edu.my
SUMMARY:讨论室 1 - 谢宝琴 老师
DESCRIPTION:申请单位：生物科\n申请原因：讨论习题\n使用者：\n谢宝琴老师、\n2位学生(1 戴芷茵170703、2 陈子晴170248)
URL:https://www.chonghwakl.edu.my/library/event/%e8%ae%a8%e8%ae%ba%e5%ae%a4-1-%e8%b0%a2%e5%ae%9d%e7%90%b4-%e8%80%81%e5%b8%88/
LOCATION:讨论室 1
END:VEVENT
BEGIN:VEVENT
DTSTART;TZID=Asia/Shanghai:20221115T110000
DTEND;TZID=Asia/Shanghai:20221115T130000
DTSTAMP:20260423T061525
CREATED:20221114T022911Z
LAST-MODIFIED:20221115T025230Z
UID:6290-1668510000-1668517200@www.chonghwakl.edu.my
SUMMARY:讨论室 2 - 林义胜 老师
DESCRIPTION:申请单位：英文\n申请原因：网课\n使用者：林义胜 老师
URL:https://www.chonghwakl.edu.my/library/event/%e8%ae%a8%e8%ae%ba%e5%ae%a4-2-%e6%9e%97%e4%b9%89%e8%83%9c-%e8%80%81%e5%b8%88/
LOCATION:讨论室 2
END:VEVENT
BEGIN:VEVENT
DTSTART;TZID=Asia/Shanghai:20221115T113000
DTEND;TZID=Asia/Shanghai:20221115T123000
DTSTAMP:20260423T061525
CREATED:20221115T040646Z
LAST-MODIFIED:20221115T040646Z
UID:6303-1668511800-1668515400@www.chonghwakl.edu.my
SUMMARY:讨论室 3 -原敏仪 老师
DESCRIPTION:申请单位：地理科\n申请原因：讨论地理\n使用者：\n原敏仪老师、\n5位学生(1 苏梓轩170731、2 颜若涵170829、3 林振铨170670、4 郑弘斌170726、5 李浩铭161062)
URL:https://www.chonghwakl.edu.my/library/event/%e8%ae%a8%e8%ae%ba%e5%ae%a4-3-%e5%8e%9f%e6%95%8f%e4%bb%aa-%e8%80%81%e5%b8%88-3/
LOCATION:讨论室 3
END:VEVENT
BEGIN:VEVENT
DTSTART;TZID=Asia/Shanghai:20221116T103000
DTEND;TZID=Asia/Shanghai:20221116T123000
DTSTAMP:20260423T061525
CREATED:20221115T234637Z
LAST-MODIFIED:20221115T234637Z
UID:6307-1668594600-1668601800@www.chonghwakl.edu.my
SUMMARY:讨论室 2 - 李遴杰 老师
DESCRIPTION:申请单位：商科\n申请原因：网课  (6AC孝、6C孝)\n使用者：李遴杰 老师
URL:https://www.chonghwakl.edu.my/library/event/%e8%ae%a8%e8%ae%ba%e5%ae%a4-2-%e6%9d%8e%e9%81%b4%e6%9d%b0-%e8%80%81%e5%b8%88/
LOCATION:讨论室 2
END:VEVENT
BEGIN:VEVENT
DTSTART;TZID=Asia/Shanghai:20221116T125000
DTEND;TZID=Asia/Shanghai:20221116T140500
DTSTAMP:20260423T061525
CREATED:20221116T051717Z
LAST-MODIFIED:20221116T051717Z
UID:6309-1668603000-1668607500@www.chonghwakl.edu.my
SUMMARY:讨论室 1 - 林凤菁 老师
DESCRIPTION:申请单位：物理科\n申请原因：高三物理 讨论统考\n使用者：\n林凤菁老师、\n4位学生(1 侯猷谦170173、2 蔡兆昌170516、3 陈治亨170205、4 苏顗萱170129)
URL:https://www.chonghwakl.edu.my/library/event/%e8%ae%a8%e8%ae%ba%e5%ae%a4-1-%e6%9e%97%e5%87%a4%e8%8f%81-%e8%80%81%e5%b8%88/
LOCATION:讨论室 1
END:VEVENT
BEGIN:VEVENT
DTSTART;TZID=Asia/Shanghai:20221117T081000
DTEND;TZID=Asia/Shanghai:20221117T210000
DTSTAMP:20260423T061525
CREATED:20221117T002821Z
LAST-MODIFIED:20221117T002821Z
UID:6446-1668672600-1668718800@www.chonghwakl.edu.my
SUMMARY:讨论室 1 - 陈宝宝 老师
DESCRIPTION:申请单位：化学\n申请原因：讨论功课\n使用者：\n陈宝宝老师、\n2位学生 (1 黄千倪170189、2 汪昱诚170171 )
URL:https://www.chonghwakl.edu.my/library/event/%e8%ae%a8%e8%ae%ba%e5%ae%a4-1-%e9%99%88%e5%ae%9d%e5%ae%9d-%e8%80%81%e5%b8%88-2/
LOCATION:讨论室 1
END:VEVENT
BEGIN:VEVENT
DTSTART;TZID=Asia/Shanghai:20221121T090000
DTEND;TZID=Asia/Shanghai:20221121T120000
DTSTAMP:20260423T061525
CREATED:20221117T041925Z
LAST-MODIFIED:20221117T042256Z
UID:6457-1669021200-1669032000@www.chonghwakl.edu.my
SUMMARY:讨论室 2 - Cikgu NUR ELLYSHA ERYANI
DESCRIPTION:申请单位：B.M\n申请原因：Peperiksaan\n使用者：Cikgu NUR ELLYSHA ERYANI
URL:https://www.chonghwakl.edu.my/library/event/%e8%ae%a8%e8%ae%ba%e5%ae%a4-2-cikgu-nur-ellysha-eryani/
LOCATION:讨论室 2
END:VEVENT
BEGIN:VEVENT
DTSTART;TZID=Asia/Shanghai:20221121T100000
DTEND;TZID=Asia/Shanghai:20221121T120000
DTSTAMP:20260423T061525
CREATED:20221121T015544Z
LAST-MODIFIED:20221121T015544Z
UID:6462-1669024800-1669032000@www.chonghwakl.edu.my
SUMMARY:讨论室 1 - 许维存 老师
DESCRIPTION:申请单位：数学\n申请原因：上网课  (4AC zhong)\n使用者：许维存 老师
URL:https://www.chonghwakl.edu.my/library/event/%e8%ae%a8%e8%ae%ba%e5%ae%a4-1-%e8%ae%b8%e7%bb%b4%e5%ad%98-%e8%80%81%e5%b8%88/
LOCATION:讨论室 1
END:VEVENT
BEGIN:VEVENT
DTSTART;TZID=Asia/Shanghai:20221122T093000
DTEND;TZID=Asia/Shanghai:20221122T120000
DTSTAMP:20260423T061525
CREATED:20221122T011241Z
LAST-MODIFIED:20221122T012002Z
UID:6474-1669109400-1669118400@www.chonghwakl.edu.my
SUMMARY:讨论室 2 - 严燕妮 老师
DESCRIPTION:申请单位：商科\n申请原因：zoom recording  (5AC 信)\n使用者：严燕妮 老师
URL:https://www.chonghwakl.edu.my/library/event/%e8%ae%a8%e8%ae%ba%e5%ae%a4-2-%e4%b8%a5%e7%87%95%e5%a6%ae-%e8%80%81%e5%b8%88-2/
LOCATION:讨论室 2
END:VEVENT
END:VCALENDAR