BEGIN:VCALENDAR
VERSION:2.0
PRODID:-//吉隆坡中华独立中学资源中心 - ECPv6.5.1.6//NONSGML v1.0//EN
CALSCALE:GREGORIAN
METHOD:PUBLISH
X-WR-CALNAME:吉隆坡中华独立中学资源中心
X-ORIGINAL-URL:https://www.chonghwakl.edu.my/library
X-WR-CALDESC:Events for 吉隆坡中华独立中学资源中心
REFRESH-INTERVAL;VALUE=DURATION:PT1H
X-Robots-Tag:noindex
X-PUBLISHED-TTL:PT1H
BEGIN:VTIMEZONE
TZID:Asia/Shanghai
BEGIN:STANDARD
TZOFFSETFROM:+0800
TZOFFSETTO:+0800
TZNAME:CST
DTSTART:20240101T000000
END:STANDARD
END:VTIMEZONE
BEGIN:VEVENT
DTSTART;TZID=Asia/Shanghai:20240904T013000
DTEND;TZID=Asia/Shanghai:20240904T152000
DTSTAMP:20260422T070640
CREATED:20240812T064218Z
LAST-MODIFIED:20240812T064840Z
UID:12203-1725413400-1725463200@www.chonghwakl.edu.my
SUMMARY:综合厅 - 学术竞赛处  (refer 李綵厤老师)
DESCRIPTION:申请单位：学术竞赛处\n申请原因：进行逢甲杯书法比赛\n使用者：参阅附录 (学生公假名单，共 28人)
URL:https://www.chonghwakl.edu.my/library/event/%e7%bb%bc%e5%90%88%e5%8e%85-%e5%ad%a6%e6%9c%af%e7%ab%9e%e8%b5%9b%e5%a4%84-refer-%e6%9d%8e%e7%b6%b5%e5%8e%a4%e8%80%81%e5%b8%88/
LOCATION:综合厅
END:VEVENT
BEGIN:VEVENT
DTSTART;TZID=Asia/Shanghai:20240828T153500
DTEND;TZID=Asia/Shanghai:20240828T164500
DTSTAMP:20260422T070640
CREATED:20240826T230833Z
LAST-MODIFIED:20240826T230833Z
UID:12394-1724859300-1724863500@www.chonghwakl.edu.my
SUMMARY:综合厅 - 图书馆学会
DESCRIPTION:申请单位：图书馆学会\n申请原因：组长遴选\n使用者：图书馆学会管理员 (refer 学号 210728 梁蕙妍)
URL:https://www.chonghwakl.edu.my/library/event/%e7%bb%bc%e5%90%88%e5%8e%85-%e5%9b%be%e4%b9%a6%e9%a6%86%e5%ad%a6%e4%bc%9a-13/
LOCATION:综合厅
END:VEVENT
BEGIN:VEVENT
DTSTART;TZID=Asia/Shanghai:20240824T083000
DTEND;TZID=Asia/Shanghai:20240824T113000
DTSTAMP:20260422T070640
CREATED:20240817T025855Z
LAST-MODIFIED:20240817T025855Z
UID:12262-1724488200-1724499000@www.chonghwakl.edu.my
SUMMARY:讨论室 2 - 曾丽丽老师
DESCRIPTION:申请单位：历史\n申请原因：线上课程 “伊斯兰教”\n使用者：曾丽丽老师
URL:https://www.chonghwakl.edu.my/library/event/%e8%ae%a8%e8%ae%ba%e5%ae%a4-2-%e6%9b%be%e4%b8%bd%e4%b8%bd%e8%80%81%e5%b8%88-3/
LOCATION:讨论室 2
END:VEVENT
BEGIN:VEVENT
DTSTART;TZID=Asia/Shanghai:20240824T080000
DTEND;TZID=Asia/Shanghai:20240824T100000
DTSTAMP:20260422T070640
CREATED:20240807T021459Z
LAST-MODIFIED:20240807T021459Z
UID:12165-1724486400-1724493600@www.chonghwakl.edu.my
SUMMARY:讨论室 3 - 曹洁莹老师
DESCRIPTION:申请单位：SPM 中国文学\n申请原因：SPM 中国文学 线上课程\n使用者：曹洁莹老师
URL:https://www.chonghwakl.edu.my/library/event/%e8%ae%a8%e8%ae%ba%e5%ae%a4-3-%e6%9b%b9%e6%b4%81%e8%8e%b9%e8%80%81%e5%b8%88-2/
LOCATION:讨论室 3
END:VEVENT
BEGIN:VEVENT
DTSTART;TZID=Asia/Shanghai:20240817T100000
DTEND;TZID=Asia/Shanghai:20240817T130000
DTSTAMP:20260422T070640
CREATED:20240817T024350Z
LAST-MODIFIED:20240817T024350Z
UID:12257-1723888800-1723899600@www.chonghwakl.edu.my
SUMMARY:讨论室 1 - Crystal Kong
DESCRIPTION:申请单位：Department of English Language\n申请原因：MGT Meeting for Department\n使用者：Teachers
URL:https://www.chonghwakl.edu.my/library/event/%e8%ae%a8%e8%ae%ba%e5%ae%a4-1-crystal-kong/
LOCATION:讨论室 1
END:VEVENT
BEGIN:VEVENT
DTSTART;TZID=Asia/Shanghai:20240817T093000
DTEND;TZID=Asia/Shanghai:20240817T110000
DTSTAMP:20260422T070640
CREATED:20240816T041056Z
LAST-MODIFIED:20240817T023934Z
UID:12254-1723887000-1723892400@www.chonghwakl.edu.my
SUMMARY:讨论室 2 - 李佳倚老师
DESCRIPTION:申请单位：英文\n申请原因：上网课 (英文 4S Ren)\n使用者：李佳倚老师
URL:https://www.chonghwakl.edu.my/library/event/%e8%ae%a8%e8%ae%ba%e5%ae%a4-2-%e6%9d%8e%e4%bd%b3%e5%80%9a%e8%80%81%e5%b8%88/
LOCATION:讨论室 2
END:VEVENT
BEGIN:VEVENT
DTSTART;TZID=Asia/Shanghai:20240817T083000
DTEND;TZID=Asia/Shanghai:20240817T113000
DTSTAMP:20260422T070640
CREATED:20240817T025803Z
LAST-MODIFIED:20240817T025803Z
UID:12260-1723883400-1723894200@www.chonghwakl.edu.my
SUMMARY:讨论室 3 - 曾丽丽老师
DESCRIPTION:申请单位：历史\n申请原因：线上课程 “伊斯兰教”\n使用者：曾丽丽老师
URL:https://www.chonghwakl.edu.my/library/event/%e8%ae%a8%e8%ae%ba%e5%ae%a4-3-%e6%9b%be%e4%b8%bd%e4%b8%bd%e8%80%81%e5%b8%88/
LOCATION:讨论室 3
END:VEVENT
BEGIN:VEVENT
DTSTART;TZID=Asia/Shanghai:20240816T075000
DTEND;TZID=Asia/Shanghai:20240816T121500
DTSTAMP:20260422T070640
CREATED:20240808T074608Z
LAST-MODIFIED:20240808T074608Z
UID:12190-1723794600-1723810500@www.chonghwakl.edu.my
SUMMARY:讨论室 1 - 学术竞赛处
DESCRIPTION:申请单位：学术竞赛处\n申请原因：2024年雪隆中学华罗庚数学比赛，高中与初中组训练\n使用者：24位学生，请见附录
URL:https://www.chonghwakl.edu.my/library/event/%e8%ae%a8%e8%ae%ba%e5%ae%a4-1-%e5%ad%a6%e6%9c%af%e7%ab%9e%e8%b5%9b%e5%a4%84-6/
LOCATION:讨论室 1
END:VEVENT
BEGIN:VEVENT
DTSTART;TZID=Asia/Shanghai:20240815T113500
DTEND;TZID=Asia/Shanghai:20240815T152000
DTSTAMP:20260422T070640
CREATED:20240808T074507Z
LAST-MODIFIED:20240808T074507Z
UID:12188-1723721700-1723735200@www.chonghwakl.edu.my
SUMMARY:讨论室 1 - 学术竞赛处
DESCRIPTION:申请单位：学术竞赛处\n申请原因：2024年雪隆中学华罗庚数学比赛，高中与初中组训练\n使用者：24位学生，请见附录
URL:https://www.chonghwakl.edu.my/library/event/%e8%ae%a8%e8%ae%ba%e5%ae%a4-1-%e5%ad%a6%e6%9c%af%e7%ab%9e%e8%b5%9b%e5%a4%84-5/
LOCATION:讨论室 1
END:VEVENT
BEGIN:VEVENT
DTSTART;TZID=Asia/Shanghai:20240814T153000
DTEND;TZID=Asia/Shanghai:20240814T164000
DTSTAMP:20260422T070640
CREATED:20240808T000954Z
LAST-MODIFIED:20240808T001051Z
UID:12177-1723649400-1723653600@www.chonghwakl.edu.my
SUMMARY:综合厅 - 图书馆学会
DESCRIPTION:申请单位：图书馆学会\n申请原因：进行学会活动\n使用者：图书馆学会管理员 (refer 学号 210848 林艳欣)
URL:https://www.chonghwakl.edu.my/library/event/%e7%bb%bc%e5%90%88%e5%8e%85-%e5%9b%be%e4%b9%a6%e9%a6%86%e5%ad%a6%e4%bc%9a-11/
LOCATION:综合厅
END:VEVENT
BEGIN:VEVENT
DTSTART;TZID=Asia/Shanghai:20240814T113500
DTEND;TZID=Asia/Shanghai:20240814T152000
DTSTAMP:20260422T070640
CREATED:20240808T074412Z
LAST-MODIFIED:20240808T074412Z
UID:12186-1723635300-1723648800@www.chonghwakl.edu.my
SUMMARY:讨论室 1 - 学术竞赛处
DESCRIPTION:申请单位：学术竞赛处\n申请原因：2024年雪隆中学华罗庚数学比赛，高中与初中组训练\n使用者：24位学生，请见附录
URL:https://www.chonghwakl.edu.my/library/event/%e8%ae%a8%e8%ae%ba%e5%ae%a4-1-%e5%ad%a6%e6%9c%af%e7%ab%9e%e8%b5%9b%e5%a4%84-4/
LOCATION:讨论室 1
END:VEVENT
BEGIN:VEVENT
DTSTART;TZID=Asia/Shanghai:20240813T075000
DTEND;TZID=Asia/Shanghai:20240813T121500
DTSTAMP:20260422T070640
CREATED:20240808T074141Z
LAST-MODIFIED:20240808T074141Z
UID:12184-1723535400-1723551300@www.chonghwakl.edu.my
SUMMARY:讨论室 1 - 学术竞赛处
DESCRIPTION:申请单位：学术竞赛处\n申请原因：2024年雪隆中学华罗庚数学比赛，高中与初中组训练\n使用者：24位学生，请见附录
URL:https://www.chonghwakl.edu.my/library/event/%e8%ae%a8%e8%ae%ba%e5%ae%a4-1-%e5%ad%a6%e6%9c%af%e7%ab%9e%e8%b5%9b%e5%a4%84-3/
LOCATION:讨论室 1
END:VEVENT
BEGIN:VEVENT
DTSTART;TZID=Asia/Shanghai:20240812T075000
DTEND;TZID=Asia/Shanghai:20240812T121500
DTSTAMP:20260422T070640
CREATED:20240808T074011Z
LAST-MODIFIED:20240808T074011Z
UID:12182-1723449000-1723464900@www.chonghwakl.edu.my
SUMMARY:讨论室 1 - 学术竞赛处
DESCRIPTION:申请单位：学术竞赛处\n申请原因：2024年雪隆中学华罗庚数学比赛，高中与初中组训练\n使用者：24位学生，请见附录
URL:https://www.chonghwakl.edu.my/library/event/%e8%ae%a8%e8%ae%ba%e5%ae%a4-1-%e5%ad%a6%e6%9c%af%e7%ab%9e%e8%b5%9b%e5%a4%84-2/
LOCATION:讨论室 1
END:VEVENT
BEGIN:VEVENT
DTSTART;TZID=Asia/Shanghai:20240810T091500
DTEND;TZID=Asia/Shanghai:20240810T111500
DTSTAMP:20260422T070640
CREATED:20240810T020704Z
LAST-MODIFIED:20240810T020704Z
UID:12199-1723281300-1723288500@www.chonghwakl.edu.my
SUMMARY:讨论室 1 - 刘慧君老师
DESCRIPTION:申请单位：英文科\n申请原因：英文科会议 (主任和副主任)\n使用者：刘慧君老师
URL:https://www.chonghwakl.edu.my/library/event/%e8%ae%a8%e8%ae%ba%e5%ae%a4-1-%e5%88%98%e6%85%a7%e5%90%9b%e8%80%81%e5%b8%88/
LOCATION:讨论室 1
END:VEVENT
BEGIN:VEVENT
DTSTART;TZID=Asia/Shanghai:20240810T080000
DTEND;TZID=Asia/Shanghai:20240810T120000
DTSTAMP:20260422T070640
CREATED:20240809T071540Z
LAST-MODIFIED:20240809T071540Z
UID:12197-1723276800-1723291200@www.chonghwakl.edu.my
SUMMARY:讨论室 2 - 陈宝宝老师
DESCRIPTION:申请单位：科学 (化学)\n申请原因：线上补课\n使用者：陈宝宝老师
URL:https://www.chonghwakl.edu.my/library/event/%e8%ae%a8%e8%ae%ba%e5%ae%a4-2-%e9%99%88%e5%ae%9d%e5%ae%9d%e8%80%81%e5%b8%88/
LOCATION:讨论室 2
END:VEVENT
BEGIN:VEVENT
DTSTART;TZID=Asia/Shanghai:20240810T080000
DTEND;TZID=Asia/Shanghai:20240810T100000
DTSTAMP:20260422T070640
CREATED:20240807T021404Z
LAST-MODIFIED:20240807T021404Z
UID:12163-1723276800-1723284000@www.chonghwakl.edu.my
SUMMARY:讨论室 3 - 曹洁莹老师
DESCRIPTION:申请单位：SPM 中国文学\n申请原因：SPM 中国文学 线上课程\n使用者：曹洁莹老师
URL:https://www.chonghwakl.edu.my/library/event/%e8%ae%a8%e8%ae%ba%e5%ae%a4-3-%e6%9b%b9%e6%b4%81%e8%8e%b9%e8%80%81%e5%b8%88/
LOCATION:讨论室 3
END:VEVENT
BEGIN:VEVENT
DTSTART;TZID=Asia/Shanghai:20240809T153000
DTEND;TZID=Asia/Shanghai:20240809T164000
DTSTAMP:20260422T070640
CREATED:20240809T004633Z
LAST-MODIFIED:20240809T004633Z
UID:12192-1723217400-1723221600@www.chonghwakl.edu.my
SUMMARY:综合厅 - 图书馆学会
DESCRIPTION:申请单位：图书馆学会\n申请原因：进行学会活动彩排\n使用者： 图书馆学会管理员 (refer 学号 210191 陈柔桦)
URL:https://www.chonghwakl.edu.my/library/event/%e7%bb%bc%e5%90%88%e5%8e%85-%e5%9b%be%e4%b9%a6%e9%a6%86%e5%ad%a6%e4%bc%9a-12/
LOCATION:综合厅
END:VEVENT
BEGIN:VEVENT
DTSTART;TZID=Asia/Shanghai:20240809T092500
DTEND;TZID=Asia/Shanghai:20240809T103000
DTSTAMP:20260422T070640
CREATED:20240809T043453Z
LAST-MODIFIED:20240809T043453Z
UID:12195-1723195500-1723199400@www.chonghwakl.edu.my
SUMMARY:讨论室 2 - Crystal Kong 江思莹老师
DESCRIPTION:申请单位：Dept of English Language\n申请原因： Meeting (Management of Department)\n使用者：3 Teachers
URL:https://www.chonghwakl.edu.my/library/event/%e8%ae%a8%e8%ae%ba%e5%ae%a4-2-crystal-kong-%e6%b1%9f%e6%80%9d%e8%8e%b9%e8%80%81%e5%b8%88/
LOCATION:讨论室 2
END:VEVENT
BEGIN:VEVENT
DTSTART;TZID=Asia/Shanghai:20240809T075000
DTEND;TZID=Asia/Shanghai:20240809T121500
DTSTAMP:20260422T070640
CREATED:20240808T070831Z
LAST-MODIFIED:20240808T070831Z
UID:12180-1723189800-1723205700@www.chonghwakl.edu.my
SUMMARY:讨论室 1 - 学术竞赛处
DESCRIPTION:申请单位：学术竞赛处\n申请原因：2024年雪隆中学华罗庚数学比赛，高中与初中组训练\n使用者：24位学生，请见附录
URL:https://www.chonghwakl.edu.my/library/event/%e8%ae%a8%e8%ae%ba%e5%ae%a4-1-%e5%ad%a6%e6%9c%af%e7%ab%9e%e8%b5%9b%e5%a4%84/
LOCATION:讨论室 1
END:VEVENT
BEGIN:VEVENT
DTSTART;TZID=Asia/Shanghai:20240806T130000
DTEND;TZID=Asia/Shanghai:20240806T141000
DTSTAMP:20260422T070640
CREATED:20240805T012354Z
LAST-MODIFIED:20240805T012354Z
UID:12160-1722949200-1722953400@www.chonghwakl.edu.my
SUMMARY:讨论室  2 - 岑雁如老师
DESCRIPTION:申请单位：岑雁如老师\n申请原因：讨论高二试卷 Skema\n使用者：8 至 10 位商科老师
URL:https://www.chonghwakl.edu.my/library/event/%e8%ae%a8%e8%ae%ba%e5%ae%a4-2-%e5%b2%91%e9%9b%81%e5%a6%82%e8%80%81%e5%b8%88-3/
LOCATION:讨论室 2
END:VEVENT
BEGIN:VEVENT
DTSTART;TZID=Asia/Shanghai:20240805T130000
DTEND;TZID=Asia/Shanghai:20240805T141000
DTSTAMP:20260422T070640
CREATED:20240805T012250Z
LAST-MODIFIED:20240805T012250Z
UID:12158-1722862800-1722867000@www.chonghwakl.edu.my
SUMMARY:讨论室 2 - 岑雁如老师
DESCRIPTION:申请单位：岑雁如老师\n申请原因：讨论高二试卷 Skema\n使用者：8 至 10 位商科老师
URL:https://www.chonghwakl.edu.my/library/event/%e8%ae%a8%e8%ae%ba%e5%ae%a4-2-%e5%b2%91%e9%9b%81%e5%a6%82%e8%80%81%e5%b8%88-2/
LOCATION:讨论室 2
END:VEVENT
BEGIN:VEVENT
DTSTART;TZID=Asia/Shanghai:20240801T132000
DTEND;TZID=Asia/Shanghai:20240801T141000
DTSTAMP:20260422T070640
CREATED:20240730T055900Z
LAST-MODIFIED:20240730T055900Z
UID:12144-1722518400-1722521400@www.chonghwakl.edu.my
SUMMARY:讨论室 2 - 严燕妮老师
DESCRIPTION:申请单位：严燕妮老师\n申请原因：讨论高二试卷 Skema\n使用者：8 至 10 位商科老师
URL:https://www.chonghwakl.edu.my/library/event/%e8%ae%a8%e8%ae%ba%e5%ae%a4-2-%e4%b8%a5%e7%87%95%e5%a6%ae%e8%80%81%e5%b8%88-5/
LOCATION:讨论室 2
END:VEVENT
BEGIN:VEVENT
DTSTART;TZID=Asia/Shanghai:20240801T083000
DTEND;TZID=Asia/Shanghai:20240801T093000
DTSTAMP:20260422T070640
CREATED:20240801T004202Z
LAST-MODIFIED:20240801T004202Z
UID:12152-1722501000-1722504600@www.chonghwakl.edu.my
SUMMARY:讨论室 3 - 陈雪芬老师
DESCRIPTION:申请单位：商科\n申请原因：录音 (教导学生做习题)\n使用者：陈雪芬老师
URL:https://www.chonghwakl.edu.my/library/event/%e8%ae%a8%e8%ae%ba%e5%ae%a4-3-%e9%99%88%e9%9b%aa%e8%8a%ac%e8%80%81%e5%b8%88/
LOCATION:讨论室 3
END:VEVENT
BEGIN:VEVENT
DTSTART;TZID=Asia/Shanghai:20240718T153000
DTEND;TZID=Asia/Shanghai:20240718T165000
DTSTAMP:20260422T070640
CREATED:20240715T233804Z
LAST-MODIFIED:20240715T233804Z
UID:11971-1721316600-1721321400@www.chonghwakl.edu.my
SUMMARY:综合厅 - 图书馆学会
DESCRIPTION:申请单位：图书馆学会主席团\n申请原因：图书馆学会主席团遴选\n使用者：9 人 (refer 学号 190029 张熠恩)
URL:https://www.chonghwakl.edu.my/library/event/%e7%bb%bc%e5%90%88%e5%8e%85-%e5%9b%be%e4%b9%a6%e9%a6%86%e5%ad%a6%e4%bc%9a-10/
LOCATION:综合厅
END:VEVENT
BEGIN:VEVENT
DTSTART;TZID=Asia/Shanghai:20240713T080000
DTEND;TZID=Asia/Shanghai:20240713T130000
DTSTAMP:20260422T070640
CREATED:20240620T051750Z
LAST-MODIFIED:20240620T060821Z
UID:11627-1720857600-1720875600@www.chonghwakl.edu.my
SUMMARY:综合厅 - 岑雁如老师
DESCRIPTION:申请单位：岑雁如老师\n申请原因：阅读课\n使用者：师生
URL:https://www.chonghwakl.edu.my/library/event/%e7%bb%bc%e5%90%88%e5%8e%85-%e6%95%99%e8%81%8c%e7%a0%94%e4%bf%ae%e5%a4%84-2/
LOCATION:综合厅
END:VEVENT
BEGIN:VEVENT
DTSTART;TZID=Asia/Shanghai:20240629T080000
DTEND;TZID=Asia/Shanghai:20240629T130000
DTSTAMP:20260422T070640
CREATED:20240620T051645Z
LAST-MODIFIED:20240620T051851Z
UID:11625-1719648000-1719666000@www.chonghwakl.edu.my
SUMMARY:综合厅 - 教职研修处
DESCRIPTION:申请单位：教职研修处\n申请原因：教育学硕士学位课程\n使用者：7位老师
URL:https://www.chonghwakl.edu.my/library/event/%e7%bb%bc%e5%90%88%e5%8e%85-%e6%95%99%e8%81%8c%e7%a0%94%e4%bf%ae%e5%a4%84/
LOCATION:综合厅
END:VEVENT
BEGIN:VEVENT
DTSTART;TZID=Asia/Shanghai:20240624T080000
DTEND;TZID=Asia/Shanghai:20240624T150000
DTSTAMP:20260422T070640
CREATED:20240624T012929Z
LAST-MODIFIED:20240624T021446Z
UID:11634-1719216000-1719241200@www.chonghwakl.edu.my
SUMMARY:综合厅 - Crystal Kong 江思莹老师
DESCRIPTION:申请单位：Dept of English Studies\n申请原因：HELP University Staff\n使用者：HELP University Staff
URL:https://www.chonghwakl.edu.my/library/event/%e7%bb%bc%e5%90%88%e5%8e%85-ms-crystal-kong/
LOCATION:综合厅
END:VEVENT
BEGIN:VEVENT
DTSTART;TZID=Asia/Shanghai:20240622T105500
DTEND;TZID=Asia/Shanghai:20240622T125500
DTSTAMP:20260422T070640
CREATED:20240620T022300Z
LAST-MODIFIED:20240620T022448Z
UID:11620-1719053700-1719060900@www.chonghwakl.edu.my
SUMMARY:综合厅 - 曹洁莹老师
DESCRIPTION:申请单位：初二跨领域\n申请原因：初二跨领域：第5节～第7节(40人)\n使用者：曹洁莹老师
URL:https://www.chonghwakl.edu.my/library/event/%e7%bb%bc%e5%90%88%e5%8e%85-%e6%9b%b9%e6%b4%81%e8%8e%b9%e8%80%81%e5%b8%88-4/
LOCATION:综合厅
END:VEVENT
BEGIN:VEVENT
DTSTART;TZID=Asia/Shanghai:20240622T075000
DTEND;TZID=Asia/Shanghai:20240622T083000
DTSTAMP:20260422T070640
CREATED:20240620T022153Z
LAST-MODIFIED:20240620T022649Z
UID:11618-1719042600-1719045000@www.chonghwakl.edu.my
SUMMARY:综合厅 - 曹洁莹老师
DESCRIPTION:申请单位：阅读课\n申请原因：阅读课：第1节 (初二勤)\n使用者：曹洁莹老师
URL:https://www.chonghwakl.edu.my/library/event/%e7%bb%bc%e5%90%88%e5%8e%85-%e6%9b%b9%e6%b4%81%e8%8e%b9%e8%80%81%e5%b8%88-3/
LOCATION:综合厅
END:VEVENT
BEGIN:VEVENT
DTSTART;TZID=Asia/Shanghai:20240612T083000
DTEND;TZID=Asia/Shanghai:20240612T095000
DTSTAMP:20260422T070640
CREATED:20240611T041646Z
LAST-MODIFIED:20240611T041812Z
UID:11568-1718181000-1718185800@www.chonghwakl.edu.my
SUMMARY:讨论室 2 - 林凯丽老师
DESCRIPTION:申请单位：电脑科\n申请原因：进行采访录音(访问，Education Management)\n使用者：林凯丽老师
URL:https://www.chonghwakl.edu.my/library/event/%e8%ae%a8%e8%ae%ba%e5%ae%a4-2-%e6%9e%97%e5%87%af%e4%b8%bd%e8%80%81%e5%b8%88-2/
LOCATION:讨论室 2
END:VEVENT
END:VCALENDAR