BEGIN:VCALENDAR
VERSION:2.0
PRODID:-//吉隆坡中华独立中学资源中心 - ECPv6.5.1.6//NONSGML v1.0//EN
CALSCALE:GREGORIAN
METHOD:PUBLISH
X-WR-CALNAME:吉隆坡中华独立中学资源中心
X-ORIGINAL-URL:https://www.chonghwakl.edu.my/library
X-WR-CALDESC:Events for 吉隆坡中华独立中学资源中心
REFRESH-INTERVAL;VALUE=DURATION:PT1H
X-Robots-Tag:noindex
X-PUBLISHED-TTL:PT1H
BEGIN:VTIMEZONE
TZID:Asia/Shanghai
BEGIN:STANDARD
TZOFFSETFROM:+0800
TZOFFSETTO:+0800
TZNAME:CST
DTSTART:20230101T000000
END:STANDARD
END:VTIMEZONE
BEGIN:VEVENT
DTSTART;TZID=Asia/Shanghai:20231215T123000
DTEND;TZID=Asia/Shanghai:20231215T133000
DTSTAMP:20260422T091910
CREATED:20231215T015213Z
LAST-MODIFIED:20231215T015213Z
UID:6281-1702643400-1702647000@www.chonghwakl.edu.my
SUMMARY:综合厅 - 图书馆学会
DESCRIPTION:申请单位：图书馆学会\n申请原因：召开2024年理事会议\n使用者：学会老师 + 理事
URL:https://www.chonghwakl.edu.my/library/event/%e7%bb%bc%e5%90%88%e5%8e%85-%e5%9b%be%e4%b9%a6%e9%a6%86%e5%ad%a6%e4%bc%9a-7/
LOCATION:综合厅
END:VEVENT
BEGIN:VEVENT
DTSTART;TZID=Asia/Shanghai:20231215T101500
DTEND;TZID=Asia/Shanghai:20231215T113500
DTSTAMP:20260422T091910
CREATED:20231206T042731Z
LAST-MODIFIED:20231206T042731Z
UID:5457-1702635300-1702640100@www.chonghwakl.edu.my
SUMMARY:综合厅- 李秀兰老师 + 47位学生
DESCRIPTION:申请单位：华文组\n申请原因：阅读活动\n使用者：李秀兰老师 和 高二商忠班 47位学生
URL:https://www.chonghwakl.edu.my/library/event/%e7%bb%bc%e5%90%88%e5%8e%85-%e6%9d%8e%e7%a7%80%e5%85%b0%e8%80%81%e5%b8%88-47%e4%bd%8d%e5%ad%a6%e7%94%9f/
LOCATION:综合厅
END:VEVENT
BEGIN:VEVENT
DTSTART;TZID=Asia/Shanghai:20231214T141000
DTEND;TZID=Asia/Shanghai:20231214T144500
DTSTAMP:20260422T091910
CREATED:20231213T123145Z
LAST-MODIFIED:20231213T123200Z
UID:10393-1702563000-1702565100@www.chonghwakl.edu.my
SUMMARY:综合厅– 罗恩惠老师 + 学生
DESCRIPTION:申请单位：罗恩惠老师\n申请原因：参访 “2023年生命关爱展 一起阅读活动”\n使用者：初二义
URL:https://www.chonghwakl.edu.my/library/event/%e7%bb%bc%e5%90%88%e5%8e%85-%e9%82%b9%e6%85%a7%e8%8a%b3%e8%80%81%e5%b8%88-%e5%ad%a6%e7%94%9f-3/
LOCATION:综合厅
END:VEVENT
BEGIN:VEVENT
DTSTART;TZID=Asia/Shanghai:20231214T121500
DTEND;TZID=Asia/Shanghai:20231214T125000
DTSTAMP:20260422T091910
CREATED:20231213T122125Z
LAST-MODIFIED:20231213T123517Z
UID:10387-1702556100-1702558200@www.chonghwakl.edu.my
SUMMARY:综合厅– 邹慧芳老师 + 学生
DESCRIPTION:申请单位：邹慧芳老师\n申请原因：参访 “2023年生命关爱展 一起阅读活动”\n使用者：高一
URL:https://www.chonghwakl.edu.my/library/event/10387/
LOCATION:综合厅
END:VEVENT
BEGIN:VEVENT
DTSTART;TZID=Asia/Shanghai:20231214T091000
DTEND;TZID=Asia/Shanghai:20231214T095000
DTSTAMP:20260422T091910
CREATED:20231213T121725Z
LAST-MODIFIED:20231213T121725Z
UID:10383-1702545000-1702547400@www.chonghwakl.edu.my
SUMMARY:综合厅– 邹慧芳老师 + 学生
DESCRIPTION:申请单位：邹慧芳老师\n申请原因：参访 “2023年生命关爱展 一起阅读活动”\n使用者：初三智
URL:https://www.chonghwakl.edu.my/library/event/%e7%bb%bc%e5%90%88%e5%8e%85-%e9%82%b9%e6%85%a7%e8%8a%b3%e8%80%81%e5%b8%88-%e5%ad%a6%e7%94%9f-2/
LOCATION:综合厅
END:VEVENT
BEGIN:VEVENT
DTSTART;TZID=Asia/Shanghai:20231214T090000
DTEND;TZID=Asia/Shanghai:20231214T163000
DTSTAMP:20260422T091910
CREATED:20231130T072551Z
LAST-MODIFIED:20231130T072551Z
UID:10204-1702544400-1702571400@www.chonghwakl.edu.my
SUMMARY:综合厅 - 辅导处：2023年生命关爱展 --  一起阅读活动
DESCRIPTION:申请单位：辅导处\n申请原因：2023年生命关爱展 —  一起阅读活动\n使用者：师生
URL:https://www.chonghwakl.edu.my/library/event/%e7%bb%bc%e5%90%88%e5%8e%85-%e8%be%85%e5%af%bc%e5%a4%84%ef%bc%9a2023%e5%b9%b4%e7%94%9f%e5%91%bd%e5%85%b3%e7%88%b1%e5%b1%95-%e4%b8%80%e8%b5%b7%e9%98%85%e8%af%bb%e6%b4%bb%e5%8a%a8-3/
LOCATION:综合厅
END:VEVENT
BEGIN:VEVENT
DTSTART;TZID=Asia/Shanghai:20231214T083000
DTEND;TZID=Asia/Shanghai:20231214T091000
DTSTAMP:20260422T091910
CREATED:20231213T121533Z
LAST-MODIFIED:20231213T121533Z
UID:10381-1702542600-1702545000@www.chonghwakl.edu.my
SUMMARY:综合厅– 邹慧芳老师 + 学生
DESCRIPTION:申请单位：邹慧芳老师\n申请原因：参访 “2023年生命关爱展 一起阅读活动”\n使用者：初三平
URL:https://www.chonghwakl.edu.my/library/event/%e7%bb%bc%e5%90%88%e5%8e%85-%e9%82%b9%e6%85%a7%e8%8a%b3%e8%80%81%e5%b8%88-%e5%ad%a6%e7%94%9f/
LOCATION:综合厅
END:VEVENT
BEGIN:VEVENT
DTSTART;TZID=Asia/Shanghai:20231214T075000
DTEND;TZID=Asia/Shanghai:20231214T091000
DTSTAMP:20260422T091910
CREATED:20231213T122815Z
LAST-MODIFIED:20231213T122815Z
UID:10391-1702540200-1702545000@www.chonghwakl.edu.my
SUMMARY:综合厅– 罗恩惠老师 + 学生
DESCRIPTION:申请单位：罗恩惠老师\n申请原因：参访 “2023年生命关爱展 一起阅读活动”\n使用者：初二德
URL:https://www.chonghwakl.edu.my/library/event/%e7%bb%bc%e5%90%88%e5%8e%85-%e7%bd%97%e6%81%a9%e6%83%a0%e8%80%81%e5%b8%88-%e5%ad%a6%e7%94%9f/
LOCATION:综合厅
END:VEVENT
BEGIN:VEVENT
DTSTART;TZID=Asia/Shanghai:20231213T090000
DTEND;TZID=Asia/Shanghai:20231213T163000
DTSTAMP:20260422T091910
CREATED:20231130T072506Z
LAST-MODIFIED:20231130T072506Z
UID:10202-1702458000-1702485000@www.chonghwakl.edu.my
SUMMARY:综合厅 - 辅导处：2023年生命关爱展 --  一起阅读活动
DESCRIPTION:申请单位：辅导处\n申请原因：2023年生命关爱展 —  一起阅读活动\n使用者：师生
URL:https://www.chonghwakl.edu.my/library/event/%e7%bb%bc%e5%90%88%e5%8e%85-%e8%be%85%e5%af%bc%e5%a4%84%ef%bc%9a2023%e5%b9%b4%e7%94%9f%e5%91%bd%e5%85%b3%e7%88%b1%e5%b1%95-%e4%b8%80%e8%b5%b7%e9%98%85%e8%af%bb%e6%b4%bb%e5%8a%a8-2/
LOCATION:综合厅
END:VEVENT
BEGIN:VEVENT
DTSTART;TZID=Asia/Shanghai:20231212T090000
DTEND;TZID=Asia/Shanghai:20231212T163000
DTSTAMP:20260422T091910
CREATED:20231130T072339Z
LAST-MODIFIED:20231130T072427Z
UID:10200-1702371600-1702398600@www.chonghwakl.edu.my
SUMMARY:综合厅 - 辅导处：2023年生命关爱展 --  一起阅读活动
DESCRIPTION:申请单位：辅导处\n申请原因：2023年生命关爱展 —  一起阅读活动\n使用者：师生
URL:https://www.chonghwakl.edu.my/library/event/%e7%bb%bc%e5%90%88%e5%8e%85-%e8%be%85%e5%af%bc%e5%a4%84%ef%bc%9a2023%e5%b9%b4%e7%94%9f%e5%91%bd%e5%85%b3%e7%88%b1%e5%b1%95-%e4%b8%80%e8%b5%b7%e9%98%85%e8%af%bb%e6%b4%bb%e5%8a%a8/
LOCATION:综合厅
END:VEVENT
BEGIN:VEVENT
DTSTART;TZID=Asia/Shanghai:20231208T100000
DTEND;TZID=Asia/Shanghai:20231208T113000
DTSTAMP:20260422T091910
CREATED:20231205T063104Z
LAST-MODIFIED:20231205T063104Z
UID:5521-1702029600-1702035000@www.chonghwakl.edu.my
SUMMARY:讨论室 3 - 严燕妮老师
DESCRIPTION:申请单位：商科组\n申请原因：上网课\n使用者：严燕妮老师
URL:https://www.chonghwakl.edu.my/library/event/%e8%ae%a8%e8%ae%ba%e5%ae%a4-3-%e4%b8%a5%e7%87%95%e5%a6%ae%e8%80%81%e5%b8%88-5/
LOCATION:讨论室 3
END:VEVENT
BEGIN:VEVENT
DTSTART;TZID=Asia/Shanghai:20231208T093000
DTEND;TZID=Asia/Shanghai:20231208T113000
DTSTAMP:20260422T091910
CREATED:20231208T013640Z
LAST-MODIFIED:20231208T013640Z
UID:8293-1702027800-1702035000@www.chonghwakl.edu.my
SUMMARY:讨论室 2 - 张玮芸老师
DESCRIPTION:申请单位：地理教师\n申请原因：处理论文\n使用者：张玮芸老师
URL:https://www.chonghwakl.edu.my/library/event/%e8%ae%a8%e8%ae%ba%e5%ae%a4-2-%e5%bc%a0%e7%8e%ae%e8%8a%b8%e8%80%81%e5%b8%88-2/
LOCATION:讨论室 2
END:VEVENT
BEGIN:VEVENT
DTSTART;TZID=Asia/Shanghai:20231207T100000
DTEND;TZID=Asia/Shanghai:20231207T113000
DTSTAMP:20260422T091910
CREATED:20231205T062708Z
LAST-MODIFIED:20231205T062708Z
UID:9050-1701943200-1701948600@www.chonghwakl.edu.my
SUMMARY:讨论室 3 - 严燕妮老师
DESCRIPTION:申请单位：商科组\n申请原因：上网课\n使用者：严燕妮老师
URL:https://www.chonghwakl.edu.my/library/event/%e8%ae%a8%e8%ae%ba%e5%ae%a4-3-%e4%b8%a5%e7%87%95%e5%a6%ae%e8%80%81%e5%b8%88-4/
LOCATION:讨论室 3
END:VEVENT
BEGIN:VEVENT
DTSTART;TZID=Asia/Shanghai:20231207T080000
DTEND;TZID=Asia/Shanghai:20231207T093000
DTSTAMP:20260422T091910
CREATED:20231204T060318Z
LAST-MODIFIED:20231204T060318Z
UID:6061-1701936000-1701941400@www.chonghwakl.edu.my
SUMMARY:讨论室 2 - 苏婷凤老师
DESCRIPTION:申请单位：商科组\n申请原因：高二文商孝  网课\n使用者：苏婷凤老师
URL:https://www.chonghwakl.edu.my/library/event/%e8%ae%a8%e8%ae%ba%e5%ae%a4-2-%e8%8b%8f%e5%a9%b7%e5%87%a4%e8%80%81%e5%b8%88-4/
LOCATION:讨论室 2
END:VEVENT
BEGIN:VEVENT
DTSTART;TZID=Asia/Shanghai:20231206T100000
DTEND;TZID=Asia/Shanghai:20231206T113000
DTSTAMP:20260422T091910
CREATED:20231204T060053Z
LAST-MODIFIED:20231204T060053Z
UID:9951-1701856800-1701862200@www.chonghwakl.edu.my
SUMMARY:讨论室 2 - 苏婷凤老师
DESCRIPTION:申请单位：商科组\n申请原因：高二文商孝  网课\n使用者：苏婷凤老师
URL:https://www.chonghwakl.edu.my/library/event/%e8%ae%a8%e8%ae%ba%e5%ae%a4-2-%e8%8b%8f%e5%a9%b7%e5%87%a4%e8%80%81%e5%b8%88-3/
LOCATION:讨论室 2
END:VEVENT
BEGIN:VEVENT
DTSTART;TZID=Asia/Shanghai:20231206T080000
DTEND;TZID=Asia/Shanghai:20231206T100000
DTSTAMP:20260422T091910
CREATED:20231205T063820Z
LAST-MODIFIED:20231205T063820Z
UID:6284-1701849600-1701856800@www.chonghwakl.edu.my
SUMMARY:讨论室 1 - 李遴杰老师
DESCRIPTION:申请单位：商科组\n申请原因：上网课\n使用者：李遴杰老师
URL:https://www.chonghwakl.edu.my/library/event/%e8%ae%a8%e8%ae%ba%e5%ae%a4-1-%e6%9d%8e%e9%81%b4%e6%9d%b0%e8%80%81%e5%b8%88/
LOCATION:讨论室 1
END:VEVENT
BEGIN:VEVENT
DTSTART;TZID=Asia/Shanghai:20231205T080000
DTEND;TZID=Asia/Shanghai:20231205T100000
DTSTAMP:20260422T091910
CREATED:20231204T055915Z
LAST-MODIFIED:20231204T055915Z
UID:10123-1701763200-1701770400@www.chonghwakl.edu.my
SUMMARY:讨论室 2 - 苏婷凤老师
DESCRIPTION:申请单位：商科组\n申请原因：高二文商孝  网课\n使用者：苏婷凤老师
URL:https://www.chonghwakl.edu.my/library/event/%e8%ae%a8%e8%ae%ba%e5%ae%a4-2-%e8%8b%8f%e5%a9%b7%e5%87%a4%e8%80%81%e5%b8%88-2/
LOCATION:讨论室 2
END:VEVENT
BEGIN:VEVENT
DTSTART;TZID=Asia/Shanghai:20231130T140000
DTEND;TZID=Asia/Shanghai:20231130T164500
DTSTAMP:20260422T091910
CREATED:20231124T022755Z
LAST-MODIFIED:20231124T022755Z
UID:10177-1701352800-1701362700@www.chonghwakl.edu.my
SUMMARY:讨论室 3 – 唐碧云 老师 + 7位执委
DESCRIPTION:申请单位：廿四节令鼓学会\n申请原因：执委会议\n使用者：唐碧云老师 + 7位执委
URL:https://www.chonghwakl.edu.my/library/event/%e8%ae%a8%e8%ae%ba%e5%ae%a4-3-%e5%94%90%e7%a2%a7%e4%ba%91-%e8%80%81%e5%b8%88-7%e4%bd%8d%e6%89%a7%e5%a7%94/
LOCATION:讨论室 3
END:VEVENT
BEGIN:VEVENT
DTSTART;TZID=Asia/Shanghai:20231129T082500
DTEND;TZID=Asia/Shanghai:20231129T100000
DTSTAMP:20260422T091910
CREATED:20231129T002855Z
LAST-MODIFIED:20231129T002855Z
UID:10194-1701246300-1701252000@www.chonghwakl.edu.my
SUMMARY:讨论室 - 严燕妮老师
DESCRIPTION:申请单位：商科组\n申请原因：录制教学Video\n使用者：严燕妮老师
URL:https://www.chonghwakl.edu.my/library/event/%e8%ae%a8%e8%ae%ba%e5%ae%a4-%e4%b8%a5%e7%87%95%e5%a6%ae%e8%80%81%e5%b8%88/
LOCATION:讨论室 2
END:VEVENT
BEGIN:VEVENT
DTSTART;TZID=Asia/Shanghai:20231128T114000
DTEND;TZID=Asia/Shanghai:20231128T140000
DTSTAMP:20260422T091910
CREATED:20231128T023320Z
LAST-MODIFIED:20231128T023320Z
UID:10187-1701171600-1701180000@www.chonghwakl.edu.my
SUMMARY:讨论室 2 - 严燕妮老师
DESCRIPTION:申请单位：商科组\n申请原因：录制教学Video\n使用者：严燕妮老师
URL:https://www.chonghwakl.edu.my/library/event/%e8%ae%a8%e8%ae%ba%e5%ae%a4-2-%e4%b8%a5%e7%87%95%e5%a6%ae%e8%80%81%e5%b8%88-4/
LOCATION:讨论室 2
END:VEVENT
BEGIN:VEVENT
DTSTART;TZID=Asia/Shanghai:20231128T103000
DTEND;TZID=Asia/Shanghai:20231128T110000
DTSTAMP:20260422T091910
CREATED:20231128T023159Z
LAST-MODIFIED:20231128T023159Z
UID:10185-1701167400-1701169200@www.chonghwakl.edu.my
SUMMARY:讨论室 2 - 严燕妮老师
DESCRIPTION:申请单位：商科组\n申请原因：录制教学Video\n使用者：严燕妮老师
URL:https://www.chonghwakl.edu.my/library/event/%e8%ae%a8%e8%ae%ba%e5%ae%a4-2-%e4%b8%a5%e7%87%95%e5%a6%ae%e8%80%81%e5%b8%88-3/
LOCATION:讨论室 2
END:VEVENT
BEGIN:VEVENT
DTSTART;TZID=Asia/Shanghai:20231127T123000
DTEND;TZID=Asia/Shanghai:20231127T140000
DTSTAMP:20260422T091910
CREATED:20231127T041109Z
LAST-MODIFIED:20231127T041109Z
UID:10183-1701088200-1701093600@www.chonghwakl.edu.my
SUMMARY:讨论室 2 - 严燕妮老师
DESCRIPTION:申请单位：商科组\n申请原因：录制教学Video\n使用者：严燕妮老师
URL:https://www.chonghwakl.edu.my/library/event/%e8%ae%a8%e8%ae%ba%e5%ae%a4-2-%e4%b8%a5%e7%87%95%e5%a6%ae%e8%80%81%e5%b8%88-2/
LOCATION:讨论室 2
END:VEVENT
BEGIN:VEVENT
DTSTART;TZID=Asia/Shanghai:20231125T093000
DTEND;TZID=Asia/Shanghai:20231125T113000
DTSTAMP:20260422T091910
CREATED:20231125T013150Z
LAST-MODIFIED:20231125T013555Z
UID:10180-1700904600-1700911800@www.chonghwakl.edu.my
SUMMARY:讨论室 1 - 岑雁如老师
DESCRIPTION:申请单位：跨领域\n申请原因：研修\n使用者：岑雁如老师
URL:https://www.chonghwakl.edu.my/library/event/%e8%ae%a8%e8%ae%ba%e5%ae%a4-1-%e5%b2%91%e9%9b%81%e5%a6%82%e8%80%81%e5%b8%88/
LOCATION:讨论室 1
END:VEVENT
BEGIN:VEVENT
DTSTART;TZID=Asia/Shanghai:20231120T080000
DTEND;TZID=Asia/Shanghai:20231120T103000
DTSTAMP:20260422T091910
CREATED:20231117T235234Z
LAST-MODIFIED:20231117T235234Z
UID:10126-1700467200-1700476200@www.chonghwakl.edu.my
SUMMARY:讨论室 2 - 张玮芸老师
DESCRIPTION:申请单位：地理教师\n申请原因：处理论文\n使用者：张玮芸老师
URL:https://www.chonghwakl.edu.my/library/event/%e8%ae%a8%e8%ae%ba%e5%ae%a4-2-%e5%bc%a0%e7%8e%ae%e8%8a%b8%e8%80%81%e5%b8%88/
LOCATION:讨论室 2
END:VEVENT
BEGIN:VEVENT
DTSTART;TZID=Asia/Shanghai:20231117T133000
DTEND;TZID=Asia/Shanghai:20231117T145000
DTSTAMP:20260422T091910
CREATED:20231117T040121Z
LAST-MODIFIED:20231117T040121Z
UID:10124-1700227800-1700232600@www.chonghwakl.edu.my
SUMMARY:综合厅 - 岑雁如老师
DESCRIPTION:申请单位：6C Ai\n申请原因：导读\n使用者：岑雁如老师
URL:https://www.chonghwakl.edu.my/library/event/%e7%bb%bc%e5%90%88%e5%8e%85-%e5%b2%91%e9%9b%81%e5%a6%82%e8%80%81%e5%b8%88/
LOCATION:综合厅
END:VEVENT
BEGIN:VEVENT
DTSTART;TZID=Asia/Shanghai:20231117T085000
DTEND;TZID=Asia/Shanghai:20231117T093000
DTSTAMP:20260422T091910
CREATED:20231117T010635Z
LAST-MODIFIED:20231117T010635Z
UID:10121-1700211000-1700213400@www.chonghwakl.edu.my
SUMMARY:讨论室 1 - 李佩雯老师
DESCRIPTION:申请单位：数学组\n申请原因：录制 video\n使用者：李佩雯老师
URL:https://www.chonghwakl.edu.my/library/event/%e8%ae%a8%e8%ae%ba%e5%ae%a4-1-%e6%9d%8e%e4%bd%a9%e9%9b%af%e8%80%81%e5%b8%88-2/
LOCATION:讨论室 1
END:VEVENT
BEGIN:VEVENT
DTSTART;TZID=Asia/Shanghai:20231110T110000
DTEND;TZID=Asia/Shanghai:20231110T123000
DTSTAMP:20260422T091910
CREATED:20231110T014341Z
LAST-MODIFIED:20231110T014341Z
UID:9971-1699614000-1699619400@www.chonghwakl.edu.my
SUMMARY:讨论室 1 - 林艾嘉老师
DESCRIPTION:申请单位：数学组\n申请原因：网课\n使用者：林艾嘉老师
URL:https://www.chonghwakl.edu.my/library/event/%e8%ae%a8%e8%ae%ba%e5%ae%a4-1-%e6%9e%97%e8%89%be%e5%98%89%e8%80%81%e5%b8%88/
LOCATION:讨论室 1
END:VEVENT
BEGIN:VEVENT
DTSTART;TZID=Asia/Shanghai:20231110T093000
DTEND;TZID=Asia/Shanghai:20231110T103000
DTSTAMP:20260422T091910
CREATED:20231110T014623Z
LAST-MODIFIED:20231110T015302Z
UID:9973-1699608600-1699612200@www.chonghwakl.edu.my
SUMMARY:讨论室 2 - 岑雁如老师
DESCRIPTION:申请单位：商科组\n申请原因：讨论跨领域课程\n使用者：岑雁如老师、林珉秀老师、张玮芸老师
URL:https://www.chonghwakl.edu.my/library/event/%e8%ae%a8%e8%ae%ba%e5%ae%a4-2-%e5%b2%91%e9%9b%81%e5%a6%82%e8%80%81%e5%b8%88/
LOCATION:讨论室 2
END:VEVENT
BEGIN:VEVENT
DTSTART;TZID=Asia/Shanghai:20231109T100000
DTEND;TZID=Asia/Shanghai:20231109T110000
DTSTAMP:20260422T091910
CREATED:20231106T005628Z
LAST-MODIFIED:20231106T005628Z
UID:9963-1699524000-1699527600@www.chonghwakl.edu.my
SUMMARY:讨论室 3 - 严燕妮老师
DESCRIPTION:申请单位：商科组\n申请原因：网课\n使用者：严燕妮老师
URL:https://www.chonghwakl.edu.my/library/event/%e8%ae%a8%e8%ae%ba%e5%ae%a4-3-%e4%b8%a5%e7%87%95%e5%a6%ae%e8%80%81%e5%b8%88-3/
LOCATION:讨论室 3
END:VEVENT
BEGIN:VEVENT
DTSTART;TZID=Asia/Shanghai:20231109T093000
DTEND;TZID=Asia/Shanghai:20231109T120000
DTSTAMP:20260422T091910
CREATED:20231109T014435Z
LAST-MODIFIED:20231109T014623Z
UID:9969-1699522200-1699531200@www.chonghwakl.edu.my
SUMMARY:讨论室 1 - 李佩雯老师
DESCRIPTION:申请单位：数学组\n申请原因：网课\n使用者：李佩雯老师
URL:https://www.chonghwakl.edu.my/library/event/%e8%ae%a8%e8%ae%ba%e5%ae%a4-1-%e6%9d%8e%e4%bd%a9%e9%9b%af%e8%80%81%e5%b8%88/
LOCATION:讨论室 1
END:VEVENT
END:VCALENDAR