BEGIN:VCALENDAR
VERSION:2.0
PRODID:-//吉隆坡中华独立中学资源中心 - ECPv6.5.1.6//NONSGML v1.0//EN
CALSCALE:GREGORIAN
METHOD:PUBLISH
X-WR-CALNAME:吉隆坡中华独立中学资源中心
X-ORIGINAL-URL:https://www.chonghwakl.edu.my/library
X-WR-CALDESC:Events for 吉隆坡中华独立中学资源中心
REFRESH-INTERVAL;VALUE=DURATION:PT1H
X-Robots-Tag:noindex
X-PUBLISHED-TTL:PT1H
BEGIN:VTIMEZONE
TZID:Asia/Shanghai
BEGIN:STANDARD
TZOFFSETFROM:+0800
TZOFFSETTO:+0800
TZNAME:CST
DTSTART:20200101T000000
END:STANDARD
TZID:UTC
BEGIN:STANDARD
TZOFFSETFROM:+0000
TZOFFSETTO:+0000
TZNAME:UTC
DTSTART:20200101T000000
END:STANDARD
END:VTIMEZONE
BEGIN:VEVENT
DTSTART;TZID=Asia/Shanghai:20220509T100000
DTEND;TZID=Asia/Shanghai:20220509T110000
DTSTAMP:20260426T002646
CREATED:20220509T001150Z
LAST-MODIFIED:20220509T055409Z
UID:4612-1652090400-1652094000@www.chonghwakl.edu.my
SUMMARY:讨论室2-商科组
DESCRIPTION:苏婷凤老师-讨论课程
URL:https://www.chonghwakl.edu.my/library/event/%e8%ae%a8%e8%ae%ba%e5%ae%a42-%e5%95%86%e7%a7%91%e7%bb%84/
LOCATION:讨论室 2
END:VEVENT
BEGIN:VEVENT
DTSTART;TZID=UTC:20201204T130000
DTEND;TZID=UTC:20201204T134500
DTSTAMP:20260426T002646
CREATED:20201203T205927Z
LAST-MODIFIED:20220211T011517Z
UID:2355-1607086800-1607089500@www.chonghwakl.edu.my
SUMMARY:讨论室1--
DESCRIPTION:Ho Shaw Feng – online class
URL:https://www.chonghwakl.edu.my/library/event/%e8%ae%a8%e8%ae%ba%e5%ae%a41/
END:VEVENT
BEGIN:VEVENT
DTSTART;TZID=UTC:20201204T100000
DTEND;TZID=UTC:20201204T104500
DTSTAMP:20260426T002646
CREATED:20201203T181803Z
LAST-MODIFIED:20201203T182250Z
UID:2336-1607076000-1607078700@www.chonghwakl.edu.my
SUMMARY:讨论室1-Ho Shaw Feng
DESCRIPTION:online class
URL:https://www.chonghwakl.edu.my/library/event/study/
LOCATION:讨论室 1
END:VEVENT
BEGIN:VEVENT
DTSTART;TZID=UTC:20201203T124500
DTEND;TZID=UTC:20201203T134000
DTSTAMP:20260426T002646
CREATED:20201202T180531Z
LAST-MODIFIED:20201203T192757Z
UID:2191-1606999500-1607002800@www.chonghwakl.edu.my
SUMMARY:华文科--讨论室 2
DESCRIPTION:上网科 \n杨子熙
URL:https://www.chonghwakl.edu.my/library/event/huawen-2/
LOCATION:讨论室 2
END:VEVENT
BEGIN:VEVENT
DTSTART;TZID=UTC:20201203T120000
DTEND;TZID=UTC:20201203T124500
DTSTAMP:20260426T002646
CREATED:20201203T190833Z
LAST-MODIFIED:20201203T192556Z
UID:2342-1606996800-1606999500@www.chonghwakl.edu.my
SUMMARY:ENGLISH--讨论室 2
DESCRIPTION:李佳倚 \nOnline Lesson
URL:https://www.chonghwakl.edu.my/library/event/english/
LOCATION:讨论室 2
END:VEVENT
BEGIN:VEVENT
DTSTART;TZID=Asia/Shanghai:20201203T113000
DTEND;TZID=Asia/Shanghai:20201203T124500
DTSTAMP:20260426T002646
CREATED:20201115T214617Z
LAST-MODIFIED:20201203T193208Z
UID:1771-1606995000-1606999500@www.chonghwakl.edu.my
SUMMARY:华文组--讨论室 1
DESCRIPTION:网课 \n曾欣婷
URL:https://www.chonghwakl.edu.my/library/event/huawen/
LOCATION:讨论室 1
END:VEVENT
BEGIN:VEVENT
DTSTART;TZID=UTC:20201203T100000
DTEND;TZID=UTC:20201203T104500
DTSTAMP:20260426T002646
CREATED:20201203T191831Z
LAST-MODIFIED:20201203T192831Z
UID:2346-1606989600-1606992300@www.chonghwakl.edu.my
SUMMARY:ENGLISH--讨论室2
DESCRIPTION:Ho Shaw Feng \nOnline Class
URL:https://www.chonghwakl.edu.my/library/event/english-2/
LOCATION:讨论室 2
END:VEVENT
END:VCALENDAR