BEGIN:VCALENDAR
VERSION:2.0
PRODID:-//吉隆坡中华独立中学资源中心 - ECPv6.5.1.6//NONSGML v1.0//EN
CALSCALE:GREGORIAN
METHOD:PUBLISH
X-WR-CALNAME:吉隆坡中华独立中学资源中心
X-ORIGINAL-URL:https://www.chonghwakl.edu.my/library
X-WR-CALDESC:Events for 吉隆坡中华独立中学资源中心
REFRESH-INTERVAL;VALUE=DURATION:PT1H
X-Robots-Tag:noindex
X-PUBLISHED-TTL:PT1H
BEGIN:VTIMEZONE
TZID:Asia/Shanghai
BEGIN:STANDARD
TZOFFSETFROM:+0800
TZOFFSETTO:+0800
TZNAME:CST
DTSTART:20250101T000000
END:STANDARD
END:VTIMEZONE
BEGIN:VEVENT
DTSTART;TZID=Asia/Shanghai:20250614T103000
DTEND;TZID=Asia/Shanghai:20250614T120000
DTSTAMP:20260421T162621
CREATED:20250611T051049Z
LAST-MODIFIED:20250611T051119Z
UID:14139-1749897000-1749902400@www.chonghwakl.edu.my
SUMMARY:综合厅 - 岑雁如老师
DESCRIPTION:申请单位：资源中心\n申请原因：阅读课老师\n使用者：阅读课12位老师
URL:https://www.chonghwakl.edu.my/library/event/%e7%bb%bc%e5%90%88%e5%8e%85-%e5%b2%91%e9%9b%81%e5%a6%82%e8%80%81%e5%b8%88-9/
LOCATION:综合厅
END:VEVENT
END:VCALENDAR