BEGIN:VCALENDAR
VERSION:2.0
PRODID:-//吉隆坡中华独立中学资源中心 - ECPv6.5.1.6//NONSGML v1.0//EN
CALSCALE:GREGORIAN
METHOD:PUBLISH
X-ORIGINAL-URL:https://www.chonghwakl.edu.my/library
X-WR-CALDESC:Events for 吉隆坡中华独立中学资源中心
REFRESH-INTERVAL;VALUE=DURATION:PT1H
X-Robots-Tag:noindex
X-PUBLISHED-TTL:PT1H
BEGIN:VTIMEZONE
TZID:Asia/Shanghai
BEGIN:STANDARD
TZOFFSETFROM:+0800
TZOFFSETTO:+0800
TZNAME:CST
DTSTART:20250101T000000
END:STANDARD
END:VTIMEZONE
BEGIN:VEVENT
DTSTART;TZID=Asia/Shanghai:20250419T083000
DTEND;TZID=Asia/Shanghai:20250419T123000
DTSTAMP:20260419T205031
CREATED:20250414T060255Z
LAST-MODIFIED:20250414T061000Z
UID:13786-1745051400-1745065800@www.chonghwakl.edu.my
SUMMARY:讨论室 3 - 陈雪芬老师、陈欣仪老师
DESCRIPTION:申请单位：教职研修处\n申请原因：线上课程——三级辅导系列[听.说] 师生沟通线上课\n使用者：陈雪芬老师、陈欣仪老师
URL:https://www.chonghwakl.edu.my/library/event/%e8%ae%a8%e8%ae%ba%e5%ae%a4-3-%e9%99%88%e9%9b%aa%e8%8a%ac%e8%80%81%e5%b8%88%e3%80%81%e9%99%88%e6%ac%a3%e4%bb%aa%e8%80%81%e5%b8%88/
LOCATION:讨论室 3
END:VEVENT
END:VCALENDAR