BEGIN:VCALENDAR
VERSION:2.0
PRODID:-//吉隆坡中华独立中学资源中心 - ECPv6.5.1.6//NONSGML v1.0//EN
CALSCALE:GREGORIAN
METHOD:PUBLISH
X-WR-CALNAME:吉隆坡中华独立中学资源中心
X-ORIGINAL-URL:https://www.chonghwakl.edu.my/library
X-WR-CALDESC:Events for 吉隆坡中华独立中学资源中心
REFRESH-INTERVAL;VALUE=DURATION:PT1H
X-Robots-Tag:noindex
X-PUBLISHED-TTL:PT1H
BEGIN:VTIMEZONE
TZID:Asia/Shanghai
BEGIN:STANDARD
TZOFFSETFROM:+0800
TZOFFSETTO:+0800
TZNAME:CST
DTSTART:20250101T000000
END:STANDARD
END:VTIMEZONE
BEGIN:VEVENT
DTSTART;TZID=Asia/Shanghai:20250415T121500
DTEND;TZID=Asia/Shanghai:20250415T125500
DTSTAMP:20260419T204856
CREATED:20250312T060706Z
LAST-MODIFIED:20250312T060706Z
UID:13667-1744719300-1744721700@www.chonghwakl.edu.my
SUMMARY:讨论室 1 - Cikgu Nurul Dalina
DESCRIPTION:申请单位：Pendidikan Islam\n申请原因：Megajar\n使用者：Cikgu Nurul Dalina
URL:https://www.chonghwakl.edu.my/library/event/%e8%ae%a8%e8%ae%ba%e5%ae%a4-1-cikgu-nurul-dalina-4/
LOCATION:讨论室 1
END:VEVENT
BEGIN:VEVENT
DTSTART;TZID=Asia/Shanghai:20250415T153000
DTEND;TZID=Asia/Shanghai:20250415T164500
DTSTAMP:20260419T204856
CREATED:20250414T054318Z
LAST-MODIFIED:20250414T054318Z
UID:13781-1744731000-1744735500@www.chonghwakl.edu.my
SUMMARY:综合厅 - 图书馆学会
DESCRIPTION:申请单位：图书馆学会\n申请原因：进行活动彩排\n使用者：图书馆学会会员
URL:https://www.chonghwakl.edu.my/library/event/%e7%bb%bc%e5%90%88%e5%8e%85-%e5%9b%be%e4%b9%a6%e9%a6%86%e5%ad%a6%e4%bc%9a-20/
LOCATION:综合厅
END:VEVENT
END:VCALENDAR