BEGIN:VCALENDAR
VERSION:2.0
PRODID:-//吉隆坡中华独立中学资源中心 - ECPv6.5.1.6//NONSGML v1.0//EN
CALSCALE:GREGORIAN
METHOD:PUBLISH
X-WR-CALNAME:吉隆坡中华独立中学资源中心
X-ORIGINAL-URL:https://www.chonghwakl.edu.my/library
X-WR-CALDESC:Events for 吉隆坡中华独立中学资源中心
REFRESH-INTERVAL;VALUE=DURATION:PT1H
X-Robots-Tag:noindex
X-PUBLISHED-TTL:PT1H
BEGIN:VTIMEZONE
TZID:Asia/Shanghai
BEGIN:STANDARD
TZOFFSETFROM:+0800
TZOFFSETTO:+0800
TZNAME:CST
DTSTART:20250101T000000
END:STANDARD
END:VTIMEZONE
BEGIN:VEVENT
DTSTART;TZID=Asia/Shanghai:20250109T083000
DTEND;TZID=Asia/Shanghai:20250109T091000
DTSTAMP:20260420T011337
CREATED:20241231T065407Z
LAST-MODIFIED:20241231T065407Z
UID:13194-1736411400-1736413800@www.chonghwakl.edu.my
SUMMARY:综合厅 - 曾湘凌老师
DESCRIPTION:申请单位：4AC忠\n申请原因：阅读活动《小王子》导读\n使用者：曾湘凌老师
URL:https://www.chonghwakl.edu.my/library/event/%e7%bb%bc%e5%90%88%e5%8e%85-%e6%9b%be%e6%b9%98%e5%87%8c%e8%80%81%e5%b8%88-2/
LOCATION:综合厅
END:VEVENT
BEGIN:VEVENT
DTSTART;TZID=Asia/Shanghai:20250109T090000
DTEND;TZID=Asia/Shanghai:20250109T140000
DTSTAMP:20260420T011337
CREATED:20250109T010228Z
LAST-MODIFIED:20250109T010228Z
UID:13216-1736413200-1736431200@www.chonghwakl.edu.my
SUMMARY:讨论室 2 - Miss Crystal Kong
DESCRIPTION:申请单位：English\n申请原因：Management Meeting\n使用者：Miss Crystal Kong
URL:https://www.chonghwakl.edu.my/library/event/%e8%ae%a8%e8%ae%ba%e5%ae%a4-2-miss-crystal-kong/
LOCATION:讨论室 2
END:VEVENT
BEGIN:VEVENT
DTSTART;TZID=Asia/Shanghai:20250109T101500
DTEND;TZID=Asia/Shanghai:20250109T105500
DTSTAMP:20260420T011337
CREATED:20241231T065552Z
LAST-MODIFIED:20241231T065552Z
UID:13196-1736417700-1736420100@www.chonghwakl.edu.my
SUMMARY:综合厅 - 曾湘凌老师
DESCRIPTION:申请单位：4AC爱\n申请原因：阅读活动《小王子》导读\n使用者：曾湘凌老师
URL:https://www.chonghwakl.edu.my/library/event/%e7%bb%bc%e5%90%88%e5%8e%85-%e6%9b%be%e6%b9%98%e5%87%8c%e8%80%81%e5%b8%88-3/
LOCATION:综合厅
END:VEVENT
BEGIN:VEVENT
DTSTART;TZID=Asia/Shanghai:20250109T153000
DTEND;TZID=Asia/Shanghai:20250109T164500
DTSTAMP:20260420T011337
CREATED:20250109T040045Z
LAST-MODIFIED:20250109T040045Z
UID:13218-1736436600-1736441100@www.chonghwakl.edu.my
SUMMARY:资源中心 13 楼 - 服务团体培训营
DESCRIPTION:申请单位：服务团体培训营\n申请原因：拍摄宣传影片\n使用者：陈依慧  210139  高一文商忠
URL:https://www.chonghwakl.edu.my/library/event/%e8%b5%84%e6%ba%90%e4%b8%ad%e5%bf%83-13-%e6%a5%bc-%e6%9c%8d%e5%8a%a1%e5%9b%a2%e4%bd%93%e5%9f%b9%e8%ae%ad%e8%90%a5/
END:VEVENT
END:VCALENDAR