BEGIN:VCALENDAR
VERSION:2.0
PRODID:-//吉隆坡中华独立中学资源中心 - ECPv6.5.1.6//NONSGML v1.0//EN
CALSCALE:GREGORIAN
METHOD:PUBLISH
X-ORIGINAL-URL:https://www.chonghwakl.edu.my/library
X-WR-CALDESC:Events for 吉隆坡中华独立中学资源中心
REFRESH-INTERVAL;VALUE=DURATION:PT1H
X-Robots-Tag:noindex
X-PUBLISHED-TTL:PT1H
BEGIN:VTIMEZONE
TZID:Asia/Shanghai
BEGIN:STANDARD
TZOFFSETFROM:+0800
TZOFFSETTO:+0800
TZNAME:CST
DTSTART:20240101T000000
END:STANDARD
END:VTIMEZONE
BEGIN:VEVENT
DTSTART;TZID=Asia/Shanghai:20241230T080000
DTEND;TZID=Asia/Shanghai:20241230T110000
DTSTAMP:20260420T011437
CREATED:20241204T060647Z
LAST-MODIFIED:20241229T231706Z
UID:13106-1735545600-1735556400@www.chonghwakl.edu.my
SUMMARY:综合厅 - 阅读课老师培训
DESCRIPTION:申请单位：资源中心 (refer 岑雁如老师)\n申请原因：阅读课老师培训\n使用者：资源中心三位老师 + 多位阅读课老师
URL:https://www.chonghwakl.edu.my/library/event/%e7%bb%bc%e5%90%88%e5%8e%85-%e9%98%85%e8%af%bb%e8%af%be%e8%80%81%e5%b8%88%e5%9f%b9%e8%ae%ad/
LOCATION:综合厅
END:VEVENT
BEGIN:VEVENT
DTSTART;TZID=Asia/Shanghai:20241230T120000
DTEND;TZID=Asia/Shanghai:20241230T133000
DTSTAMP:20260420T011437
CREATED:20241230T045115Z
LAST-MODIFIED:20241230T045115Z
UID:13185-1735560000-1735565400@www.chonghwakl.edu.my
SUMMARY:讨论室 2 - Cikgu Azuween
DESCRIPTION:申请单位：BM\n申请原因：Discussion\n使用者：Cikgu Azuween\, Fatin Nadirah\, Leeyana
URL:https://www.chonghwakl.edu.my/library/event/%e8%ae%a8%e8%ae%ba%e5%ae%a4-2-cikgu-azuween/
LOCATION:讨论室 2
END:VEVENT
END:VCALENDAR