BEGIN:VCALENDAR
VERSION:2.0
PRODID:-//吉隆坡中华独立中学资源中心 - ECPv6.5.1.6//NONSGML v1.0//EN
CALSCALE:GREGORIAN
METHOD:PUBLISH
X-ORIGINAL-URL:https://www.chonghwakl.edu.my/library
X-WR-CALDESC:Events for 吉隆坡中华独立中学资源中心
REFRESH-INTERVAL;VALUE=DURATION:PT1H
X-Robots-Tag:noindex
X-PUBLISHED-TTL:PT1H
BEGIN:VTIMEZONE
TZID:Asia/Shanghai
BEGIN:STANDARD
TZOFFSETFROM:+0800
TZOFFSETTO:+0800
TZNAME:CST
DTSTART:20240101T000000
END:STANDARD
END:VTIMEZONE
BEGIN:VEVENT
DTSTART;TZID=Asia/Shanghai:20241213T090000
DTEND;TZID=Asia/Shanghai:20241213T103000
DTSTAMP:20260420T023747
CREATED:20241213T024900Z
LAST-MODIFIED:20241213T024900Z
UID:13118-1734080400-1734085800@www.chonghwakl.edu.my
SUMMARY:讨论室 2 - 陈宇玲老师
DESCRIPTION:申请单位：科学\n申请原因：网课 (初二义)\n使用者：陈宇玲老师
URL:https://www.chonghwakl.edu.my/library/event/%e8%ae%a8%e8%ae%ba%e5%ae%a4-2-%e9%99%88%e5%ae%87%e7%8e%b2%e8%80%81%e5%b8%88-3/
LOCATION:讨论室 2
END:VEVENT
BEGIN:VEVENT
DTSTART;TZID=Asia/Shanghai:20241213T110000
DTEND;TZID=Asia/Shanghai:20241213T140000
DTSTAMP:20260420T023747
CREATED:20241213T031022Z
LAST-MODIFIED:20241213T031022Z
UID:13124-1734087600-1734098400@www.chonghwakl.edu.my
SUMMARY:讨论室 3 - 谢伊璇老师
DESCRIPTION:申请单位：科学 / 物理\n申请原因：复习 SPM\n使用者：谢伊璇老师
URL:https://www.chonghwakl.edu.my/library/event/%e8%ae%a8%e8%ae%ba%e5%ae%a4-3-%e8%b0%a2%e4%bc%8a%e7%92%87%e8%80%81%e5%b8%88/
LOCATION:讨论室 3
END:VEVENT
BEGIN:VEVENT
DTSTART;TZID=Asia/Shanghai:20241213T113500
DTEND;TZID=Asia/Shanghai:20241213T125500
DTSTAMP:20260420T023747
CREATED:20241213T041556Z
LAST-MODIFIED:20241213T041556Z
UID:13126-1734089700-1734094500@www.chonghwakl.edu.my
SUMMARY:讨论室 2 - 伍仪焕老师
DESCRIPTION:申请单位：生物\n申请原因：网课（4S Xin）\n使用者：伍仪焕老师
URL:https://www.chonghwakl.edu.my/library/event/%e8%ae%a8%e8%ae%ba%e5%ae%a4-2-%e4%bc%8d%e4%bb%aa%e7%84%95%e8%80%81%e5%b8%88-4/
LOCATION:讨论室 2
END:VEVENT
END:VCALENDAR