BEGIN:VCALENDAR
VERSION:2.0
PRODID:-//吉隆坡中华独立中学资源中心 - ECPv6.5.1.6//NONSGML v1.0//EN
CALSCALE:GREGORIAN
METHOD:PUBLISH
X-WR-CALNAME:吉隆坡中华独立中学资源中心
X-ORIGINAL-URL:https://www.chonghwakl.edu.my/library
X-WR-CALDESC:Events for 吉隆坡中华独立中学资源中心
REFRESH-INTERVAL;VALUE=DURATION:PT1H
X-Robots-Tag:noindex
X-PUBLISHED-TTL:PT1H
BEGIN:VTIMEZONE
TZID:Asia/Shanghai
BEGIN:STANDARD
TZOFFSETFROM:+0800
TZOFFSETTO:+0800
TZNAME:CST
DTSTART:20240101T000000
END:STANDARD
END:VTIMEZONE
BEGIN:VEVENT
DTSTART;TZID=Asia/Shanghai:20241115T120000
DTEND;TZID=Asia/Shanghai:20241115T133000
DTSTAMP:20260421T174047
CREATED:20241113T032822Z
LAST-MODIFIED:20241114T052101Z
UID:12871-1731672000-1731677400@www.chonghwakl.edu.my
SUMMARY:讨论室 2 - 黄卉盈老师
DESCRIPTION:申请单位：商科\n申请原因：讨论功课\n使用者：黄卉盈老师
URL:https://www.chonghwakl.edu.my/library/event/%e8%ae%a8%e8%ae%ba%e5%ae%a4-2-%e9%bb%84%e5%8d%89%e7%9b%88%e8%80%81%e5%b8%88-2/
LOCATION:讨论室 2
END:VEVENT
END:VCALENDAR