BEGIN:VCALENDAR
VERSION:2.0
PRODID:-//吉隆坡中华独立中学资源中心 - ECPv6.5.1.6//NONSGML v1.0//EN
CALSCALE:GREGORIAN
METHOD:PUBLISH
X-ORIGINAL-URL:https://www.chonghwakl.edu.my/library
X-WR-CALDESC:Events for 吉隆坡中华独立中学资源中心
REFRESH-INTERVAL;VALUE=DURATION:PT1H
X-Robots-Tag:noindex
X-PUBLISHED-TTL:PT1H
BEGIN:VTIMEZONE
TZID:Asia/Shanghai
BEGIN:STANDARD
TZOFFSETFROM:+0800
TZOFFSETTO:+0800
TZNAME:CST
DTSTART:20240101T000000
END:STANDARD
END:VTIMEZONE
BEGIN:VEVENT
DTSTART;TZID=Asia/Shanghai:20241114T110000
DTEND;TZID=Asia/Shanghai:20241114T130000
DTSTAMP:20260420T051841
CREATED:20241113T032715Z
LAST-MODIFIED:20241113T032715Z
UID:12869-1731582000-1731589200@www.chonghwakl.edu.my
SUMMARY:讨论室 2 - 黄卉盈老师
DESCRIPTION:申请单位：商科\n申请原因：讨论功课\n使用者：黄卉盈老师
URL:https://www.chonghwakl.edu.my/library/event/%e8%ae%a8%e8%ae%ba%e5%ae%a4-2-%e9%bb%84%e5%8d%89%e7%9b%88%e8%80%81%e5%b8%88/
LOCATION:讨论室 2
END:VEVENT
BEGIN:VEVENT
DTSTART;TZID=Asia/Shanghai:20241114T133000
DTEND;TZID=Asia/Shanghai:20241114T150000
DTSTAMP:20260420T051841
CREATED:20241111T052710Z
LAST-MODIFIED:20241111T052710Z
UID:12865-1731591000-1731596400@www.chonghwakl.edu.my
SUMMARY:讨论室 3 - 曹潔瑩老师
DESCRIPTION:申请单位：华文\n申请原因：上网课（SPM 中国文学）\n使用者：曹潔瑩老师
URL:https://www.chonghwakl.edu.my/library/event/%e8%ae%a8%e8%ae%ba%e5%ae%a4-3-%e6%9b%b9%e6%bd%94%e7%91%a9%e8%80%81%e5%b8%88-2/
LOCATION:讨论室 3
END:VEVENT
END:VCALENDAR