BEGIN:VCALENDAR
VERSION:2.0
PRODID:-//吉隆坡中华独立中学资源中心 - ECPv6.5.1.6//NONSGML v1.0//EN
CALSCALE:GREGORIAN
METHOD:PUBLISH
X-WR-CALNAME:吉隆坡中华独立中学资源中心
X-ORIGINAL-URL:https://www.chonghwakl.edu.my/library
X-WR-CALDESC:Events for 吉隆坡中华独立中学资源中心
REFRESH-INTERVAL;VALUE=DURATION:PT1H
X-Robots-Tag:noindex
X-PUBLISHED-TTL:PT1H
BEGIN:VTIMEZONE
TZID:Asia/Shanghai
BEGIN:STANDARD
TZOFFSETFROM:+0800
TZOFFSETTO:+0800
TZNAME:CST
DTSTART:20240101T000000
END:STANDARD
END:VTIMEZONE
BEGIN:VEVENT
DTSTART;TZID=Asia/Shanghai:20241109T083000
DTEND;TZID=Asia/Shanghai:20241109T113000
DTSTAMP:20260420T051718
CREATED:20241105T054244Z
LAST-MODIFIED:20241105T054319Z
UID:12845-1731141000-1731151800@www.chonghwakl.edu.my
SUMMARY:讨论室 2 - Cikgu Wan Nuraishah
DESCRIPTION:申请单位：Jabatan Bahasa Melayu\n申请原因：Permohonan untuk manjalani Exam Diploma Pendidikan\n使用者：Cikgu Wan Nuraishah
URL:https://www.chonghwakl.edu.my/library/event/12845/
LOCATION:讨论室 2
END:VEVENT
END:VCALENDAR