BEGIN:VCALENDAR
VERSION:2.0
PRODID:-//吉隆坡中华独立中学资源中心 - ECPv6.5.1.6//NONSGML v1.0//EN
CALSCALE:GREGORIAN
METHOD:PUBLISH
X-ORIGINAL-URL:https://www.chonghwakl.edu.my/library
X-WR-CALDESC:Events for 吉隆坡中华独立中学资源中心
REFRESH-INTERVAL;VALUE=DURATION:PT1H
X-Robots-Tag:noindex
X-PUBLISHED-TTL:PT1H
BEGIN:VTIMEZONE
TZID:Asia/Shanghai
BEGIN:STANDARD
TZOFFSETFROM:+0800
TZOFFSETTO:+0800
TZNAME:CST
DTSTART:20240101T000000
END:STANDARD
END:VTIMEZONE
BEGIN:VEVENT
DTSTART;TZID=Asia/Shanghai:20241106T080000
DTEND;TZID=Asia/Shanghai:20241106T100000
DTSTAMP:20260421T174046
CREATED:20241105T225954Z
LAST-MODIFIED:20241105T225954Z
UID:12848-1730880000-1730887200@www.chonghwakl.edu.my
SUMMARY:讨论室 3 - 黄卉盈老师
DESCRIPTION:申请单位：商科\n申请原因：讨论功课\n使用者：黄卉盈老师
URL:https://www.chonghwakl.edu.my/library/event/%e8%ae%a8%e8%ae%ba%e5%ae%a4-3-%e9%bb%84%e5%8d%89%e7%9b%88%e8%80%81%e5%b8%88/
LOCATION:讨论室 3
END:VEVENT
BEGIN:VEVENT
DTSTART;TZID=Asia/Shanghai:20241106T083000
DTEND;TZID=Asia/Shanghai:20241106T100000
DTSTAMP:20260421T174046
CREATED:20241104T021643Z
LAST-MODIFIED:20241104T021643Z
UID:12830-1730881800-1730887200@www.chonghwakl.edu.my
SUMMARY:讨论室 2 - 陈宇玲老师
DESCRIPTION:申请单位：科学\n申请原因：网课（初一）\n使用者：陈宇玲老师
URL:https://www.chonghwakl.edu.my/library/event/%e8%ae%a8%e8%ae%ba%e5%ae%a4-2-%e9%99%88%e5%ae%87%e7%8e%b2%e8%80%81%e5%b8%88-2/
LOCATION:讨论室 2
END:VEVENT
BEGIN:VEVENT
DTSTART;TZID=Asia/Shanghai:20241106T100000
DTEND;TZID=Asia/Shanghai:20241106T113000
DTSTAMP:20260421T174046
CREATED:20241106T021657Z
LAST-MODIFIED:20241106T021657Z
UID:12851-1730887200-1730892600@www.chonghwakl.edu.my
SUMMARY:讨论室 1 - 陈宝宝老师
DESCRIPTION:申请单位：化学组\n申请原因：补课（4S孝）\n使用者：陈宝宝老师
URL:https://www.chonghwakl.edu.my/library/event/%e8%ae%a8%e8%ae%ba%e5%ae%a4-1-%e9%99%88%e5%ae%9d%e5%ae%9d%e8%80%81%e5%b8%88/
LOCATION:讨论室 1
END:VEVENT
BEGIN:VEVENT
DTSTART;TZID=Asia/Shanghai:20241106T120000
DTEND;TZID=Asia/Shanghai:20241106T130000
DTSTAMP:20260421T174046
CREATED:20241106T023112Z
LAST-MODIFIED:20241106T023112Z
UID:12857-1730894400-1730898000@www.chonghwakl.edu.my
SUMMARY:讨论室 2 - 伍仪焕老师
DESCRIPTION:申请单位：生物\n申请原因：网课（4S Xin）\n使用者：伍仪焕老师
URL:https://www.chonghwakl.edu.my/library/event/%e8%ae%a8%e8%ae%ba%e5%ae%a4-2-%e4%bc%8d%e4%bb%aa%e7%84%95%e8%80%81%e5%b8%88-3/
LOCATION:讨论室 2
END:VEVENT
END:VCALENDAR