BEGIN:VCALENDAR
VERSION:2.0
PRODID:-//吉隆坡中华独立中学资源中心 - ECPv6.5.1.6//NONSGML v1.0//EN
CALSCALE:GREGORIAN
METHOD:PUBLISH
X-ORIGINAL-URL:https://www.chonghwakl.edu.my/library
X-WR-CALDESC:Events for 吉隆坡中华独立中学资源中心
REFRESH-INTERVAL;VALUE=DURATION:PT1H
X-Robots-Tag:noindex
X-PUBLISHED-TTL:PT1H
BEGIN:VTIMEZONE
TZID:Asia/Shanghai
BEGIN:STANDARD
TZOFFSETFROM:+0800
TZOFFSETTO:+0800
TZNAME:CST
DTSTART:20240101T000000
END:STANDARD
END:VTIMEZONE
BEGIN:VEVENT
DTSTART;TZID=Asia/Shanghai:20240809T075000
DTEND;TZID=Asia/Shanghai:20240809T121500
DTSTAMP:20260421T215623
CREATED:20240808T070831Z
LAST-MODIFIED:20240808T070831Z
UID:12180-1723189800-1723205700@www.chonghwakl.edu.my
SUMMARY:讨论室 1 - 学术竞赛处
DESCRIPTION:申请单位：学术竞赛处\n申请原因：2024年雪隆中学华罗庚数学比赛，高中与初中组训练\n使用者：24位学生，请见附录
URL:https://www.chonghwakl.edu.my/library/event/%e8%ae%a8%e8%ae%ba%e5%ae%a4-1-%e5%ad%a6%e6%9c%af%e7%ab%9e%e8%b5%9b%e5%a4%84/
LOCATION:讨论室 1
END:VEVENT
BEGIN:VEVENT
DTSTART;TZID=Asia/Shanghai:20240809T092500
DTEND;TZID=Asia/Shanghai:20240809T103000
DTSTAMP:20260421T215623
CREATED:20240809T043453Z
LAST-MODIFIED:20240809T043453Z
UID:12195-1723195500-1723199400@www.chonghwakl.edu.my
SUMMARY:讨论室 2 - Crystal Kong 江思莹老师
DESCRIPTION:申请单位：Dept of English Language\n申请原因： Meeting (Management of Department)\n使用者：3 Teachers
URL:https://www.chonghwakl.edu.my/library/event/%e8%ae%a8%e8%ae%ba%e5%ae%a4-2-crystal-kong-%e6%b1%9f%e6%80%9d%e8%8e%b9%e8%80%81%e5%b8%88/
LOCATION:讨论室 2
END:VEVENT
BEGIN:VEVENT
DTSTART;TZID=Asia/Shanghai:20240809T153000
DTEND;TZID=Asia/Shanghai:20240809T164000
DTSTAMP:20260421T215623
CREATED:20240809T004633Z
LAST-MODIFIED:20240809T004633Z
UID:12192-1723217400-1723221600@www.chonghwakl.edu.my
SUMMARY:综合厅 - 图书馆学会
DESCRIPTION:申请单位：图书馆学会\n申请原因：进行学会活动彩排\n使用者： 图书馆学会管理员 (refer 学号 210191 陈柔桦)
URL:https://www.chonghwakl.edu.my/library/event/%e7%bb%bc%e5%90%88%e5%8e%85-%e5%9b%be%e4%b9%a6%e9%a6%86%e5%ad%a6%e4%bc%9a-12/
LOCATION:综合厅
END:VEVENT
END:VCALENDAR