BEGIN:VCALENDAR
VERSION:2.0
PRODID:-//吉隆坡中华独立中学资源中心 - ECPv6.5.1.6//NONSGML v1.0//EN
CALSCALE:GREGORIAN
METHOD:PUBLISH
X-ORIGINAL-URL:https://www.chonghwakl.edu.my/library
X-WR-CALDESC:Events for 吉隆坡中华独立中学资源中心
REFRESH-INTERVAL;VALUE=DURATION:PT1H
X-Robots-Tag:noindex
X-PUBLISHED-TTL:PT1H
BEGIN:VTIMEZONE
TZID:Asia/Shanghai
BEGIN:STANDARD
TZOFFSETFROM:+0800
TZOFFSETTO:+0800
TZNAME:CST
DTSTART:20240101T000000
END:STANDARD
END:VTIMEZONE
BEGIN:VEVENT
DTSTART;TZID=Asia/Shanghai:20240806T130000
DTEND;TZID=Asia/Shanghai:20240806T141000
DTSTAMP:20260421T215555
CREATED:20240805T012354Z
LAST-MODIFIED:20240805T012354Z
UID:12160-1722949200-1722953400@www.chonghwakl.edu.my
SUMMARY:讨论室  2 - 岑雁如老师
DESCRIPTION:申请单位：岑雁如老师\n申请原因：讨论高二试卷 Skema\n使用者：8 至 10 位商科老师
URL:https://www.chonghwakl.edu.my/library/event/%e8%ae%a8%e8%ae%ba%e5%ae%a4-2-%e5%b2%91%e9%9b%81%e5%a6%82%e8%80%81%e5%b8%88-3/
LOCATION:讨论室 2
END:VEVENT
END:VCALENDAR