BEGIN:VCALENDAR
VERSION:2.0
PRODID:-//吉隆坡中华独立中学资源中心 - ECPv6.5.1.6//NONSGML v1.0//EN
CALSCALE:GREGORIAN
METHOD:PUBLISH
X-ORIGINAL-URL:https://www.chonghwakl.edu.my/library
X-WR-CALDESC:Events for 吉隆坡中华独立中学资源中心
REFRESH-INTERVAL;VALUE=DURATION:PT1H
X-Robots-Tag:noindex
X-PUBLISHED-TTL:PT1H
BEGIN:VTIMEZONE
TZID:Asia/Shanghai
BEGIN:STANDARD
TZOFFSETFROM:+0800
TZOFFSETTO:+0800
TZNAME:CST
DTSTART:20240101T000000
END:STANDARD
END:VTIMEZONE
BEGIN:VEVENT
DTSTART;TZID=Asia/Shanghai:20240801T083000
DTEND;TZID=Asia/Shanghai:20240801T093000
DTSTAMP:20260421T215552
CREATED:20240801T004202Z
LAST-MODIFIED:20240801T004202Z
UID:12152-1722501000-1722504600@www.chonghwakl.edu.my
SUMMARY:讨论室 3 - 陈雪芬老师
DESCRIPTION:申请单位：商科\n申请原因：录音 (教导学生做习题)\n使用者：陈雪芬老师
URL:https://www.chonghwakl.edu.my/library/event/%e8%ae%a8%e8%ae%ba%e5%ae%a4-3-%e9%99%88%e9%9b%aa%e8%8a%ac%e8%80%81%e5%b8%88/
LOCATION:讨论室 3
END:VEVENT
BEGIN:VEVENT
DTSTART;TZID=Asia/Shanghai:20240801T132000
DTEND;TZID=Asia/Shanghai:20240801T141000
DTSTAMP:20260421T215552
CREATED:20240730T055900Z
LAST-MODIFIED:20240730T055900Z
UID:12144-1722518400-1722521400@www.chonghwakl.edu.my
SUMMARY:讨论室 2 - 严燕妮老师
DESCRIPTION:申请单位：严燕妮老师\n申请原因：讨论高二试卷 Skema\n使用者：8 至 10 位商科老师
URL:https://www.chonghwakl.edu.my/library/event/%e8%ae%a8%e8%ae%ba%e5%ae%a4-2-%e4%b8%a5%e7%87%95%e5%a6%ae%e8%80%81%e5%b8%88-5/
LOCATION:讨论室 2
END:VEVENT
END:VCALENDAR