BEGIN:VCALENDAR
VERSION:2.0
PRODID:-//吉隆坡中华独立中学资源中心 - ECPv6.5.1.6//NONSGML v1.0//EN
CALSCALE:GREGORIAN
METHOD:PUBLISH
X-ORIGINAL-URL:https://www.chonghwakl.edu.my/library
X-WR-CALDESC:Events for 吉隆坡中华独立中学资源中心
REFRESH-INTERVAL;VALUE=DURATION:PT1H
X-Robots-Tag:noindex
X-PUBLISHED-TTL:PT1H
BEGIN:VTIMEZONE
TZID:Asia/Shanghai
BEGIN:STANDARD
TZOFFSETFROM:+0800
TZOFFSETTO:+0800
TZNAME:CST
DTSTART:20240101T000000
END:STANDARD
END:VTIMEZONE
BEGIN:VEVENT
DTSTART;TZID=Asia/Shanghai:20240518T073000
DTEND;TZID=Asia/Shanghai:20240518T120000
DTSTAMP:20260422T015626
CREATED:20240518T020700Z
LAST-MODIFIED:20240518T020700Z
UID:11448-1716017400-1716033600@www.chonghwakl.edu.my
SUMMARY:讨论室 2 - 叶沫利老师
DESCRIPTION:申请单位：地理\n申请原因：讨论如何有效学习\n使用者：叶沫利老师 和2位学生
URL:https://www.chonghwakl.edu.my/library/event/%e8%ae%a8%e8%ae%ba%e5%ae%a4-2-%e5%8f%b6%e6%b2%ab%e5%88%a9%e8%80%81%e5%b8%88/
LOCATION:讨论室 2
END:VEVENT
BEGIN:VEVENT
DTSTART;TZID=Asia/Shanghai:20240518T100000
DTEND;TZID=Asia/Shanghai:20240518T130000
DTSTAMP:20260422T015626
CREATED:20240517T031840Z
LAST-MODIFIED:20240517T031840Z
UID:11446-1716026400-1716037200@www.chonghwakl.edu.my
SUMMARY:综合厅 - 光华独中行政团队参访
DESCRIPTION:申请单位：\n申请原因：进行读书会 (学会活动)\n使用者：文史馆 李秀萍老师、出版组 余启航老师 一同交流
URL:https://www.chonghwakl.edu.my/library/event/%e7%bb%bc%e5%90%88%e5%8e%85-%e5%85%89%e5%8d%8e%e7%8b%ac%e4%b8%ad%e8%a1%8c%e6%94%bf%e5%9b%a2%e9%98%9f%e5%8f%82%e8%ae%bf/
LOCATION:综合厅
END:VEVENT
END:VCALENDAR