BEGIN:VCALENDAR
VERSION:2.0
PRODID:-//吉隆坡中华独立中学资源中心 - ECPv6.5.1.6//NONSGML v1.0//EN
CALSCALE:GREGORIAN
METHOD:PUBLISH
X-ORIGINAL-URL:https://www.chonghwakl.edu.my/library
X-WR-CALDESC:Events for 吉隆坡中华独立中学资源中心
REFRESH-INTERVAL;VALUE=DURATION:PT1H
X-Robots-Tag:noindex
X-PUBLISHED-TTL:PT1H
BEGIN:VTIMEZONE
TZID:Asia/Shanghai
BEGIN:STANDARD
TZOFFSETFROM:+0800
TZOFFSETTO:+0800
TZNAME:CST
DTSTART:20240101T000000
END:STANDARD
END:VTIMEZONE
BEGIN:VEVENT
DTSTART;TZID=Asia/Shanghai:20240320T073000
DTEND;TZID=Asia/Shanghai:20240320T082500
DTSTAMP:20260422T044950
CREATED:20240316T021205Z
LAST-MODIFIED:20240316T021423Z
UID:10825-1710919800-1710923100@www.chonghwakl.edu.my
SUMMARY:资源中心 - 叶沫利老师
DESCRIPTION:申请单位：初一孝\n申请原因：教师带班参观资源中心\n使用者：叶沫利老师 与 初一孝53位学生
URL:https://www.chonghwakl.edu.my/library/event/%e8%b5%84%e6%ba%90%e4%b8%ad%e5%bf%83-%e5%8f%b6%e6%b2%ab%e5%88%a9%e8%80%81%e5%b8%88/
END:VEVENT
END:VCALENDAR