BEGIN:VCALENDAR
VERSION:2.0
PRODID:-//吉隆坡中华独立中学资源中心 - ECPv6.5.1.6//NONSGML v1.0//EN
CALSCALE:GREGORIAN
METHOD:PUBLISH
X-ORIGINAL-URL:https://www.chonghwakl.edu.my/library
X-WR-CALDESC:Events for 吉隆坡中华独立中学资源中心
REFRESH-INTERVAL;VALUE=DURATION:PT1H
X-Robots-Tag:noindex
X-PUBLISHED-TTL:PT1H
BEGIN:VTIMEZONE
TZID:Asia/Shanghai
BEGIN:STANDARD
TZOFFSETFROM:+0800
TZOFFSETTO:+0800
TZNAME:CST
DTSTART:20230101T000000
END:STANDARD
END:VTIMEZONE
BEGIN:VEVENT
DTSTART;TZID=Asia/Shanghai:20231107T090000
DTEND;TZID=Asia/Shanghai:20231107T103000
DTSTAMP:20260422T104816
CREATED:20231106T064847Z
LAST-MODIFIED:20231106T064847Z
UID:9965-1699347600-1699353000@www.chonghwakl.edu.my
SUMMARY:讨论室 1 - 曹潔瑩老师
DESCRIPTION:申请单位：华文组\n申请原因：网课\n使用者：曹潔瑩老师
URL:https://www.chonghwakl.edu.my/library/event/%e8%ae%a8%e8%ae%ba%e5%ae%a4-1-%e6%9b%b9%e6%bd%94%e7%91%a9%e8%80%81%e5%b8%88/
LOCATION:讨论室 1
END:VEVENT
BEGIN:VEVENT
DTSTART;TZID=Asia/Shanghai:20231107T090000
DTEND;TZID=Asia/Shanghai:20231107T120000
DTSTAMP:20260422T104816
CREATED:20231105T234641Z
LAST-MODIFIED:20231105T234641Z
UID:9954-1699347600-1699358400@www.chonghwakl.edu.my
SUMMARY:讨论室 2 - 曾丽丽老师
DESCRIPTION:申请单位：历史组\n申请原因：上网课\n使用者：曾丽丽老师
URL:https://www.chonghwakl.edu.my/library/event/%e8%ae%a8%e8%ae%ba%e5%ae%a4-2-%e6%9b%be%e4%b8%bd%e4%b8%bd%e8%80%81%e5%b8%88-2/
LOCATION:讨论室 2
END:VEVENT
BEGIN:VEVENT
DTSTART;TZID=Asia/Shanghai:20231107T100000
DTEND;TZID=Asia/Shanghai:20231107T110000
DTSTAMP:20260422T104816
CREATED:20231106T005130Z
LAST-MODIFIED:20231106T005341Z
UID:9957-1699351200-1699354800@www.chonghwakl.edu.my
SUMMARY:讨论室 3 - 严燕妮老师
DESCRIPTION:申请单位：商科组\n申请原因：网课\n使用者：严燕妮老师
URL:https://www.chonghwakl.edu.my/library/event/%e8%ae%a8%e8%ae%ba%e5%ae%a4-3-%e4%b8%a5%e7%87%95%e5%a6%ae%e8%80%81%e5%b8%88/
LOCATION:讨论室 3
END:VEVENT
END:VCALENDAR