BEGIN:VCALENDAR
VERSION:2.0
PRODID:-//吉隆坡中华独立中学资源中心 - ECPv6.5.1.6//NONSGML v1.0//EN
CALSCALE:GREGORIAN
METHOD:PUBLISH
X-WR-CALNAME:吉隆坡中华独立中学资源中心
X-ORIGINAL-URL:https://www.chonghwakl.edu.my/library
X-WR-CALDESC:Events for 吉隆坡中华独立中学资源中心
REFRESH-INTERVAL;VALUE=DURATION:PT1H
X-Robots-Tag:noindex
X-PUBLISHED-TTL:PT1H
BEGIN:VTIMEZONE
TZID:Asia/Shanghai
BEGIN:STANDARD
TZOFFSETFROM:+0800
TZOFFSETTO:+0800
TZNAME:CST
DTSTART:20230101T000000
END:STANDARD
END:VTIMEZONE
BEGIN:VEVENT
DTSTART;TZID=Asia/Shanghai:20231007T100000
DTEND;TZID=Asia/Shanghai:20231007T110000
DTSTAMP:20260422T121014
CREATED:20231007T021729Z
LAST-MODIFIED:20231007T021729Z
UID:9561-1696672800-1696676400@www.chonghwakl.edu.my
SUMMARY:讨论室 1 - 李欣凌老师 与3位老师
DESCRIPTION:申请单位：华文组\n申请原因：讨论班级活动\n使用者：李欣凌老师  与3位老师 (共4人)
URL:https://www.chonghwakl.edu.my/library/event/%e8%ae%a8%e8%ae%ba%e5%ae%a4-1-%e6%9d%8e%e6%ac%a3%e5%87%8c%e8%80%81%e5%b8%88-%e4%b8%8e3%e4%bd%8d%e8%80%81%e5%b8%88/
LOCATION:讨论室 1
END:VEVENT
END:VCALENDAR