BEGIN:VCALENDAR
VERSION:2.0
PRODID:-//吉隆坡中华独立中学资源中心 - ECPv6.5.1.6//NONSGML v1.0//EN
CALSCALE:GREGORIAN
METHOD:PUBLISH
X-ORIGINAL-URL:https://www.chonghwakl.edu.my/library
X-WR-CALDESC:Events for 吉隆坡中华独立中学资源中心
REFRESH-INTERVAL;VALUE=DURATION:PT1H
X-Robots-Tag:noindex
X-PUBLISHED-TTL:PT1H
BEGIN:VTIMEZONE
TZID:Asia/Shanghai
BEGIN:STANDARD
TZOFFSETFROM:+0800
TZOFFSETTO:+0800
TZNAME:CST
DTSTART:20230101T000000
END:STANDARD
END:VTIMEZONE
BEGIN:VEVENT
DTSTART;TZID=Asia/Shanghai:20230726T091500
DTEND;TZID=Asia/Shanghai:20230726T100000
DTSTAMP:20260422T155430
CREATED:20230726T011841Z
LAST-MODIFIED:20230726T011841Z
UID:8600-1690362900-1690365600@www.chonghwakl.edu.my
SUMMARY:讨论室 2 - 邱娜娜 老师
DESCRIPTION:申请单位：商科组\n申请原因：网课\n使用者：邱娜娜 老师
URL:https://www.chonghwakl.edu.my/library/event/%e8%ae%a8%e8%ae%ba%e5%ae%a4-2-%e9%82%b1%e5%a8%9c%e5%a8%9c-%e8%80%81%e5%b8%88-6/
LOCATION:讨论室 2
END:VEVENT
END:VCALENDAR