BEGIN:VCALENDAR
VERSION:2.0
PRODID:-//吉隆坡中华独立中学资源中心 - ECPv6.5.1.6//NONSGML v1.0//EN
CALSCALE:GREGORIAN
METHOD:PUBLISH
X-ORIGINAL-URL:https://www.chonghwakl.edu.my/library
X-WR-CALDESC:Events for 吉隆坡中华独立中学资源中心
REFRESH-INTERVAL;VALUE=DURATION:PT1H
X-Robots-Tag:noindex
X-PUBLISHED-TTL:PT1H
BEGIN:VTIMEZONE
TZID:Asia/Shanghai
BEGIN:STANDARD
TZOFFSETFROM:+0800
TZOFFSETTO:+0800
TZNAME:CST
DTSTART:20230101T000000
END:STANDARD
END:VTIMEZONE
BEGIN:VEVENT
DTSTART;TZID=Asia/Shanghai:20230721T133000
DTEND;TZID=Asia/Shanghai:20230721T150000
DTSTAMP:20260422T155430
CREATED:20230721T011933Z
LAST-MODIFIED:20230721T011933Z
UID:8591-1689946200-1689951600@www.chonghwakl.edu.my
SUMMARY:讨论室 3 - 岑雁如老师
DESCRIPTION:申请单位：商科组\n申请原因：商科组试卷评阅讨论\n使用者：8位老师
URL:https://www.chonghwakl.edu.my/library/event/%e8%ae%a8%e8%ae%ba%e5%ae%a4-3-%e5%b2%91%e9%9b%81%e5%a6%82%e8%80%81%e5%b8%88/
LOCATION:讨论室 3
END:VEVENT
END:VCALENDAR