BEGIN:VCALENDAR
VERSION:2.0
PRODID:-//吉隆坡中华独立中学资源中心 - ECPv6.5.1.6//NONSGML v1.0//EN
CALSCALE:GREGORIAN
METHOD:PUBLISH
X-ORIGINAL-URL:https://www.chonghwakl.edu.my/library
X-WR-CALDESC:Events for 吉隆坡中华独立中学资源中心
REFRESH-INTERVAL;VALUE=DURATION:PT1H
X-Robots-Tag:noindex
X-PUBLISHED-TTL:PT1H
BEGIN:VTIMEZONE
TZID:Asia/Shanghai
BEGIN:STANDARD
TZOFFSETFROM:+0800
TZOFFSETTO:+0800
TZNAME:CST
DTSTART:20230101T000000
END:STANDARD
END:VTIMEZONE
BEGIN:VEVENT
DTSTART;TZID=Asia/Shanghai:20230523T153500
DTEND;TZID=Asia/Shanghai:20230523T164000
DTSTAMP:20260422T181947
CREATED:20230523T010752Z
LAST-MODIFIED:20230523T010752Z
UID:8098-1684856100-1684860000@www.chonghwakl.edu.my
SUMMARY:讨论室 2 - 唐碧云老师与6位学生
DESCRIPTION:申请单位：二十四节令鼓学会\n申请原因：执委会议\n使用者：\n唐碧云老师、6位学生
URL:https://www.chonghwakl.edu.my/library/event/%e8%ae%a8%e8%ae%ba%e5%ae%a4-2-%e5%94%90%e7%a2%a7%e4%ba%91%e8%80%81%e5%b8%88%e4%b8%8e6%e4%bd%8d%e5%ad%a6%e7%94%9f/
LOCATION:讨论室 2
END:VEVENT
END:VCALENDAR