BEGIN:VCALENDAR
VERSION:2.0
PRODID:-//吉隆坡中华独立中学资源中心 - ECPv6.5.1.6//NONSGML v1.0//EN
CALSCALE:GREGORIAN
METHOD:PUBLISH
X-ORIGINAL-URL:https://www.chonghwakl.edu.my/library
X-WR-CALDESC:Events for 吉隆坡中华独立中学资源中心
REFRESH-INTERVAL;VALUE=DURATION:PT1H
X-Robots-Tag:noindex
X-PUBLISHED-TTL:PT1H
BEGIN:VTIMEZONE
TZID:Asia/Shanghai
BEGIN:STANDARD
TZOFFSETFROM:+0800
TZOFFSETTO:+0800
TZNAME:CST
DTSTART:20230101T000000
END:STANDARD
END:VTIMEZONE
BEGIN:VEVENT
DTSTART;TZID=Asia/Shanghai:20230517T142000
DTEND;TZID=Asia/Shanghai:20230517T163000
DTSTAMP:20260422T181927
CREATED:20230517T023738Z
LAST-MODIFIED:20230517T023845Z
UID:8022-1684333200-1684341000@www.chonghwakl.edu.my
SUMMARY:讨论室 2 - 陈靖轩 老师 与 6位学生
DESCRIPTION:申请单位：历国\n申请原因：讨论班务\n使用者：\n陈靖轩老师、6位学生
URL:https://www.chonghwakl.edu.my/library/event/%e8%ae%a8%e8%ae%ba%e5%ae%a4-2-%e9%99%88%e9%9d%96%e8%bd%a9-%e5%b8%88-%e4%b8%8e-6%e4%bd%8d%e5%ad%a6%e7%94%9f/
LOCATION:讨论室 2
END:VEVENT
END:VCALENDAR