BEGIN:VCALENDAR
VERSION:2.0
PRODID:-//吉隆坡中华独立中学资源中心 - ECPv6.5.1.6//NONSGML v1.0//EN
CALSCALE:GREGORIAN
METHOD:PUBLISH
X-WR-CALNAME:吉隆坡中华独立中学资源中心
X-ORIGINAL-URL:https://www.chonghwakl.edu.my/library
X-WR-CALDESC:Events for 吉隆坡中华独立中学资源中心
REFRESH-INTERVAL;VALUE=DURATION:PT1H
X-Robots-Tag:noindex
X-PUBLISHED-TTL:PT1H
BEGIN:VTIMEZONE
TZID:Asia/Shanghai
BEGIN:STANDARD
TZOFFSETFROM:+0800
TZOFFSETTO:+0800
TZNAME:CST
DTSTART:20230101T000000
END:STANDARD
END:VTIMEZONE
BEGIN:VEVENT
DTSTART;TZID=Asia/Shanghai:20230202T123000
DTEND;TZID=Asia/Shanghai:20230202T141500
DTSTAMP:20260422T221211
CREATED:20230202T050331Z
LAST-MODIFIED:20230202T071354Z
UID:7137-1675341000-1675347300@www.chonghwakl.edu.my
SUMMARY:讨论室 1 - 蔡忠霖老师 与 5位学生
DESCRIPTION:申请单位：数学\n申请原因：讨论作业\n使用者：\n蔡忠霖老师、\n4位学生 (1 连祎180520 、2 叶彦扬180627 、3 高婧昕180601、4 陈韦静180747、5 江振维180827)
URL:https://www.chonghwakl.edu.my/library/event/%e8%ae%a8%e8%ae%ba%e5%ae%a4-1-%e8%94%a1%e5%bf%a0%e9%9c%96%e8%80%81%e5%b8%88-%e4%b8%8e-5%e4%bd%8d%e5%ad%a6%e7%94%9f/
LOCATION:讨论室 1
END:VEVENT
END:VCALENDAR