BEGIN:VCALENDAR
VERSION:2.0
PRODID:-//吉隆坡中华独立中学资源中心 - ECPv6.5.1.6//NONSGML v1.0//EN
CALSCALE:GREGORIAN
METHOD:PUBLISH
X-ORIGINAL-URL:https://www.chonghwakl.edu.my/library
X-WR-CALDESC:Events for 吉隆坡中华独立中学资源中心
REFRESH-INTERVAL;VALUE=DURATION:PT1H
X-Robots-Tag:noindex
X-PUBLISHED-TTL:PT1H
BEGIN:VTIMEZONE
TZID:Asia/Shanghai
BEGIN:STANDARD
TZOFFSETFROM:+0800
TZOFFSETTO:+0800
TZNAME:CST
DTSTART:20230101T000000
END:STANDARD
END:VTIMEZONE
BEGIN:VEVENT
DTSTART;TZID=Asia/Shanghai:20230112T153000
DTEND;TZID=Asia/Shanghai:20230112T164500
DTSTAMP:20260422T232549
CREATED:20230110T023846Z
LAST-MODIFIED:20230111T054137Z
UID:6843-1673537400-1673541900@www.chonghwakl.edu.my
SUMMARY:综合厅 - 图书馆学会
DESCRIPTION:申请单位：图书馆学会\n申请原因：执委会议\n使用者：图书馆管理员  共 18人
URL:https://www.chonghwakl.edu.my/library/event/%e8%ae%a8%e8%ae%ba%e5%ae%a4-2-%e5%bc%a0%e5%98%89%e6%85%a7-%e8%80%81%e5%b8%88/
LOCATION:综合厅
END:VEVENT
END:VCALENDAR