BEGIN:VCALENDAR
VERSION:2.0
PRODID:-//吉隆坡中华独立中学资源中心 - ECPv6.5.1.6//NONSGML v1.0//EN
CALSCALE:GREGORIAN
METHOD:PUBLISH
X-WR-CALNAME:吉隆坡中华独立中学资源中心
X-ORIGINAL-URL:https://www.chonghwakl.edu.my/library
X-WR-CALDESC:Events for 吉隆坡中华独立中学资源中心
REFRESH-INTERVAL;VALUE=DURATION:PT1H
X-Robots-Tag:noindex
X-PUBLISHED-TTL:PT1H
BEGIN:VTIMEZONE
TZID:Asia/Shanghai
BEGIN:STANDARD
TZOFFSETFROM:+0800
TZOFFSETTO:+0800
TZNAME:CST
DTSTART:20230101T000000
END:STANDARD
END:VTIMEZONE
BEGIN:VEVENT
DTSTART;TZID=Asia/Shanghai:20230104T125000
DTEND;TZID=Asia/Shanghai:20230106T132500
DTSTAMP:20260422T232437
CREATED:20230103T234850Z
LAST-MODIFIED:20230103T235103Z
UID:6829-1672836600-1673011500@www.chonghwakl.edu.my
SUMMARY:资源中心 13楼
DESCRIPTION:申请单位：2023 新春活动筹委团\n申请原因：拍摄教师祝福短片\n使用者：吴冠希 ( 190370 高一商忠)
URL:https://www.chonghwakl.edu.my/library/event/%e8%b5%84%e6%ba%90%e4%b8%ad%e5%bf%83-13%e6%a5%bc/
END:VEVENT
END:VCALENDAR