BEGIN:VCALENDAR
VERSION:2.0
PRODID:-//吉隆坡中华独立中学资源中心 - ECPv6.5.1.6//NONSGML v1.0//EN
CALSCALE:GREGORIAN
METHOD:PUBLISH
X-WR-CALNAME:吉隆坡中华独立中学资源中心
X-ORIGINAL-URL:https://www.chonghwakl.edu.my/library
X-WR-CALDESC:Events for 吉隆坡中华独立中学资源中心
REFRESH-INTERVAL;VALUE=DURATION:PT1H
X-Robots-Tag:noindex
X-PUBLISHED-TTL:PT1H
BEGIN:VTIMEZONE
TZID:Asia/Shanghai
BEGIN:STANDARD
TZOFFSETFROM:+0800
TZOFFSETTO:+0800
TZNAME:CST
DTSTART:20220101T000000
END:STANDARD
END:VTIMEZONE
BEGIN:VEVENT
DTSTART;TZID=Asia/Shanghai:20221125T090000
DTEND;TZID=Asia/Shanghai:20221125T110000
DTSTAMP:20260423T015626
CREATED:20221121T054002Z
LAST-MODIFIED:20221121T054002Z
UID:6472-1669366800-1669374000@www.chonghwakl.edu.my
SUMMARY:讨论室 2 - 邱娜娜 老师
DESCRIPTION:申请单位：商科\n申请原因：补课\n使用者：邱娜娜 老师 与学生
URL:https://www.chonghwakl.edu.my/library/event/%e8%ae%a8%e8%ae%ba%e5%ae%a4-2-%e9%82%b1%e5%a8%9c%e5%a8%9c-%e8%80%81%e5%b8%88-4/
LOCATION:讨论室 2
END:VEVENT
BEGIN:VEVENT
DTSTART;TZID=Asia/Shanghai:20221125T100000
DTEND;TZID=Asia/Shanghai:20221125T120000
DTSTAMP:20260423T015626
CREATED:20221121T020058Z
LAST-MODIFIED:20221121T020058Z
UID:6468-1669370400-1669377600@www.chonghwakl.edu.my
SUMMARY:讨论室 1 - 许维存 老师
DESCRIPTION:申请单位：数学\n申请原因：上网课  (4AC zhong)\n使用者：许维存 老师
URL:https://www.chonghwakl.edu.my/library/event/%e8%ae%a8%e8%ae%ba%e5%ae%a4-1-%e8%ae%b8%e7%bb%b4%e5%ad%98-%e8%80%81%e5%b8%88-4/
LOCATION:讨论室 1
END:VEVENT
END:VCALENDAR