BEGIN:VCALENDAR
VERSION:2.0
PRODID:-//吉隆坡中华独立中学资源中心 - ECPv6.5.1.6//NONSGML v1.0//EN
CALSCALE:GREGORIAN
METHOD:PUBLISH
X-WR-CALNAME:吉隆坡中华独立中学资源中心
X-ORIGINAL-URL:https://www.chonghwakl.edu.my/library
X-WR-CALDESC:Events for 吉隆坡中华独立中学资源中心
REFRESH-INTERVAL;VALUE=DURATION:PT1H
X-Robots-Tag:noindex
X-PUBLISHED-TTL:PT1H
BEGIN:VTIMEZONE
TZID:Asia/Shanghai
BEGIN:STANDARD
TZOFFSETFROM:+0800
TZOFFSETTO:+0800
TZNAME:CST
DTSTART:20220101T000000
END:STANDARD
END:VTIMEZONE
BEGIN:VEVENT
DTSTART;TZID=Asia/Shanghai:20221123T090000
DTEND;TZID=Asia/Shanghai:20221123T110000
DTSTAMP:20260423T015601
CREATED:20221121T053830Z
LAST-MODIFIED:20221125T060704Z
UID:6470-1669194000-1669201200@www.chonghwakl.edu.my
SUMMARY:讨论室 2 - 邱娜娜 老师
DESCRIPTION:申请单位：商科\n申请原因：补课\n使用者：\n邱娜娜 老师 与 1位学生 (薛雅钰 190133)
URL:https://www.chonghwakl.edu.my/library/event/%e8%ae%a8%e8%ae%ba%e5%ae%a4-2-%e9%82%b1%e5%a8%9c%e5%a8%9c-%e8%80%81%e5%b8%88-3/
LOCATION:讨论室 2
END:VEVENT
BEGIN:VEVENT
DTSTART;TZID=Asia/Shanghai:20221123T100000
DTEND;TZID=Asia/Shanghai:20221123T120000
DTSTAMP:20260423T015601
CREATED:20221121T015813Z
LAST-MODIFIED:20221121T015813Z
UID:6466-1669197600-1669204800@www.chonghwakl.edu.my
SUMMARY:讨论室 1 - 许维存 老师
DESCRIPTION:申请单位：数学\n申请原因：上网课  (4AC zhong)\n使用者：许维存 老师
URL:https://www.chonghwakl.edu.my/library/event/%e8%ae%a8%e8%ae%ba%e5%ae%a4-1-%e8%ae%b8%e7%bb%b4%e5%ad%98-%e8%80%81%e5%b8%88-3/
LOCATION:讨论室 1
END:VEVENT
END:VCALENDAR