BEGIN:VCALENDAR
VERSION:2.0
PRODID:-//吉隆坡中华独立中学资源中心 - ECPv6.5.1.6//NONSGML v1.0//EN
CALSCALE:GREGORIAN
METHOD:PUBLISH
X-ORIGINAL-URL:https://www.chonghwakl.edu.my/library
X-WR-CALDESC:Events for 吉隆坡中华独立中学资源中心
REFRESH-INTERVAL;VALUE=DURATION:PT1H
X-Robots-Tag:noindex
X-PUBLISHED-TTL:PT1H
BEGIN:VTIMEZONE
TZID:Asia/Shanghai
BEGIN:STANDARD
TZOFFSETFROM:+0800
TZOFFSETTO:+0800
TZNAME:CST
DTSTART:20220101T000000
END:STANDARD
END:VTIMEZONE
BEGIN:VEVENT
DTSTART;TZID=Asia/Shanghai:20221122T093000
DTEND;TZID=Asia/Shanghai:20221122T120000
DTSTAMP:20260423T015715
CREATED:20221122T011241Z
LAST-MODIFIED:20221122T012002Z
UID:6474-1669109400-1669118400@www.chonghwakl.edu.my
SUMMARY:讨论室 2 - 严燕妮 老师
DESCRIPTION:申请单位：商科\n申请原因：zoom recording  (5AC 信)\n使用者：严燕妮 老师
URL:https://www.chonghwakl.edu.my/library/event/%e8%ae%a8%e8%ae%ba%e5%ae%a4-2-%e4%b8%a5%e7%87%95%e5%a6%ae-%e8%80%81%e5%b8%88-2/
LOCATION:讨论室 2
END:VEVENT
BEGIN:VEVENT
DTSTART;TZID=Asia/Shanghai:20221122T110000
DTEND;TZID=Asia/Shanghai:20221122T130000
DTSTAMP:20260423T015715
CREATED:20221121T015714Z
LAST-MODIFIED:20221121T015714Z
UID:6464-1669114800-1669122000@www.chonghwakl.edu.my
SUMMARY:讨论室 1 -  许维存 老师
DESCRIPTION:申请单位：数学\n申请原因：上网课  (4AC zhong)\n使用者：许维存 老师
URL:https://www.chonghwakl.edu.my/library/event/%e8%ae%a8%e8%ae%ba%e5%ae%a4-1-%e8%ae%b8%e7%bb%b4%e5%ad%98-%e8%80%81%e5%b8%88-2/
LOCATION:讨论室 1
END:VEVENT
END:VCALENDAR