BEGIN:VCALENDAR
VERSION:2.0
PRODID:-//吉隆坡中华独立中学资源中心 - ECPv6.5.1.6//NONSGML v1.0//EN
CALSCALE:GREGORIAN
METHOD:PUBLISH
X-WR-CALNAME:吉隆坡中华独立中学资源中心
X-ORIGINAL-URL:https://www.chonghwakl.edu.my/library
X-WR-CALDESC:Events for 吉隆坡中华独立中学资源中心
REFRESH-INTERVAL;VALUE=DURATION:PT1H
X-Robots-Tag:noindex
X-PUBLISHED-TTL:PT1H
BEGIN:VTIMEZONE
TZID:Asia/Shanghai
BEGIN:STANDARD
TZOFFSETFROM:+0800
TZOFFSETTO:+0800
TZNAME:CST
DTSTART:20220101T000000
END:STANDARD
END:VTIMEZONE
BEGIN:VEVENT
DTSTART;TZID=Asia/Shanghai:20221117T081000
DTEND;TZID=Asia/Shanghai:20221117T210000
DTSTAMP:20260423T015604
CREATED:20221117T002821Z
LAST-MODIFIED:20221117T002821Z
UID:6446-1668672600-1668718800@www.chonghwakl.edu.my
SUMMARY:讨论室 1 - 陈宝宝 老师
DESCRIPTION:申请单位：化学\n申请原因：讨论功课\n使用者：\n陈宝宝老师、\n2位学生 (1 黄千倪170189、2 汪昱诚170171 )
URL:https://www.chonghwakl.edu.my/library/event/%e8%ae%a8%e8%ae%ba%e5%ae%a4-1-%e9%99%88%e5%ae%9d%e5%ae%9d-%e8%80%81%e5%b8%88-2/
LOCATION:讨论室 1
END:VEVENT
END:VCALENDAR