BEGIN:VCALENDAR
VERSION:2.0
PRODID:-//吉隆坡中华独立中学资源中心 - ECPv6.5.1.6//NONSGML v1.0//EN
CALSCALE:GREGORIAN
METHOD:PUBLISH
X-WR-CALNAME:吉隆坡中华独立中学资源中心
X-ORIGINAL-URL:https://www.chonghwakl.edu.my/library
X-WR-CALDESC:Events for 吉隆坡中华独立中学资源中心
REFRESH-INTERVAL;VALUE=DURATION:PT1H
X-Robots-Tag:noindex
X-PUBLISHED-TTL:PT1H
BEGIN:VTIMEZONE
TZID:Asia/Shanghai
BEGIN:STANDARD
TZOFFSETFROM:+0800
TZOFFSETTO:+0800
TZNAME:CST
DTSTART:20220101T000000
END:STANDARD
END:VTIMEZONE
BEGIN:VEVENT
DTSTART;TZID=Asia/Shanghai:20221116T103000
DTEND;TZID=Asia/Shanghai:20221116T123000
DTSTAMP:20260423T015602
CREATED:20221115T234637Z
LAST-MODIFIED:20221115T234637Z
UID:6307-1668594600-1668601800@www.chonghwakl.edu.my
SUMMARY:讨论室 2 - 李遴杰 老师
DESCRIPTION:申请单位：商科\n申请原因：网课  (6AC孝、6C孝)\n使用者：李遴杰 老师
URL:https://www.chonghwakl.edu.my/library/event/%e8%ae%a8%e8%ae%ba%e5%ae%a4-2-%e6%9d%8e%e9%81%b4%e6%9d%b0-%e8%80%81%e5%b8%88/
LOCATION:讨论室 2
END:VEVENT
BEGIN:VEVENT
DTSTART;TZID=Asia/Shanghai:20221116T125000
DTEND;TZID=Asia/Shanghai:20221116T140500
DTSTAMP:20260423T015602
CREATED:20221116T051717Z
LAST-MODIFIED:20221116T051717Z
UID:6309-1668603000-1668607500@www.chonghwakl.edu.my
SUMMARY:讨论室 1 - 林凤菁 老师
DESCRIPTION:申请单位：物理科\n申请原因：高三物理 讨论统考\n使用者：\n林凤菁老师、\n4位学生(1 侯猷谦170173、2 蔡兆昌170516、3 陈治亨170205、4 苏顗萱170129)
URL:https://www.chonghwakl.edu.my/library/event/%e8%ae%a8%e8%ae%ba%e5%ae%a4-1-%e6%9e%97%e5%87%a4%e8%8f%81-%e8%80%81%e5%b8%88/
LOCATION:讨论室 1
END:VEVENT
END:VCALENDAR