BEGIN:VCALENDAR
VERSION:2.0
PRODID:-//吉隆坡中华独立中学资源中心 - ECPv6.5.1.6//NONSGML v1.0//EN
CALSCALE:GREGORIAN
METHOD:PUBLISH
X-ORIGINAL-URL:https://www.chonghwakl.edu.my/library
X-WR-CALDESC:Events for 吉隆坡中华独立中学资源中心
REFRESH-INTERVAL;VALUE=DURATION:PT1H
X-Robots-Tag:noindex
X-PUBLISHED-TTL:PT1H
BEGIN:VTIMEZONE
TZID:Asia/Shanghai
BEGIN:STANDARD
TZOFFSETFROM:+0800
TZOFFSETTO:+0800
TZNAME:CST
DTSTART:20220101T000000
END:STANDARD
END:VTIMEZONE
BEGIN:VEVENT
DTSTART;TZID=Asia/Shanghai:20221015T100000
DTEND;TZID=Asia/Shanghai:20221015T120000
DTSTAMP:20260423T030238
CREATED:20221013T014426Z
LAST-MODIFIED:20221013T014426Z
UID:6062-1665828000-1665835200@www.chonghwakl.edu.my
SUMMARY:讨论室 3 - 唐碧云 老师 与 6 位学会执委
DESCRIPTION:申请单位：二十四节令鼓学会\n申请原因：讨论学会会务\n使用者：唐碧云老师 与 6 位学会执委
URL:https://www.chonghwakl.edu.my/library/event/%e8%ae%a8%e8%ae%ba%e5%ae%a4-3-%e5%94%90%e7%a2%a7%e4%ba%91-%e8%80%81%e5%b8%88-%e4%b8%8e-6-%e4%bd%8d%e5%ad%a6%e4%bc%9a%e6%89%a7%e5%a7%94/
LOCATION:讨论室 3
END:VEVENT
END:VCALENDAR