BEGIN:VCALENDAR
VERSION:2.0
PRODID:-//吉隆坡中华独立中学资源中心 - ECPv6.5.1.6//NONSGML v1.0//EN
CALSCALE:GREGORIAN
METHOD:PUBLISH
X-WR-CALNAME:吉隆坡中华独立中学资源中心
X-ORIGINAL-URL:https://www.chonghwakl.edu.my/library
X-WR-CALDESC:Events for 吉隆坡中华独立中学资源中心
REFRESH-INTERVAL;VALUE=DURATION:PT1H
X-Robots-Tag:noindex
X-PUBLISHED-TTL:PT1H
BEGIN:VTIMEZONE
TZID:Asia/Shanghai
BEGIN:STANDARD
TZOFFSETFROM:+0800
TZOFFSETTO:+0800
TZNAME:CST
DTSTART:20220101T000000
END:STANDARD
END:VTIMEZONE
BEGIN:VEVENT
DTSTART;TZID=Asia/Shanghai:20220806T074500
DTEND;TZID=Asia/Shanghai:20220806T140000
DTSTAMP:20260423T054615
CREATED:20220806T024055Z
LAST-MODIFIED:20220806T024055Z
UID:5514-1659771900-1659794400@www.chonghwakl.edu.my
SUMMARY:讨论室 2 - 张文耀 老师
DESCRIPTION:申请原因 ：跨阅 2.0 ：学与教的深耕与实践工作坊\n使用者   ：张文耀 老师\n申请单位 ：教职研修处  陈芝嘉 老师
URL:https://www.chonghwakl.edu.my/library/event/%e8%ae%a8%e8%ae%ba%e5%ae%a4-2-%e5%bc%a0%e6%96%87%e8%80%80-%e8%80%81%e5%b8%88-2/
LOCATION:讨论室 2
END:VEVENT
END:VCALENDAR