BEGIN:VCALENDAR
VERSION:2.0
PRODID:-//吉隆坡中华独立中学资源中心 - ECPv6.5.1.6//NONSGML v1.0//EN
CALSCALE:GREGORIAN
METHOD:PUBLISH
X-WR-CALNAME:吉隆坡中华独立中学资源中心
X-ORIGINAL-URL:https://www.chonghwakl.edu.my/library
X-WR-CALDESC:Events for 吉隆坡中华独立中学资源中心
REFRESH-INTERVAL;VALUE=DURATION:PT1H
X-Robots-Tag:noindex
X-PUBLISHED-TTL:PT1H
BEGIN:VTIMEZONE
TZID:Asia/Shanghai
BEGIN:STANDARD
TZOFFSETFROM:+0800
TZOFFSETTO:+0800
TZNAME:CST
DTSTART:20220101T000000
END:STANDARD
END:VTIMEZONE
BEGIN:VEVENT
DTSTART;TZID=Asia/Shanghai:20220805T074500
DTEND;TZID=Asia/Shanghai:20220805T140000
DTSTAMP:20260423T055027
CREATED:20220804T011950Z
LAST-MODIFIED:20220806T023922Z
UID:5297-1659685500-1659708000@www.chonghwakl.edu.my
SUMMARY:讨论室 2 - 张文耀 老师
DESCRIPTION:申请原因 ：跨阅 2.0 ：学与教的深耕与实践工作坊\n使用者   ：张文耀 老师\n申请单位 ：教职研修处  陈芝嘉 老师
URL:https://www.chonghwakl.edu.my/library/event/%e8%ae%a8%e8%ae%ba%e5%ae%a4-2-%e5%bc%a0%e6%96%87%e8%80%80-%e8%80%81%e5%b8%88/
END:VEVENT
BEGIN:VEVENT
DTSTART;TZID=Asia/Shanghai:20220805T140000
DTEND;TZID=Asia/Shanghai:20220805T160000
DTSTAMP:20260423T055027
CREATED:20220806T023114Z
LAST-MODIFIED:20220806T023556Z
UID:5507-1659708000-1659715200@www.chonghwakl.edu.my
SUMMARY:讨论室 1 - 蔡正发 老师
DESCRIPTION:申请单位：数学\n申请原因：辅导功课\n使用者：\n1 蔡正发 数学老师\n2 黄靖琁 200421 初三(仁)\n3 卢菀柔 201025 初三(孝)
URL:https://www.chonghwakl.edu.my/library/event/%e8%ae%a8%e8%ae%ba%e5%ae%a4-1-%e8%94%a1%e6%ad%a3%e5%8f%91-%e8%80%81%e5%b8%88/
LOCATION:讨论室 1
END:VEVENT
END:VCALENDAR