BEGIN:VCALENDAR
VERSION:2.0
PRODID:-//吉隆坡中华独立中学资源中心 - ECPv6.5.1.6//NONSGML v1.0//EN
CALSCALE:GREGORIAN
METHOD:PUBLISH
X-ORIGINAL-URL:https://www.chonghwakl.edu.my/library
X-WR-CALDESC:Events for 吉隆坡中华独立中学资源中心
REFRESH-INTERVAL;VALUE=DURATION:PT1H
X-Robots-Tag:noindex
X-PUBLISHED-TTL:PT1H
BEGIN:VTIMEZONE
TZID:Asia/Shanghai
BEGIN:STANDARD
TZOFFSETFROM:+0800
TZOFFSETTO:+0800
TZNAME:CST
DTSTART:20220101T000000
END:STANDARD
END:VTIMEZONE
BEGIN:VEVENT
DTSTART;TZID=Asia/Shanghai:20220601T073000
DTEND;TZID=Asia/Shanghai:20220602T153000
DTSTAMP:20260425T200414
CREATED:20220523T051223Z
LAST-MODIFIED:20220523T051323Z
UID:4895-1654068600-1654183800@www.chonghwakl.edu.my
SUMMARY:讨论室 1 - 教职研修处  陈芝嘉老师
DESCRIPTION:使用者：廖婌妤  研修处主任  (校外)。 \n申请原因：教专校外视察。
URL:https://www.chonghwakl.edu.my/library/event/%e8%ae%a8%e8%ae%ba%e5%ae%a4-1-%e6%95%99%e8%81%8c%e7%a0%94%e4%bf%ae%e5%a4%84-%e9%99%88%e8%8a%9d%e5%98%89%e8%80%81%e5%b8%88-2/
END:VEVENT
END:VCALENDAR